- Раздел: Животные
- Дата съёмки: 09.02.2009 16:31
- Дата загрузки фото: 09.02.2009 16:39
- Оригинальная фотография: 800 x 1200 (503 Кб)
- Технические характеристики:
- Фотоаппарат: Sony DSLR-A700
- Выдержка: 1/80
- Гиперфокальное расстояние: 62,40 m
- Диафрагма: 2,0
- Светочувствительность: 400
- Фокусное расстояние: 50,0 mm (35 mm equivalent: 75,0 mm)
- Экспокоррекция: +0,7
- Полный EXIF
- Adobe
- ColorTransform: YCbCr
- Composite
- Aperture: 2,0
- CircleOfConfusion: 0,020 mm
- FOV: 26,0 deg
- FocalLength35efl: 50,0 mm (35 mm equivalent: 75,0 mm)
- HyperfocalDistance: 62,40 m
- ScaleFactor35efl: 1,5
- ShutterSpeed: 1/80
- ExifIFD
- ApertureValue: 2,0
- BrightnessValue: -0,25
- ColorSpace: sRGB
- Contrast: High
- CreateDate: 2009:02:08 22:40:02
- CustomRendered: Normal
- DateTimeOriginal: 2009:02:08 22:40:02
- DigitalZoomRatio: 0
- ExifImageHeight: 1200
- ExifImageWidth: 800
- ExposureCompensation: +0,7
- ExposureMode: Auto
- ExposureProgram: Aperture-priority AE
- ExposureTime: 1/80
- FNumber: 2,0
- Flash: On
- FocalLength: 50,0 mm
- FocalLengthIn35mmFormat: 75 mm
- ISO: 400
- LightSource: Unknown
- MaxApertureValue: 1,4
- MeteringMode: Multi-segment
- Saturation: Normal
- SceneCaptureType: Standard
- SceneType: Directly photographed
- Sharpness: Hard
- ShutterSpeedValue: 1/80
- WhiteBalance: Auto
- ICC-header
- ICC-meas
- ICC-view
- IFD0
- ImageDescription: SONY DSC
- Make: SONY
- Model: DSLR-A700
- ModifyDate: 2009:02:09 16:31:36
- Orientation: Horizontal (normal)
- IFD1
- IPTC
- Caption-Abstract: SONY DSC
- XMP-crs
- AlreadyApplied: True
- BlueHue: 0
- BlueSaturation: 0
- Brightness: +50
- ChromaticAberrationB: 0
- ChromaticAberrationR: 0
- Clarity: 0
- ColorNoiseReduction: 49
- Contrast: +25
- ConvertToGrayscale: False
- CropAngle: -6.62394
- CropBottom: 0.85165
- CropHeight: 2441
- CropLeft: 0.041209
- CropRight: 0.958791
- CropTop: 0.14835
- CropUnit: 0
- CropWidth: 3662
- Defringe: 0
- Exposure: +0.10
- FillLight: 0
- GreenHue: 0
- GreenSaturation: 0
- HasCrop: True
- HasSettings: True
- HighlightRecovery: 0
- HueAdjustmentAqua: 0
- HueAdjustmentBlue: 0
- HueAdjustmentGreen: 0
- HueAdjustmentMagenta: 0
- HueAdjustmentOrange: 0
- HueAdjustmentPurple: 0
- HueAdjustmentRed: 0
- HueAdjustmentYellow: 0
- LuminanceAdjustmentAqua: 0
- LuminanceAdjustmentBlue: 0
- LuminanceAdjustmentGreen: 0
- LuminanceAdjustmentMagenta: 0
- LuminanceAdjustmentOrange: 0
- LuminanceAdjustmentPurple: 0
- LuminanceAdjustmentRed: 0
- LuminanceAdjustmentYellow: 0
- LuminanceSmoothing: 20
- ParametricDarks: -5
- ParametricHighlightSplit: 75
- ParametricHighlights: 0
- ParametricLights: +12
- ParametricMidtoneSplit: 50
- ParametricShadowSplit: 25
- ParametricShadows: 0
- PostCropVignetteAmount: 0
- RedHue: 0
- RedSaturation: 0
- Saturation: 0
- SaturationAdjustmentAqua: 0
- SaturationAdjustmentBlue: 0
- SaturationAdjustmentGreen: 0
- SaturationAdjustmentMagenta: 0
- SaturationAdjustmentOrange: 0
- SaturationAdjustmentPurple: 0
- SaturationAdjustmentRed: 0
- SaturationAdjustmentYellow: 0
- ShadowTint: 0
- Shadows: 5
- SharpenDetail: 57
- SharpenEdgeMasking: 0
- SharpenRadius: +1.3
- Sharpness: 61
- SplitToningBalance: 0
- SplitToningHighlightHue: 0
- SplitToningHighlightSaturation: 0
- SplitToningShadowHue: 0
- SplitToningShadowSaturation: 0
- Temperature: 5750
- Tint: -3
- ToneCurve: 0, 0, 32, 22, 64, 56, 128, 128, 192, 196, 255, 255
- ToneCurveName: Medium Contrast
- Version: 5.2
- Vibrance: 0
- VignetteAmount: 0
- WhiteBalance: As Shot
- XMP-dc
- Description: SONY DSC
- Format: image/jpeg
- XMP-exif
- DateTimeDigitized: 2009:02:08 22:40:02+03:00
- DateTimeOriginal: 2009:02:08 22:40:02+03:00
- FlashFired: True
- FlashFunction: False
- FlashMode: On
- FlashRedEyeMode: False
- FlashReturn: No return detection
- XMP-tiff
- ImageHeight: 3662
- ImageWidth: 2441
- XMP-xmp
- CreateDate: 2009:02:09 16:31:36+03:00
- ModifyDate: 2009:02:09 16:31:36+03:00
- XMP-xmpMM