- Раздел: Активный отдых, туризм
- Дата съёмки: 01.03.2009 18:59
- Дата загрузки фото: 02.03.2009 00:25
- Оригинальная фотография: 600 x 897 (473 Кб)
- Технические характеристики:
- Фотоаппарат: Canon EOS 40D
- Выдержка: 1/200
- Гиперфокальное расстояние: 57,30 m
- Диафрагма: 9,0
- Светочувствительность: 800
- Фокусное расстояние: 47,0 mm (35 mm equivalent: 329,7 mm)
- Экспокоррекция: -1
- Полный EXIF
- Adobe
- ColorTransform: YCbCr
- Composite
- Aperture: 9,0
- CircleOfConfusion: 0,004 mm
- FOV: 6,0 deg
- FocalLength35efl: 47,0 mm (35 mm equivalent: 329,7 mm)
- HyperfocalDistance: 57,30 m
- ScaleFactor35efl: 7,0
- ShutterSpeed: 1/200
- ExifIFD
- ApertureValue: 9,0
- ColorSpace: sRGB
- CreateDate: 2008:08:13 14:01:03
- CustomRendered: Normal
- DateTimeOriginal: 2008:08:13 14:01:03
- ExifImageHeight: 897
- ExifImageWidth: 600
- ExposureCompensation: -1
- ExposureMode: Auto
- ExposureProgram: Aperture-priority AE
- ExposureTime: 1/200
- FNumber: 9,0
- Flash: Off
- FocalLength: 47,0 mm
- ISO: 800
- MaxApertureValue: 5,4
- MeteringMode: Partial
- SceneCaptureType: Standard
- ShutterSpeedValue: 1/200
- WhiteBalance: Auto
- ICC-header
- ICC-meas
- ICC-view
- IFD0
- Make: Canon
- Model: Canon EOS 40D
- ModifyDate: 2009:03:02 00:25:18
- Orientation: Horizontal (normal)
- IFD1
- IPTC
- XMP-aux
- Firmware: 1.0.8
- FlashCompensation: 0
- ImageNumber: 0
- Lens: EF-S17-85mm f/4-5.6 IS USM
- LensInfo: 17/1 85/1 0/0 0/0
- SerialNumber: 530229549
- XMP-crs
- AlreadyApplied: True
- BlueHue: 0
- BlueSaturation: 0
- Brightness: +26
- CameraProfile: ACR 4.2
- ChromaticAberrationB: 0
- ChromaticAberrationR: 0
- Clarity: 30
- ColorNoiseReduction: 25
- Contrast: +39
- ConvertToGrayscale: False
- Defringe: 0
- Exposure: +0.55
- FillLight: 6
- GreenHue: 0
- GreenSaturation: 0
- HasCrop: False
- HasSettings: True
- HighlightRecovery: 45
- HueAdjustmentAqua: 0
- HueAdjustmentBlue: 0
- HueAdjustmentGreen: 0
- HueAdjustmentMagenta: 0
- HueAdjustmentOrange: 0
- HueAdjustmentPurple: 0
- HueAdjustmentRed: 0
- HueAdjustmentYellow: 0
- LuminanceAdjustmentAqua: 0
- LuminanceAdjustmentBlue: 0
- LuminanceAdjustmentGreen: 0
- LuminanceAdjustmentMagenta: 0
- LuminanceAdjustmentOrange: 0
- LuminanceAdjustmentPurple: 0
- LuminanceAdjustmentRed: 0
- LuminanceAdjustmentYellow: 0
- LuminanceSmoothing: 0
- ParametricDarks: 0
- ParametricHighlightSplit: 75
- ParametricHighlights: 0
- ParametricLights: 0
- ParametricMidtoneSplit: 50
- ParametricShadowSplit: 25
- ParametricShadows: 0
- RawFileName: IMG_9827.CR2
- RedHue: 0
- RedSaturation: 0
- Saturation: +10
- SaturationAdjustmentAqua: 0
- SaturationAdjustmentBlue: 0
- SaturationAdjustmentGreen: 0
- SaturationAdjustmentMagenta: 0
- SaturationAdjustmentOrange: 0
- SaturationAdjustmentPurple: 0
- SaturationAdjustmentRed: 0
- SaturationAdjustmentYellow: 0
- ShadowTint: 0
- Shadows: 5
- SharpenDetail: 95
- SharpenEdgeMasking: 11
- SharpenRadius: +1.0
- Sharpness: 96
- SplitToningBalance: 0
- SplitToningHighlightHue: 0
- SplitToningHighlightSaturation: 0
- SplitToningShadowHue: 0
- SplitToningShadowSaturation: 0
- Temperature: 5900
- Tint: +1
- ToneCurve: 0, 0, 32, 22, 64, 56, 128, 128, 192, 196, 255, 255
- ToneCurveName: Medium Contrast
- Version: 4.3
- Vibrance: 0
- VignetteAmount: 0
- WhiteBalance: As Shot
- XMP-dc
- XMP-exif
- DateTimeDigitized: 2008:08:13 14:01:03.00+04:00
- DateTimeOriginal: 2008:08:13 14:01:03.00+04:00
- FlashFired: False
- FlashFunction: False
- FlashMode: Off
- FlashRedEyeMode: False
- FlashReturn: No return detection
- XMP-tiff
- XMP-xmp
- CreateDate: 2009:03:01 18:59:55+03:00
- ModifyDate: 2009:03:02 00:25:18+03:00
- Rating: 0
- XMP-xmpMM
- Просмотров: 265
- Рейтинг: голосов еще нет
- Отзывов: 0