- Раздел: Портрет
- Дата съёмки: 11.02.2008 21:11
- Дата загрузки фото: 03.03.2009 02:18
- Оригинальная фотография: 4687 x 3116 (2,3 Мб)
- Технические характеристики:
- Фотоаппарат: Samsung GX20
- Выдержка: 1/30
- Светочувствительность: 400
- Фокусное расстояние: 50,0 mm (35 mm equivalent: 75,0 mm)
- Экспокоррекция: +3/2
- Полный EXIF
- Adobe
- ColorTransform: YCbCr
- Composite
- CircleOfConfusion: 0,020 mm
- FOV: 26,0 deg
- FocalLength35efl: 50,0 mm (35 mm equivalent: 75,0 mm)
- ScaleFactor35efl: 1,5
- ShutterSpeed: 1/30
- ExifIFD
- ColorSpace: Uncalibrated
- Contrast: Normal
- CreateDate: 2008:02:11 21:11:32
- CustomRendered: Normal
- DateTimeOriginal: 2008:02:11 21:11:32
- ExifImageHeight: 3116
- ExifImageWidth: 4687
- ExposureCompensation: +3/2
- ExposureMode: Manual
- ExposureProgram: Manual
- ExposureTime: 1/30
- Flash: Off
- FocalLength: 50,0 mm
- FocalLengthIn35mmFormat: 75 mm
- ISO: 400
- MeteringMode: Center-weighted average
- Saturation: Normal
- SceneCaptureType: Standard
- SensingMethod: One-chip color area
- Sharpness: Normal
- ShutterSpeedValue: 1/30
- SubjectDistanceRange: Distant
- WhiteBalance: Auto
- ICC-header
- IFD0
- Make: SAMSUNG TECHWIN Co.
- Model: SAMSUNG GX20
- ModifyDate: 2009:03:03 04:17:48
- Orientation: Horizontal (normal)
- IFD1
- IPTC
- XMP-aux
- Lens: K,M Lens
- LensID: 1 0
- XMP-crs
- AlreadyApplied: True
- BlueHue: 0
- BlueSaturation: 0
- Brightness: +50
- CameraProfile: ACR 4.4
- ChromaticAberrationB: 0
- ChromaticAberrationR: 0
- Clarity: +1
- ColorNoiseReduction: 25
- Contrast: +49
- ConvertToGrayscale: False
- Defringe: 0
- Exposure: +4.00
- FillLight: 0
- GreenHue: 0
- GreenSaturation: 0
- HasCrop: False
- HasSettings: True
- HighlightRecovery: 14
- HueAdjustmentAqua: 0
- HueAdjustmentBlue: 0
- HueAdjustmentGreen: 0
- HueAdjustmentMagenta: 0
- HueAdjustmentOrange: 0
- HueAdjustmentPurple: 0
- HueAdjustmentRed: 0
- HueAdjustmentYellow: 0
- LuminanceAdjustmentAqua: 0
- LuminanceAdjustmentBlue: 0
- LuminanceAdjustmentGreen: 0
- LuminanceAdjustmentMagenta: 0
- LuminanceAdjustmentOrange: 0
- LuminanceAdjustmentPurple: 0
- LuminanceAdjustmentRed: 0
- LuminanceAdjustmentYellow: 0
- LuminanceSmoothing: 0
- ParametricDarks: +12
- ParametricHighlightSplit: 90
- ParametricHighlights: -38
- ParametricLights: -8
- ParametricMidtoneSplit: 50
- ParametricShadowSplit: 25
- ParametricShadows: +8
- PostCropVignetteAmount: 0
- RawFileName: _G201509.DNG
- RedHue: 0
- RedSaturation: 0
- Saturation: 0
- SaturationAdjustmentAqua: 0
- SaturationAdjustmentBlue: 0
- SaturationAdjustmentGreen: 0
- SaturationAdjustmentMagenta: 0
- SaturationAdjustmentOrange: 0
- SaturationAdjustmentPurple: 0
- SaturationAdjustmentRed: 0
- SaturationAdjustmentYellow: 0
- ShadowTint: 0
- Shadows: 11
- SharpenDetail: 25
- SharpenEdgeMasking: 0
- SharpenRadius: +1.0
- Sharpness: 25
- SplitToningBalance: 0
- SplitToningHighlightHue: 0
- SplitToningHighlightSaturation: 0
- SplitToningShadowHue: 0
- SplitToningShadowSaturation: 0
- Temperature: 6300
- Tint: -12
- ToneCurve: 0, 0, 32, 22, 64, 56, 128, 128, 206, 206, 255, 255
- ToneCurveName: Custom
- Version: 5.0
- Vibrance: +3
- VignetteAmount: 0
- WhiteBalance: As Shot
- XMP-dc
- XMP-exif
- DateTimeDigitized: 2008:02:11 21:11:32+05:00
- DateTimeOriginal: 2008:02:11 21:11:32+05:00
- FlashFired: False
- FlashFunction: False
- FlashMode: Off
- FlashRedEyeMode: False
- FlashReturn: No return detection
- XMP-tiff
- ImageHeight: 3104
- ImageWidth: 4672
- XMP-xmp
- CreateDate: 2008:02:11 21:11:32+05:00
- CreatorTool: GX20 Ver 1.01
- ModifyDate: 2009:03:03 04:17:48+05:00
- XMP-xmpMM
- Просмотров: 307
- Рейтинг: голосов еще нет
- Отзывов: отключены