- Раздел: Город
- Дата съёмки: 04.04.2009 10:10
- Дата загрузки фото: 17.04.2009 21:50
- Оригинальная фотография: 1000 x 667 (667 Кб)
- Технические характеристики:
- Фотоаппарат: Canon EOS 40D
- Выдержка: 1/500
- Гиперфокальное расстояние: 16,99 m
- Диафрагма: 7,1
- Светочувствительность: 100
- Фокусное расстояние: 24,0 mm (35 mm equivalent: 151,0 mm)
- Полный EXIF
- Adobe
- ColorTransform: YCbCr
- Composite
- Aperture: 7,1
- CircleOfConfusion: 0,005 mm
- FOV: 13,0 deg
- FocalLength35efl: 24,0 mm (35 mm equivalent: 151,0 mm)
- HyperfocalDistance: 16,99 m
- ScaleFactor35efl: 6,3
- ShutterSpeed: 1/500
- ExifIFD
- ApertureValue: 7,1
- CreateDate: 2009:04:04 10:10:39
- CustomRendered: Normal
- DateTimeOriginal: 2009:04:04 10:10:39
- ExposureCompensation: 0
- ExposureMode: Auto
- ExposureProgram: Aperture-priority AE
- ExposureTime: 1/500
- FNumber: 7,1
- Flash: Off
- FocalLength: 24,0 mm
- ISO: 100
- MaxApertureValue: 4,0
- MeteringMode: Multi-segment
- SceneCaptureType: Standard
- ShutterSpeedValue: 1/500
- WhiteBalance: Auto
- ICC-header
- ICC-meas
- ICC-view
- IFD0
- Make: Canon
- Model: Canon EOS 40D
- ModifyDate: 2009:04:17 20:47:16
- IFD1
- XMP-aux
- Firmware: 1.1.1
- FlashCompensation: 0
- ImageNumber: 0
- Lens: EF-S17-85mm f/4-5.6 IS USM
- LensInfo: 17/1 85/1 0/0 0/0
- SerialNumber: 1030526517
- XMP-crs
- AlreadyApplied: True
- BlueHue: 0
- BlueSaturation: 0
- Brightness: +51
- ChromaticAberrationB: 0
- ChromaticAberrationR: 0
- Clarity: 0
- ColorNoiseReduction: 25
- Contrast: +51
- ConvertToGrayscale: False
- CropAngle: 0.056245
- CropBottom: 1
- CropHeight: 667
- CropLeft: 0.001062
- CropRight: 0.998938
- CropTop: 0
- CropUnit: 0
- CropWidth: 1000
- Defringe: 0
- Exposure: +0.29
- FillLight: 0
- GreenHue: 0
- GreenSaturation: 0
- HasCrop: True
- HasSettings: True
- HighlightRecovery: 3
- HueAdjustmentAqua: 0
- HueAdjustmentBlue: 0
- HueAdjustmentGreen: 0
- HueAdjustmentMagenta: 0
- HueAdjustmentOrange: 0
- HueAdjustmentPurple: 0
- HueAdjustmentRed: 0
- HueAdjustmentYellow: 0
- LuminanceAdjustmentAqua: 0
- LuminanceAdjustmentBlue: 0
- LuminanceAdjustmentGreen: 0
- LuminanceAdjustmentMagenta: 0
- LuminanceAdjustmentOrange: 0
- LuminanceAdjustmentPurple: 0
- LuminanceAdjustmentRed: 0
- LuminanceAdjustmentYellow: 0
- LuminanceSmoothing: 0
- ParametricDarks: 0
- ParametricHighlightSplit: 75
- ParametricHighlights: 0
- ParametricLights: 0
- ParametricMidtoneSplit: 50
- ParametricShadowSplit: 25
- ParametricShadows: 0
- PostCropVignetteAmount: 0
- RedHue: 0
- RedSaturation: 0
- Saturation: 0
- SaturationAdjustmentAqua: 0
- SaturationAdjustmentBlue: 0
- SaturationAdjustmentGreen: 0
- SaturationAdjustmentMagenta: 0
- SaturationAdjustmentOrange: 0
- SaturationAdjustmentPurple: 0
- SaturationAdjustmentRed: 0
- SaturationAdjustmentYellow: 0
- ShadowTint: 0
- Shadows: 11
- SharpenDetail: 25
- SharpenEdgeMasking: 0
- SharpenRadius: +1.0
- Sharpness: 25
- SplitToningBalance: 0
- SplitToningHighlightHue: 0
- SplitToningHighlightSaturation: 0
- SplitToningShadowHue: 0
- SplitToningShadowSaturation: 0
- Temperature: 4700
- Tint: -2
- ToneCurve: 0, 0, 32, 22, 64, 56, 128, 128, 192, 196, 255, 255
- ToneCurveName: Medium Contrast
- Version: 5.3
- Vibrance: 0
- VignetteAmount: 0
- WhiteBalance: As Shot
- XMP-exif
- DateTimeDigitized: 2009:04:04 10:10:39.00+03:00
- DateTimeOriginal: 2009:04:04 10:10:39.00+03:00
- ExifImageHeight: 667
- ExifImageWidth: 1000
- FlashFired: False
- FlashFunction: False
- FlashMode: Off
- FlashRedEyeMode: False
- FlashReturn: No return detection
- XMP-tiff
- ImageHeight: 667
- ImageWidth: 1000
- XMP-xmp
- CreateDate: 2009:04:04 10:10:39.00+03:00
- ModifyDate: 2009:04:17 20:47:16+03:00
- Просмотров: 281
- Рейтинг: голосов еще нет
- Отзывов: 0