- Раздел: Путешествия
- Дата съёмки: 05.07.2009 05:01
- Дата загрузки фото: 11.08.2009 22:26
- Оригинальная фотография: 3749 x 2499 (8,8 Мб)
- Технические характеристики:
- Фотоаппарат: Sony DSLR-A100
- Выдержка: 1/250
- Гиперфокальное расстояние: 3,02 m
- Диафрагма: 8,0
- Светочувствительность: 100
- Фокусное расстояние: 22,0 mm (35 mm equivalent: 33,0 mm)
- Полный EXIF
- Adobe
- ColorTransform: YCbCr
- Composite
- Aperture: 8,0
- CircleOfConfusion: 0,020 mm
- FOV: 57,0 deg
- FocalLength35efl: 22,0 mm (35 mm equivalent: 33,0 mm)
- HyperfocalDistance: 3,02 m
- ScaleFactor35efl: 1,5
- ShutterSpeed: 1/250
- ExifIFD
- ApertureValue: 8,0
- BrightnessValue: 8,25
- ColorSpace: Uncalibrated
- Contrast: Normal
- CreateDate: 2009:07:05 05:01:22
- CustomRendered: Normal
- DateTimeOriginal: 2009:07:05 05:01:22
- DigitalZoomRatio: 0
- ExifImageHeight: 2499
- ExifImageWidth: 3749
- ExposureCompensation: 0
- ExposureMode: Manual
- ExposureProgram: Manual
- ExposureTime: 1/250
- FNumber: 8,0
- Flash: Off
- FocalLength: 22,0 mm
- FocalLengthIn35mmFormat: 33 mm
- GainControl: None
- ISO: 100
- LightSource: Unknown
- MaxApertureValue: 2,8
- MeteringMode: Center-weighted average
- Saturation: Normal
- SceneCaptureType: Standard
- SceneType: Directly photographed
- Sharpness: Normal
- ShutterSpeedValue: 1/250
- SubjectLocation: 1936 1296 3872 2592
- WhiteBalance: Auto
- IFD0
- ImageDescription: SONY DSC
- Make: SONY
- Model: DSLR-A100
- ModifyDate: 2009:08:11 22:26:15
- Orientation: Horizontal (normal)
- IFD1
- IPTC
- Caption-Abstract: SONY DSC
- XMP-crs
- AlreadyApplied: True
- BlueHue: 0
- BlueSaturation: 0
- Brightness: +50
- CameraProfile: ACR 4.4
- ChromaticAberrationB: +12
- ChromaticAberrationR: -26
- Clarity: +5
- ColorNoiseReduction: 3
- Contrast: +25
- ConvertToGrayscale: False
- Defringe: 1
- Exposure: +0.66
- FillLight: 5
- GreenHue: 0
- GreenSaturation: 0
- HasCrop: False
- HasSettings: True
- HighlightRecovery: 5
- HueAdjustmentAqua: 0
- HueAdjustmentBlue: -3
- HueAdjustmentGreen: 0
- HueAdjustmentMagenta: 0
- HueAdjustmentOrange: 0
- HueAdjustmentPurple: 0
- HueAdjustmentRed: 0
- HueAdjustmentYellow: 0
- LuminanceAdjustmentAqua: 0
- LuminanceAdjustmentBlue: -25
- LuminanceAdjustmentGreen: 0
- LuminanceAdjustmentMagenta: 0
- LuminanceAdjustmentOrange: 0
- LuminanceAdjustmentPurple: 0
- LuminanceAdjustmentRed: 0
- LuminanceAdjustmentYellow: 0
- LuminanceSmoothing: 0
- ParametricDarks: 0
- ParametricHighlightSplit: 75
- ParametricHighlights: 0
- ParametricLights: 0
- ParametricMidtoneSplit: 50
- ParametricShadowSplit: 25
- ParametricShadows: 0
- PostCropVignetteAmount: 0
- RawFileName: DSC00932.ARW
- RedHue: 0
- RedSaturation: 0
- Saturation: 0
- SaturationAdjustmentAqua: 0
- SaturationAdjustmentBlue: +25
- SaturationAdjustmentGreen: 0
- SaturationAdjustmentMagenta: 0
- SaturationAdjustmentOrange: 0
- SaturationAdjustmentPurple: 0
- SaturationAdjustmentRed: 0
- SaturationAdjustmentYellow: 0
- ShadowTint: 0
- Shadows: 5
- SharpenDetail: 25
- SharpenEdgeMasking: 0
- SharpenRadius: +0.7
- Sharpness: 25
- SplitToningBalance: 0
- SplitToningHighlightHue: 0
- SplitToningHighlightSaturation: 0
- SplitToningShadowHue: 0
- SplitToningShadowSaturation: 0
- Temperature: 5250
- Tint: +10
- ToneCurve: 0, 0, 32, 22, 64, 56, 128, 128, 192, 196, 255, 255
- ToneCurveName: Medium Contrast
- Version: 5.4
- Vibrance: +15
- VignetteAmount: 0
- WhiteBalance: Custom
- XMP-dc
- Description: SONY DSC
- Format: image/jpeg
- XMP-exif
- DateTimeDigitized: 2009:07:05 05:01:22+04:00
- DateTimeOriginal: 2009:07:05 05:01:22+04:00
- FlashFired: False
- FlashFunction: False
- FlashMode: Off
- FlashRedEyeMode: False
- FlashReturn: No return detection
- SubjectArea: 1936, 1296, 3872, 2592
- XMP-tiff
- BitsPerSample: 16, 16, 16
- ImageHeight: 2592
- ImageWidth: 3872
- PhotometricInterpretation: RGB
- PlanarConfiguration: Chunky
- SamplesPerPixel: 3
- XMP-xmp
- CreateDate: 2009:07:05 05:01:22+04:00
- CreatorTool: DSLR-A100 v1.04
- ModifyDate: 2009:08:11 22:26:15+04:00
- Rating: 0
- XMP-xmpMM
- Просмотров: 468
- Рейтинг: голосов еще нет
- Отзывов: 0