- Раздел: Хобби
- Дата съёмки: 14.08.2009 23:20
- Дата загрузки фото: 14.08.2009 23:24
- Оригинальная фотография: 1850 x 1051 (1,2 Мб)
- Технические характеристики:
- Фотоаппарат: Canon EOS 40D
- Выдержка: 1/25
- Гиперфокальное расстояние: 1,67 m
- Диафрагма: 7,1
- Светочувствительность: 800
- Фокусное расстояние: 10,0 mm (35 mm equivalent: 35,5 mm)
- Полный EXIF
- Adobe
- ColorTransform: YCbCr
- Composite
- Aperture: 7,1
- CircleOfConfusion: 0,008 mm
- FOV: 53,0 deg
- FocalLength35efl: 10,0 mm (35 mm equivalent: 35,5 mm)
- HyperfocalDistance: 1,67 m
- ScaleFactor35efl: 3,6
- ShutterSpeed: 1/25
- ExifIFD
- ApertureValue: 7,1
- ColorSpace: sRGB
- CreateDate: 2009:08:14 22:52:39
- CustomRendered: Normal
- DateTimeOriginal: 2009:08:14 22:52:39
- ExifImageHeight: 1051
- ExifImageWidth: 1850
- ExposureCompensation: 0
- ExposureMode: Manual
- ExposureProgram: Manual
- ExposureTime: 1/25
- FNumber: 7,1
- Flash: Off
- FocalLength: 10,0 mm
- ISO: 800
- MaxApertureValue: 4,0
- MeteringMode: Multi-segment
- SceneCaptureType: Standard
- ShutterSpeedValue: 1/25
- WhiteBalance: Auto
- ICC-header
- ICC-meas
- ICC-view
- IFD0
- Make: Canon
- Model: Canon EOS 40D
- ModifyDate: 2009:08:14 23:20:37
- Orientation: Horizontal (normal)
- IFD1
- IPTC
- XMP-aux
- Firmware: 1.1.1
- FlashCompensation: 0
- ImageNumber: 0
- Lens: 10-20mm
- LensInfo: 10/1 20/1 0/0 0/0
- SerialNumber: 530229549
- XMP-crs
- AlreadyApplied: True
- BlueHue: 0
- BlueSaturation: 0
- Brightness: +50
- CameraProfile: ACR 4.2
- ChromaticAberrationB: 0
- ChromaticAberrationR: 0
- Clarity: 5
- ColorNoiseReduction: 25
- Contrast: +32
- ConvertToGrayscale: False
- CropAngle: -0.902639
- CropBottom: 0.90905
- CropLeft: 0.010842
- CropRight: 0.994546
- CropTop: 0.118704
- Defringe: 0
- Exposure: 0.00
- FillLight: 18
- GreenHue: 0
- GreenSaturation: 0
- HasCrop: True
- HasSettings: True
- HighlightRecovery: 40
- HueAdjustmentAqua: 0
- HueAdjustmentBlue: 0
- HueAdjustmentGreen: 0
- HueAdjustmentMagenta: 0
- HueAdjustmentOrange: 0
- HueAdjustmentPurple: 0
- HueAdjustmentRed: 0
- HueAdjustmentYellow: 0
- LuminanceAdjustmentAqua: 0
- LuminanceAdjustmentBlue: 0
- LuminanceAdjustmentGreen: 0
- LuminanceAdjustmentMagenta: 0
- LuminanceAdjustmentOrange: 0
- LuminanceAdjustmentPurple: 0
- LuminanceAdjustmentRed: 0
- LuminanceAdjustmentYellow: 0
- LuminanceSmoothing: 0
- ParametricDarks: 0
- ParametricHighlightSplit: 75
- ParametricHighlights: 0
- ParametricLights: 0
- ParametricMidtoneSplit: 50
- ParametricShadowSplit: 25
- ParametricShadows: 0
- RawFileName: IMG_8195.CR2
- RedHue: 0
- RedSaturation: 0
- Saturation: +10
- SaturationAdjustmentAqua: 0
- SaturationAdjustmentBlue: 0
- SaturationAdjustmentGreen: 0
- SaturationAdjustmentMagenta: 0
- SaturationAdjustmentOrange: 0
- SaturationAdjustmentPurple: 0
- SaturationAdjustmentRed: 0
- SaturationAdjustmentYellow: 0
- ShadowTint: 0
- Shadows: 5
- SharpenDetail: 76
- SharpenEdgeMasking: 0
- SharpenRadius: +1.0
- Sharpness: 92
- SplitToningBalance: 0
- SplitToningHighlightHue: 0
- SplitToningHighlightSaturation: 0
- SplitToningShadowHue: 0
- SplitToningShadowSaturation: 0
- Temperature: 3700
- Tint: +63
- ToneCurve: 0, 0, 32, 22, 64, 56, 128, 128, 192, 196, 255, 255
- ToneCurveName: Medium Contrast
- Version: 4.3
- Vibrance: 0
- VignetteAmount: 0
- WhiteBalance: Custom
- XMP-dc
- XMP-exif
- DateTimeDigitized: 2009:08:14 22:52:39.00+04:00
- DateTimeOriginal: 2009:08:14 22:52:39.00+04:00
- FlashFired: False
- FlashFunction: False
- FlashMode: Off
- FlashRedEyeMode: False
- FlashReturn: No return detection
- XMP-tiff
- XMP-xmp
- CreateDate: 2009:08:14 23:20:37+04:00
- ModifyDate: 2009:08:14 23:20:37+04:00
- Rating: 0
- XMP-xmpMM
- DerivedFrom:
- Просмотров: 832
- Рейтинг: голосов еще нет
- Отзывов: 0