- Раздел: Другое, разное
- Дата съёмки: 22.11.2008 15:09
- Дата загрузки фото: 09.09.2009 20:22
- Оригинальная фотография: 600 x 900 (157 Кб)
- Технические характеристики:
- Фотоаппарат: Canon EOS 30D
- Выдержка: 1/160
- Гиперфокальное расстояние: 64,85 m
- Диафрагма: 8,0
- Фокусное расстояние: 50,0 mm (35 mm equivalent: 311,8 mm)
- Полный EXIF
- Adobe
- ColorTransform: YCbCr
- Composite
- Aperture: 8,0
- CircleOfConfusion: 0,005 mm
- FOV: 6,0 deg
- FocalLength35efl: 50,0 mm (35 mm equivalent: 311,8 mm)
- HyperfocalDistance: 64,85 m
- ScaleFactor35efl: 6,2
- ShutterSpeed: 1/160
- ExifIFD
- ApertureValue: 8,0
- ColorSpace: Uncalibrated
- CreateDate: 2008:11:22 09:09:00
- CustomRendered: Normal
- DateTimeOriginal: 2008:11:22 09:09:00
- ExifImageHeight: 900
- ExifImageWidth: 600
- ExposureCompensation: 0
- ExposureMode: Manual
- ExposureProgram: Manual
- ExposureTime: 1/160
- FNumber: 8,0
- Flash: Off
- FocalLength: 50,0 mm
- MaxApertureValue: 1,8
- MeteringMode: Multi-segment
- SceneCaptureType: Standard
- ShutterSpeedValue: 1/160
- WhiteBalance: Manual
- IFD0
- Artist: Alexander Zhiltsov
- Copyright: Alexander Zhiltsov
- ImageDescription: sad girl play on violin in dark room
- Make: Canon
- Model: Canon EOS 30D
- ModifyDate: 2008:12:12 20:18:50
- Orientation: Horizontal (normal)
- IFD1
- IPTC
- By-line: Alexander Zhiltsov
- By-lineTitle: Photographer
- Caption-Abstract: sad girl play on violin in dark room
- CopyrightNotice: Alexander Zhiltsov
- Keywords: creation, string, orchestra, violin, instrument, classical, music, women, musical, celtic, violinist, style, chord, musician, viola, culture, playing, melody, finger, night, glamour, old, black, wood, elegance, art, retro, old-fashioned, antique
- ObjectName: musician
- XMP-aux
- Firmware: 1.0.6
- FlashCompensation: 0
- ImageNumber: 112
- Lens: EF50mm f/1.8
- LensInfo: 50/1 50/1 0/0 0/0
- OwnerName: Alexander Zhiltsov
- SerialNumber: 730519271
- XMP-crs
- AlreadyApplied: True
- BlueHue: 0
- BlueSaturation: 0
- Brightness: +50
- CameraProfile: ACR 4.4
- ChromaticAberrationB: 0
- ChromaticAberrationR: 0
- Clarity: 0
- ColorNoiseReduction: 25
- Contrast: +25
- ConvertToGrayscale: False
- Defringe: 0
- Exposure: -0.38
- FillLight: 13
- GreenHue: 0
- GreenSaturation: 0
- HasCrop: False
- HasSettings: True
- HighlightRecovery: 0
- HueAdjustmentAqua: 0
- HueAdjustmentBlue: 0
- HueAdjustmentGreen: 0
- HueAdjustmentMagenta: 0
- HueAdjustmentOrange: 0
- HueAdjustmentPurple: 0
- HueAdjustmentRed: 0
- HueAdjustmentYellow: 0
- LuminanceAdjustmentAqua: 0
- LuminanceAdjustmentBlue: 0
- LuminanceAdjustmentGreen: 0
- LuminanceAdjustmentMagenta: 0
- LuminanceAdjustmentOrange: 0
- LuminanceAdjustmentPurple: 0
- LuminanceAdjustmentRed: 0
- LuminanceAdjustmentYellow: 0
- LuminanceSmoothing: 0
- ParametricDarks: 0
- ParametricHighlightSplit: 75
- ParametricHighlights: 0
- ParametricLights: 0
- ParametricMidtoneSplit: 50
- ParametricShadowSplit: 25
- ParametricShadows: 0
- PostCropVignetteAmount: 0
- RedHue: 0
- RedSaturation: 0
- Saturation: -17
- SaturationAdjustmentAqua: 0
- SaturationAdjustmentBlue: 0
- SaturationAdjustmentGreen: 0
- SaturationAdjustmentMagenta: 0
- SaturationAdjustmentOrange: 0
- SaturationAdjustmentPurple: 0
- SaturationAdjustmentRed: 0
- SaturationAdjustmentYellow: 0
- ShadowTint: 0
- Shadows: 8
- SharpenDetail: 25
- SharpenEdgeMasking: 0
- SharpenRadius: +1.0
- Sharpness: 25
- SplitToningBalance: 0
- SplitToningHighlightHue: 0
- SplitToningHighlightSaturation: 0
- SplitToningShadowHue: 0
- SplitToningShadowSaturation: 0
- Temperature: 5929
- Tint: -7
- ToneCurve: 0, 0, 32, 22, 64, 56, 128, 128, 192, 196, 255, 255
- ToneCurveName: Medium Contrast
- Version: 4.6
- Vibrance: -50
- VignetteAmount: 0
- WhiteBalance: Custom
- XMP-dc
- Creator: Alexander Zhiltsov
- Description: sad girl play on violin in dark room
- Format: image/jpeg
- Rights: Alexander Zhiltsov
- Subject: creation, string, orchestra, violin, instrument, classical, music, women, musical, celtic, violinist, style, chord, musician, viola, culture, playing, melody, finger, night, glamour, old, black, wood, elegance, art, retro, old-fashioned, antique
- Title: musician
- XMP-exif
- DateTimeDigitized: 2008:11:22 09:09:00+06:00
- DateTimeOriginal: 2008:11:22 09:09:00+06:00
- FlashFired: False
- FlashFunction: False
- FlashMode: Off
- FlashRedEyeMode: False
- FlashReturn: No return detection
- XMP-iptcCore
- CreatorContactInfoCiAdrCity: Novosibirsk
- CreatorContactInfoCiAdrCtry: Russia
- CreatorContactInfoCiEmailWork: azhiltsov@gmail.com
- CreatorContactInfoCiTelWork: 89139422642
- XMP-tiff
- XMP-xmp
- CreateDate: 2008:11:22 15:09:53+06:00
- ModifyDate: 2008:12:12 20:18:50+06:00
- XMP-xmpMM
- XMP-xmpRights