- Раздел: Друзья, встречи
- Дата съёмки: 16.09.2009 15:12
- Дата загрузки фото: 23.09.2009 12:00
- Оригинальная фотография: 2743 x 2166 (1,8 Мб)
- Технические характеристики:
- Фотоаппарат: Nikon D200
- Выдержка: 2,5
- Гиперфокальное расстояние: 1,01 m
- Диафрагма: 14,0
- Светочувствительность: 100
- Фокусное расстояние: 17,0 mm (35 mm equivalent: 25,0 mm)
- Полный EXIF
- Composite
- Aperture: 14,0
- CircleOfConfusion: 0,020 mm
- FOV: 71,0 deg
- FocalLength35efl: 17,0 mm (35 mm equivalent: 25,0 mm)
- HyperfocalDistance: 1,01 m
- LightValue: 6,6
- ScaleFactor35efl: 1,5
- ShutterSpeed: 2,5
- ExifIFD
- ApertureValue: 14,0
- CFAPattern: [Green,Red][Blue,Green]
- ColorSpace: Uncalibrated
- Contrast: Normal
- CreateDate: 2009:09:13 06:03:11
- CustomRendered: Normal
- DateTimeOriginal: 2009:09:13 06:03:11
- DigitalZoomRatio: 1
- ExifImageHeight: 2166
- ExifImageWidth: 2743
- ExposureCompensation: 0
- ExposureMode: Auto
- ExposureProgram: Aperture-priority AE
- ExposureTime: 2,5
- FNumber: 14,0
- Flash: No Flash
- FocalLength: 17,0 mm
- FocalLengthIn35mmFormat: 25 mm
- GainControl: None
- ISO: 100
- LightSource: Unknown
- MaxApertureValue: 2,8
- MeteringMode: Multi-segment
- Saturation: Normal
- SceneCaptureType: Standard
- SceneType: Directly photographed
- SensingMethod: One-chip color area
- Sharpness: Hard
- ShutterSpeedValue: 2,5
- SubjectDistanceRange: Unknown
- WhiteBalance: Auto
- ICC-header
- IFD0
- Make: NIKON CORPORATION
- Model: NIKON D200
- ModifyDate: 2009:09:16 15:20:13
- Orientation: Horizontal (normal)
- Software: ACD Systems Digital Imaging
- IFD1
- XMP-aux
- ImageNumber: 706
- Lens: 17.0-35.0 mm f/2.8
- LensInfo: 170/10 350/10 28/10 28/10
- XMP-crs
- AlreadyApplied: True
- BlueHue: 0
- BlueSaturation: +2
- Brightness: +6
- CameraProfile: ACR 4.4
- ChromaticAberrationB: 0
- ChromaticAberrationR: 0
- Clarity: +93
- ColorNoiseReduction: 0
- Contrast: +29
- ConvertToGrayscale: False
- CropAngle: 0
- CropBottom: 1
- CropLeft: 0
- CropRight: 1
- CropTop: 0
- Defringe: 0
- Exposure: +0.05
- FillLight: 48
- GreenHue: -69
- GreenSaturation: -26
- HasCrop: True
- HasSettings: True
- HighlightRecovery: 79
- HueAdjustmentAqua: 0
- HueAdjustmentBlue: 0
- HueAdjustmentGreen: 0
- HueAdjustmentMagenta: 0
- HueAdjustmentOrange: 0
- HueAdjustmentPurple: 0
- HueAdjustmentRed: 0
- HueAdjustmentYellow: 0
- LuminanceAdjustmentAqua: +3
- LuminanceAdjustmentBlue: +100
- LuminanceAdjustmentGreen: +56
- LuminanceAdjustmentMagenta: +2
- LuminanceAdjustmentOrange: +2
- LuminanceAdjustmentPurple: +2
- LuminanceAdjustmentRed: -3
- LuminanceAdjustmentYellow: +100
- LuminanceSmoothing: 0
- ParametricDarks: 0
- ParametricHighlightSplit: 75
- ParametricHighlights: 0
- ParametricLights: 0
- ParametricMidtoneSplit: 50
- ParametricShadowSplit: 25
- ParametricShadows: 0
- PostCropVignetteAmount: 0
- RawFileName: DSC_0189.NEF
- RedHue: -9
- RedSaturation: -6
- Saturation: -19
- SaturationAdjustmentAqua: 0
- SaturationAdjustmentBlue: 0
- SaturationAdjustmentGreen: 0
- SaturationAdjustmentMagenta: 0
- SaturationAdjustmentOrange: 0
- SaturationAdjustmentPurple: 0
- SaturationAdjustmentRed: 0
- SaturationAdjustmentYellow: 0
- ShadowTint: +28
- Shadows: 24
- SharpenDetail: 36
- SharpenEdgeMasking: 35
- SharpenRadius: +0.6
- Sharpness: 62
- SplitToningBalance: +6
- SplitToningHighlightHue: 104
- SplitToningHighlightSaturation: 6
- SplitToningShadowHue: 0
- SplitToningShadowSaturation: 0
- Temperature: 7200
- Tint: -2
- ToneCurve: 0, 0, 32, 22, 64, 56, 128, 128, 192, 196, 255, 255
- ToneCurveName: Medium Contrast
- Version: 4.6
- Vibrance: +83
- VignetteAmount: 0
- WhiteBalance: Custom
- XMP-dc
- XMP-exif
- ColorSpace: Unknown (-1)
- DateTimeDigitized: 2009:09:13 06:03:11.24+04:00
- DateTimeOriginal: 2009:09:13 06:03:11.24+04:00
- ExifImageHeight: 2172
- ExifImageWidth: 2977
- FlashFired: False
- FlashFunction: False
- FlashMode: Unknown
- FlashRedEyeMode: False
- FlashReturn: No return detection
- XMP-tiff
- XMP-xmp
- CreateDate: 2009:09:16 15:12:04+04:00
- ModifyDate: 2009:09:16 15:12:04+04:00
- Rating: 0
- XMP-xmpMM
- Просмотров: 353
- Рейтинг: голосов еще нет
- Отзывов: 0