- Раздел: Другое, разное
- Дата съёмки: 13.12.2009 23:52
- Дата загрузки фото: 17.01.2010 02:03
- Оригинальная фотография: 1824 x 2919 (1,8 Мб)
- Технические характеристики:
- Фотоаппарат: Nikon D40
- Выдержка: 1/25
- Гиперфокальное расстояние: 18,93 m
- Диафрагма: 5,3
- Светочувствительность: 400
- Фокусное расстояние: 45,0 mm (35 mm equivalent: 67,0 mm)
- Полный EXIF
- Adobe
- ColorTransform: YCbCr
- Composite
- Aperture: 5,3
- CircleOfConfusion: 0,020 mm
- FOV: 30,0 deg
- FocalLength35efl: 45,0 mm (35 mm equivalent: 67,0 mm)
- HyperfocalDistance: 18,93 m
- ScaleFactor35efl: 1,5
- ShutterSpeed: 1/25
- ExifIFD
- ApertureValue: 5,3
- CFAPattern: [Blue,Green][Green,Red]
- CreateDate: 2009:12:13 23:52:12
- DateTimeOriginal: 2009:12:13 23:52:12
- ExposureCompensation: 0
- ExposureProgram: Manual
- ExposureTime: 1/25
- FNumber: 5,3
- Flash: Auto, Fired, Red-eye reduction, Return not detected
- FocalLength: 45,0 mm
- ISO: 400
- LightSource: Unknown
- MaxApertureValue: 5,3
- MeteringMode: Multi-segment
- SceneType: Directly photographed
- SensingMethod: One-chip color area
- ShutterSpeedValue: 1/25
- ICC-header
- ICC-meas
- ICC-view
- IFD0
- Contrast: Normal
- CustomRendered: Normal
- DigitalZoomRatio: 1
- ExposureMode: Manual
- FocalLengthIn35mmFormat: 67 mm
- GainControl: Low gain up
- Make: NIKON CORPORATION
- Model: NIKON D40
- ModifyDate: 2010:01:15 13:49:55
- Saturation: Normal
- SceneCaptureType: Standard
- Sharpness: Normal
- Software: Nikon Transfer 1.0 W
- SubjectDistanceRange: Unknown
- WhiteBalance: Auto
- IFD1
- XMP-aux
- ImageNumber: 8316
- Lens: 18.0-55.0 mm f/3.5-5.6
- LensInfo: 18/1 55/1 35/10 56/10
- SerialNumber: 2359933
- XMP-crs
- AlreadyApplied: True
- BlueHue: +11
- BlueSaturation: -70
- Brightness: +43
- CameraProfile: Camera Portrait
- ChromaticAberrationB: 0
- ChromaticAberrationR: 0
- Clarity: 0
- ColorNoiseReduction: 25
- Contrast: +100
- ConvertToGrayscale: False
- CropAngle: 2.92146
- CropBottom: 1
- CropHeight: 1824
- CropLeft: 0.03091
- CropRight: 0.96909
- CropTop: 0.014675
- CropUnit: 0
- CropWidth: 2919
- Defringe: 0
- Exposure: +2.04
- FillLight: 49
- GreenHue: +11
- GreenSaturation: +25
- HasCrop: True
- HasSettings: True
- HighlightRecovery: 44
- HueAdjustmentAqua: 0
- HueAdjustmentBlue: 0
- HueAdjustmentGreen: 0
- HueAdjustmentMagenta: 0
- HueAdjustmentOrange: 0
- HueAdjustmentPurple: 0
- HueAdjustmentRed: 0
- HueAdjustmentYellow: 0
- LuminanceAdjustmentAqua: 0
- LuminanceAdjustmentBlue: 0
- LuminanceAdjustmentGreen: 0
- LuminanceAdjustmentMagenta: 0
- LuminanceAdjustmentOrange: 0
- LuminanceAdjustmentPurple: 0
- LuminanceAdjustmentRed: 0
- LuminanceAdjustmentYellow: 0
- LuminanceSmoothing: 58
- ParametricDarks: -3
- ParametricHighlightSplit: 75
- ParametricHighlights: 0
- ParametricLights: 0
- ParametricMidtoneSplit: 50
- ParametricShadowSplit: 25
- ParametricShadows: -14
- PostCropVignetteAmount: 0
- RedHue: +96
- RedSaturation: +3
- Saturation: -73
- SaturationAdjustmentAqua: 0
- SaturationAdjustmentBlue: 0
- SaturationAdjustmentGreen: 0
- SaturationAdjustmentMagenta: 0
- SaturationAdjustmentOrange: 0
- SaturationAdjustmentPurple: 0
- SaturationAdjustmentRed: 0
- SaturationAdjustmentYellow: 0
- ShadowTint: +8
- Shadows: 76
- SharpenDetail: 25
- SharpenEdgeMasking: 0
- SharpenRadius: +1.0
- Sharpness: 77
- SplitToningBalance: 0
- SplitToningHighlightHue: 0
- SplitToningHighlightSaturation: 0
- SplitToningShadowHue: 0
- SplitToningShadowSaturation: 0
- Temperature: 12500
- Tint: +35
- ToneCurve: 0, 0, 32, 16, 64, 50, 128, 128, 192, 202, 255, 255
- ToneCurveName: Strong Contrast
- Version: 5.4
- Vibrance: 0
- VignetteAmount: -61
- VignetteMidpoint: 34
- WhiteBalance: Custom
- XMP-exif
- DateTimeDigitized: 2009:12:13 23:52:12.80+02:00
- DateTimeOriginal: 2009:12:13 23:52:12.80+02:00
- ExifImageHeight: 1824
- ExifImageWidth: 2919
- FlashFired: True
- FlashFunction: False
- FlashMode: Auto
- FlashRedEyeMode: True
- FlashReturn: Return not detected
- XMP-microsoft
- XMP-tiff
- ImageHeight: 1824
- ImageWidth: 2919
- XMP-xmp
- CreateDate: 2009:12:13 23:52:12.80+02:00
- ModifyDate: 2010:01:15 13:49:55+02:00
- Просмотров: 386
- Рейтинг: голосов еще нет
- Отзывов: 0