- Раздел: Портрет
- Дата съёмки: 23.01.2010 23:16
- Дата загрузки фото: 25.01.2010 19:19
- Оригинальная фотография: 993 x 560 (401 Кб)
- Технические характеристики:
- Фотоаппарат: Nikon D40
- Выдержка: 1/60
- Гиперфокальное расстояние: 20,54 m
- Диафрагма: 5,6
- Светочувствительность: 400
- Фокусное расстояние: 48,0 mm (35 mm equivalent: 72,0 mm)
- Полный EXIF
- Adobe
- ColorTransform: YCbCr
- Composite
- Aperture: 5,6
- CircleOfConfusion: 0,020 mm
- FOV: 28,0 deg
- FocalLength35efl: 48,0 mm (35 mm equivalent: 72,0 mm)
- HyperfocalDistance: 20,54 m
- ScaleFactor35efl: 1,5
- ShutterSpeed: 1/60
- ExifIFD
- ApertureValue: 5,6
- CFAPattern: [Blue,Green][Green,Red]
- Contrast: Normal
- CreateDate: 2010:01:23 23:16:46
- CustomRendered: Normal
- DateTimeOriginal: 2010:01:23 23:16:46
- DigitalZoomRatio: 1
- ExposureCompensation: 0
- ExposureMode: Auto
- ExposureProgram: Not Defined
- ExposureTime: 1/60
- FNumber: 5,6
- Flash: Auto, Fired, Return not detected
- FocalLength: 48,0 mm
- FocalLengthIn35mmFormat: 72 mm
- GainControl: Low gain up
- ISO: 400
- LightSource: Unknown
- MaxApertureValue: 5,5
- MeteringMode: Multi-segment
- Saturation: Normal
- SceneCaptureType: Standard
- SceneType: Directly photographed
- SensingMethod: One-chip color area
- Sharpness: Normal
- ShutterSpeedValue: 1/60
- SubjectDistanceRange: Unknown
- WhiteBalance: Auto
- ICC-header
- ICC-meas
- ICC-view
- IFD0
- Make: NIKON CORPORATION
- Model: NIKON D40
- ModifyDate: 2010:01:25 16:31:25
- Software: Nikon Transfer 1.0 W
- IFD1
- XMP-aux
- ImageNumber: 11136
- Lens: 18.0-55.0 mm f/3.5-5.6
- LensInfo: 18/1 55/1 35/10 56/10
- SerialNumber: 2359933
- XMP-crs
- AlreadyApplied: True
- BlueHue: -60
- BlueSaturation: +3
- Brightness: +17
- CameraProfile: Embedded
- ChromaticAberrationB: 0
- ChromaticAberrationR: 0
- Clarity: +87
- ColorNoiseReduction: 25
- Contrast: +93
- ConvertToGrayscale: False
- CropAngle: 0
- CropBottom: 0.815603
- CropHeight: 560
- CropLeft: 0.283019
- CropRight: 0.943397
- CropTop: 0.25532
- CropUnit: 0
- CropWidth: 993
- Defringe: 0
- Exposure: +0.60
- FillLight: 16
- GreenHue: +100
- GreenSaturation: +100
- HasCrop: True
- HasSettings: True
- HighlightRecovery: 0
- HueAdjustmentAqua: 0
- HueAdjustmentBlue: 0
- HueAdjustmentGreen: 0
- HueAdjustmentMagenta: 0
- HueAdjustmentOrange: 0
- HueAdjustmentPurple: 0
- HueAdjustmentRed: 0
- HueAdjustmentYellow: 0
- IncrementalTemperature: -29
- IncrementalTint: -65
- LuminanceAdjustmentAqua: 0
- LuminanceAdjustmentBlue: 0
- LuminanceAdjustmentGreen: 0
- LuminanceAdjustmentMagenta: 0
- LuminanceAdjustmentOrange: 0
- LuminanceAdjustmentPurple: 0
- LuminanceAdjustmentRed: 0
- LuminanceAdjustmentYellow: 0
- LuminanceSmoothing: 31
- ParametricDarks: -3
- ParametricHighlightSplit: 75
- ParametricHighlights: 0
- ParametricLights: 0
- ParametricMidtoneSplit: 50
- ParametricShadowSplit: 25
- ParametricShadows: -14
- PostCropVignetteAmount: 0
- RedHue: +100
- RedSaturation: -100
- Saturation: -73
- SaturationAdjustmentAqua: 0
- SaturationAdjustmentBlue: +38
- SaturationAdjustmentGreen: 0
- SaturationAdjustmentMagenta: 0
- SaturationAdjustmentOrange: 0
- SaturationAdjustmentPurple: +42
- SaturationAdjustmentRed: 0
- SaturationAdjustmentYellow: 0
- ShadowTint: -4
- Shadows: 11
- SharpenDetail: 25
- SharpenEdgeMasking: 0
- SharpenRadius: +1.0
- Sharpness: 25
- SplitToningBalance: 0
- SplitToningHighlightHue: 0
- SplitToningHighlightSaturation: 0
- SplitToningShadowHue: 0
- SplitToningShadowSaturation: 0
- ToneCurve: 0, 0, 255, 255
- ToneCurveName: Linear
- Version: 5.4
- Vibrance: +38
- VignetteAmount: 0
- WhiteBalance: Custom
- XMP-exif
- DateTimeDigitized: 2010:01:23 23:16:46.00+02:00
- DateTimeOriginal: 2010:01:23 23:16:46.00+02:00
- ExifImageHeight: 560
- ExifImageWidth: 993
- ExposureProgram: Unknown (0)
- FlashFired: True
- FlashFunction: False
- FlashMode: Auto
- FlashRedEyeMode: False
- FlashReturn: Return not detected
- XMP-microsoft
- XMP-tiff
- ImageHeight: 560
- ImageWidth: 993
- XMP-xmp
- CreateDate: 2010:01:23 23:16:46.00+02:00
- ModifyDate: 2010:01:25 16:31:25+02:00