- Раздел: Другое, разное
- Дата съёмки: 05.12.2009 18:28
- Дата загрузки фото: 29.01.2010 17:59
- Оригинальная фотография: 900 x 716 (619 Кб)
- Технические характеристики:
- Фотоаппарат: Canon EOS 5D
- Выдержка: 1/100
- Гиперфокальное расстояние: 495,51 m
- Диафрагма: 5,6
- Фокусное расстояние: 135,0 mm (35 mm equivalent: 617,6 mm)
- Полный EXIF
- Adobe
- ColorTransform: YCbCr
- Composite
- Aperture: 5,6
- CircleOfConfusion: 0,007 mm
- FOV: 3,0 deg
- FocalLength35efl: 135,0 mm (35 mm equivalent: 617,6 mm)
- HyperfocalDistance: 495,51 m
- ScaleFactor35efl: 4,6
- ShutterSpeed: 1/100
- ExifIFD
- ApertureValue: 5,6
- ColorSpace: sRGB
- CreateDate: 2009:12:05 12:28:00
- CustomRendered: Normal
- DateTimeOriginal: 2009:12:05 12:28:00
- ExifImageHeight: 716
- ExifImageWidth: 900
- ExposureCompensation: 0
- ExposureMode: Manual
- ExposureProgram: Manual
- ExposureTime: 1/100
- FNumber: 5,6
- Flash: Off
- FocalLength: 135,0 mm
- MaxApertureValue: 2,8
- MeteringMode: Multi-segment
- SceneCaptureType: Standard
- ShutterSpeedValue: 1/100
- WhiteBalance: Auto
- ICC-header
- ICC-meas
- ICC-view
- IFD0
- Artist: Alexander Zhiltsov
- Copyright: Alexander Zhiltsov
- ImageDescription: beauty girl face close up, bite chain
- Make: Canon
- Model: Canon EOS 5D
- ModifyDate: 2010:01:29 20:58:44
- Orientation: Horizontal (normal)
- IFD1
- IPTC
- By-line: Alexander Zhiltsov
- By-lineTitle: Photographer
- Caption-Abstract: beauty girl face close up, bite chain
- CopyrightNotice: Alexander Zhiltsov
- Keywords: female, human, women, chain, beauty, bite, sensuality, adult, face, young, girls, beautiful, fashion, person, teenage, passion, teenagers, glamour, model, attractive, only, people, hair, caucasian, cute, woman, skin, close-up, elegance, messy, lips, head
- ObjectName: sensuality
- XMP-aux
- Firmware: 1.1.1
- FlashCompensation: 0
- ImageNumber: 3
- Lens: EF70-200mm f/2.8L USM
- LensInfo: 70/1 200/1 0/0 0/0
- OwnerName: Alexander Zhiltsov
- SerialNumber: 3131305379
- XMP-crs
- AlreadyApplied: True
- BlueHue: 0
- BlueSaturation: 0
- Brightness: +50
- CameraProfile: ACR 4.4
- ChromaticAberrationB: 0
- ChromaticAberrationR: 0
- Clarity: -12
- ColorNoiseReduction: 25
- Contrast: +29
- ConvertToGrayscale: False
- CropAngle: 0
- CropBottom: 0.9119
- CropHeight: 2480
- CropLeft: 0.167869
- CropRight: 0.788878
- CropTop: 0.060278
- CropUnit: 0
- CropWidth: 2713
- Defringe: 0
- Exposure: +0.29
- FillLight: 1
- GreenHue: 0
- GreenSaturation: 0
- HasCrop: True
- HasSettings: True
- HighlightRecovery: 0
- HueAdjustmentAqua: 0
- HueAdjustmentBlue: 0
- HueAdjustmentGreen: 0
- HueAdjustmentMagenta: 0
- HueAdjustmentOrange: 0
- HueAdjustmentPurple: 0
- HueAdjustmentRed: 0
- HueAdjustmentYellow: 0
- LuminanceAdjustmentAqua: 0
- LuminanceAdjustmentBlue: 0
- LuminanceAdjustmentGreen: 0
- LuminanceAdjustmentMagenta: 0
- LuminanceAdjustmentOrange: 0
- LuminanceAdjustmentPurple: 0
- LuminanceAdjustmentRed: 0
- LuminanceAdjustmentYellow: 0
- LuminanceSmoothing: 0
- ParametricDarks: 0
- ParametricHighlightSplit: 75
- ParametricHighlights: 0
- ParametricLights: 0
- ParametricMidtoneSplit: 50
- ParametricShadowSplit: 25
- ParametricShadows: 0
- PostCropVignetteAmount: 0
- RedHue: 0
- RedSaturation: 0
- Saturation: +7
- SaturationAdjustmentAqua: 0
- SaturationAdjustmentBlue: 0
- SaturationAdjustmentGreen: 0
- SaturationAdjustmentMagenta: 0
- SaturationAdjustmentOrange: 0
- SaturationAdjustmentPurple: 0
- SaturationAdjustmentRed: +21
- SaturationAdjustmentYellow: 0
- ShadowTint: 0
- Shadows: 8
- SharpenDetail: 25
- SharpenEdgeMasking: 0
- SharpenRadius: +1.0
- Sharpness: 25
- SplitToningBalance: 0
- SplitToningHighlightHue: 0
- SplitToningHighlightSaturation: 0
- SplitToningShadowHue: 0
- SplitToningShadowSaturation: 0
- Temperature: 5333
- Tint: 0
- ToneCurve: 0, 0, 32, 22, 64, 56, 128, 128, 192, 196, 255, 255
- ToneCurveName: Medium Contrast
- Version: 4.6
- Vibrance: +5
- VignetteAmount: 0
- WhiteBalance: Custom
- XMP-dc
- Creator: Alexander Zhiltsov
- Description: beauty girl face close up, bite chain
- Format: image/jpeg
- Rights: Alexander Zhiltsov
- Subject: female, human, women, chain, beauty, bite, sensuality, adult, face, young, girls, beautiful, fashion, person, teenage, passion, teenagers, glamour, model, attractive, only, people, hair, caucasian, cute, woman, skin, close-up, elegance, messy, lips, head
- Title: sensuality
- XMP-exif
- DateTimeDigitized: 2009:12:05 12:28:00+06:00
- DateTimeOriginal: 2009:12:05 12:28:00+06:00
- FlashFired: False
- FlashFunction: False
- FlashMode: Off
- FlashRedEyeMode: False
- FlashReturn: No return detection
- XMP-iptcCore
- CreatorContactInfoCiAdrCity: Novosibirsk
- CreatorContactInfoCiAdrCtry: Russia
- CreatorContactInfoCiEmailWork: azhiltsov@gmail.com
- CreatorContactInfoCiTelWork: 89139422642
- XMP-tiff
- XMP-xmp
- CreateDate: 2009:12:05 18:28:32+06:00
- ModifyDate: 2010:01:29 20:58:44+06:00
- XMP-xmpMM
- XMP-xmpRights