- Раздел: Другое, разное
- Дата съёмки: 30.01.2010 20:09
- Дата загрузки фото: 01.02.2010 02:21
- Оригинальная фотография: 1306 x 816 (363 Кб)
- Технические характеристики:
- Фотоаппарат: Nikon D40
- Выдержка: 1/60
- Гиперфокальное расстояние: 15,02 m
- Диафрагма: 4,8
- Светочувствительность: 250
- Фокусное расстояние: 38,0 mm (35 mm equivalent: 57,0 mm)
- Полный EXIF
- Adobe
- ColorTransform: YCbCr
- Composite
- Aperture: 4,8
- CircleOfConfusion: 0,020 mm
- FOV: 35,0 deg
- FocalLength35efl: 38,0 mm (35 mm equivalent: 57,0 mm)
- HyperfocalDistance: 15,02 m
- ScaleFactor35efl: 1,5
- ShutterSpeed: 1/60
- ExifIFD
- ApertureValue: 4,8
- CFAPattern: [Blue,Green][Green,Red]
- Contrast: Low
- CreateDate: 2010:01:30 20:09:22
- CustomRendered: Normal
- DateTimeOriginal: 2010:01:30 20:09:22
- DigitalZoomRatio: 1
- ExposureCompensation: 0
- ExposureMode: Auto
- ExposureProgram: Not Defined
- ExposureTime: 1/60
- FNumber: 4,8
- Flash: Auto, Fired, Return not detected
- FocalLength: 38,0 mm
- FocalLengthIn35mmFormat: 57 mm
- GainControl: None
- ISO: 250
- LightSource: Unknown
- MaxApertureValue: 4,8
- MeteringMode: Multi-segment
- Saturation: Normal
- SceneCaptureType: Standard
- SceneType: Directly photographed
- SensingMethod: One-chip color area
- Sharpness: Normal
- ShutterSpeedValue: 1/60
- SubjectDistanceRange: Unknown
- WhiteBalance: Auto
- ICC-header
- ICC-meas
- ICC-view
- IFD0
- Make: NIKON CORPORATION
- Model: NIKON D40
- ModifyDate: 2010:02:01 01:02:22
- Software: Nikon Transfer 1.0 W
- IFD1
- XMP-aux
- ImageNumber: 11936
- Lens: 18.0-55.0 mm f/3.5-5.6
- LensInfo: 18/1 55/1 35/10 56/10
- SerialNumber: 2359933
- XMP-crs
- AlreadyApplied: True
- BlueHue: 0
- BlueSaturation: +63
- Brightness: +90
- ChromaticAberrationB: 0
- ChromaticAberrationR: 0
- Clarity: +51
- ColorNoiseReduction: 25
- Contrast: +83
- ConvertToGrayscale: True
- CropAngle: -5.85675
- CropBottom: 0.669872
- CropHeight: 816
- CropLeft: 0.255387
- CropRight: 0.714941
- CropTop: 0.330545
- CropUnit: 0
- CropWidth: 1306
- Defringe: 0
- Exposure: +0.27
- FillLight: 0
- GrayMixerAqua: -24
- GrayMixerBlue: -2
- GrayMixerGreen: -19
- GrayMixerMagenta: +15
- GrayMixerOrange: -1
- GrayMixerPurple: +14
- GrayMixerRed: +11
- GrayMixerYellow: -7
- GreenHue: 0
- GreenSaturation: 0
- HasCrop: True
- HasSettings: True
- HighlightRecovery: 0
- LuminanceSmoothing: 36
- PaintBasedCorrectionsCorrectionActive: true
- PaintBasedCorrectionsCorrectionAmount: 1.000000
- PaintBasedCorrectionsCorrectionMasksCenterWeight: 0.390203
- PaintBasedCorrectionsCorrectionMasksFlow: 1.000000
- PaintBasedCorrectionsCorrectionMasksMaskValue: 0.142000
- PaintBasedCorrectionsCorrectionMasksRadius: 0.039438
- PaintBasedCorrectionsCorrectionMasksWhat: Mask/Paint
- PaintBasedCorrectionsLocalBrightness: -0.865000
- PaintBasedCorrectionsLocalClarity: 0.034000
- PaintBasedCorrectionsLocalContrast: 0.000000
- PaintBasedCorrectionsLocalExposure: -0.730000
- PaintBasedCorrectionsLocalSaturation: 0.000000
- PaintBasedCorrectionsLocalSharpness: 0.000000
- PaintBasedCorrectionsLocalToningHue: 112.000000
- PaintBasedCorrectionsLocalToningSaturation: 0.000000
- PaintBasedCorrectionsWhat: Correction
- ParametricDarks: -2
- ParametricHighlightSplit: 75
- ParametricHighlights: -2
- ParametricLights: +7
- ParametricMidtoneSplit: 50
- ParametricShadowSplit: 25
- ParametricShadows: +7
- PostCropVignetteAmount: 0
- RedHue: 0
- RedSaturation: -34
- ShadowTint: 0
- Shadows: 20
- SharpenDetail: 25
- SharpenEdgeMasking: 0
- SharpenRadius: +1.0
- Sharpness: 57
- SplitToningBalance: 0
- SplitToningHighlightHue: 43
- SplitToningHighlightSaturation: 75
- SplitToningShadowHue: 30
- SplitToningShadowSaturation: 28
- Temperature: 6800
- Tint: +63
- ToneCurve: 0, 0, 255, 255
- ToneCurveName: Linear
- Version: 5.4
- VignetteAmount: -41
- VignetteMidpoint: 48
- WhiteBalance: Custom
- XMP-exif
- DateTimeDigitized: 2010:01:30 20:09:22.50+02:00
- DateTimeOriginal: 2010:01:30 20:09:22.50+02:00
- ExifImageHeight: 816
- ExifImageWidth: 1306
- ExposureProgram: Unknown (0)
- FlashFired: True
- FlashFunction: False
- FlashMode: Auto
- FlashRedEyeMode: False
- FlashReturn: Return not detected
- XMP-microsoft
- XMP-tiff
- ImageHeight: 816
- ImageWidth: 1306
- XMP-xmp
- CreateDate: 2010:01:30 20:09:22.50+02:00
- ModifyDate: 2010:02:01 01:02:22+02:00