- Раздел: Другое, разное
- Дата съёмки: 11.08.2010 19:14
- Дата загрузки фото: 12.08.2010 03:15
- Оригинальная фотография: 2874 x 1817 (1,3 Мб)
- Технические характеристики:
- Фотоаппарат: Nikon D40
- Выдержка: 1/100
- Гиперфокальное расстояние: inf m
- Диафрагма: 5,0
- Светочувствительность: 400
- Фокусное расстояние: 38,0 mm (35 mm equivalent: 38,0 mm)
- Полный EXIF
- Adobe
- ColorTransform: YCbCr
- Composite
- Aperture: 5,0
- CircleOfConfusion: 0,020 mm
- FOV: 50,0 deg
- FocalLength35efl: 38,0 mm (35 mm equivalent: 38,0 mm)
- HyperfocalDistance: inf m
- ScaleFactor35efl: 1,5
- ShutterSpeed: 1/100
- ExifIFD
- ApertureValue: 5,0
- CFAPattern: [Blue,Green][Green,Red]
- Contrast: Normal
- CreateDate: 2010:08:11 19:14:18
- CustomRendered: Normal
- DateTimeOriginal: 2010:08:11 19:14:18
- DigitalZoomRatio: 1
- ExposureCompensation: 0
- ExposureMode: Auto
- ExposureProgram: Not Defined
- ExposureTime: 1/100
- FNumber: 5,0
- Flash: Off, Did not fire
- FocalLength: 38,0 mm
- FocalLengthIn35mmFormat: 57 mm
- GainControl: Low gain up
- ISO: 400
- LightSource: Unknown
- MaxApertureValue: 4,8
- MeteringMode: Multi-segment
- Saturation: Normal
- SceneCaptureType: Standard
- SceneType: Directly photographed
- SensingMethod: One-chip color area
- Sharpness: Normal
- ShutterSpeedValue: 1/100
- SubjectDistanceRange: Unknown
- WhiteBalance: Auto
- ICC-header
- ICC-meas
- ICC-view
- IFD0
- Make: NIKON CORPORATION
- Model: NIKON D40
- ModifyDate: 2010:08:12 00:23:14
- Software: Ver.1.11
- IFD1
- System
- XMP-aux
- ImageNumber: 19514
- Lens: 18.0-55.0 mm f/3.5-5.6
- LensInfo: 180/10 550/10 35/10 56/10
- SerialNumber: 2359933
- XMP-crs
- AlreadyApplied: True
- BlueHue: 0
- BlueSaturation: +63
- Brightness: +106
- ChromaticAberrationB: 0
- ChromaticAberrationR: 0
- Clarity: +14
- ColorNoiseReduction: 25
- Contrast: +71
- ConvertToGrayscale: True
- CropAngle: -3.46191
- CropBottom: 0.906776
- CropHeight: 1817
- CropLeft: 0.009067
- CropRight: 0.999433
- CropTop: 0.08679
- CropUnit: pixels
- CropWidth: 2874
- Defringe: 0
- Exposure: +0.67
- FillLight: 0
- GrayMixerAqua: -20
- GrayMixerBlue: +13
- GrayMixerGreen: -29
- GrayMixerMagenta: +10
- GrayMixerOrange: -20
- GrayMixerPurple: +23
- GrayMixerRed: -8
- GrayMixerYellow: -25
- GreenHue: 0
- GreenSaturation: 0
- HasCrop: True
- HasSettings: True
- HighlightRecovery: 0
- LuminanceSmoothing: 74
- ParametricDarks: +5
- ParametricHighlightSplit: 75
- ParametricHighlights: -2
- ParametricLights: -7
- ParametricMidtoneSplit: 50
- ParametricShadowSplit: 25
- ParametricShadows: +2
- PostCropVignetteAmount: 0
- RedHue: 0
- RedSaturation: -34
- ShadowTint: 0
- Shadows: 4
- SharpenDetail: 25
- SharpenEdgeMasking: 0
- SharpenRadius: +1.0
- Sharpness: 25
- SplitToningBalance: 0
- SplitToningHighlightHue: 264
- SplitToningHighlightSaturation: 36
- SplitToningShadowHue: 5
- SplitToningShadowSaturation: 7
- Temperature: 6800
- Tint: +63
- ToneCurve: 0, 0, 32, 22, 64, 56, 128, 128, 192, 196, 255, 255
- ToneCurveName: Medium Contrast
- Version: 5.4
- VignetteAmount: -41
- VignetteMidpoint: 48
- WhiteBalance: Custom
- XMP-exif
- DateTimeDigitized: 2010:08:11 19:14:18.70+03:00
- DateTimeOriginal: 2010:08:11 19:14:18.70+03:00
- ExifImageHeight: 1817
- ExifImageWidth: 2874
- ExposureProgram: Unknown (0)
- FlashFired: False
- FlashFunction: False
- FlashMode: Off
- FlashRedEyeMode: False
- FlashReturn: No return detection
- XMP-tiff
- ImageHeight: 1817
- ImageWidth: 2874
- XMP-xmp
- CreateDate: 2010:08:11 19:14:18.70+03:00
- Label: Red
- ModifyDate: 2010:08:12 00:23:14+03:00