- Раздел: Семья, личное
- Дата съёмки: 08.02.2011 21:53
- Дата загрузки фото: 09.02.2011 21:33
- Оригинальная фотография: 4195 x 2797 (1,9 Мб)
- Технические характеристики:
- Фотоаппарат: Canon EOS 450D
- Выдержка: 1/6
- Гиперфокальное расстояние: inf m
- Диафрагма: 1,8
- Светочувствительность: 200
- Фокусное расстояние: 50,0 mm (35 mm equivalent: 50,0 mm)
- Полный EXIF
- Canon
- AEBBracketValue: 0
- AFAreaHeights: 0 0 0 0 0 0 0 0 0
- AFAreaMode: Off (Manual Focus)
- AFAreaWidths: 0 0 0 0 0 0 0 0 0
- AFAreaXPositions: 0 0 0 0 0 0 0 0 0
- AFAreaYPositions: 0 0 0 0 0 0 0 0 0
- AFImageHeight: 2848
- AFImageWidth: 4272
- AFPointsInFocus: (none)
- AFPointsSelected: (none)
- AutoExposureBracketing: Off
- AutoISO: 100
- BaseISO: 200
- BlackMaskBottomBorder: 0
- BlackMaskLeftBorder: 0
- BlackMaskRightBorder: 0
- BlackMaskTopBorder: 0
- BracketMode: Off
- BracketShotNumber: 0
- BracketValue: 0
- BulbDuration: 0
- CameraOrientation: Horizontal (normal)
- CameraTemperature: 33 C
- CameraType: EOS High-end
- CanonExposureMode: Manual
- CanonFirmwareVersion: Firmware Version 1.1.0
- CanonFlashMode: Off
- CanonImageHeight: 1504
- CanonImageType: Canon EOS 450D
- CanonImageWidth: 2256
- CanonModelID: EOS Digital Rebel XSi / 450D / Kiss X2
- ColorDataVersion: 5 (450D/1000D)
- ColorTempAsShot: 3597
- ColorTempAuto: 3597
- ColorTempCloudy: 6000
- ColorTempDaylight: 5200
- ColorTempFlash: 6285
- ColorTempFluorescent: 3776
- ColorTempKelvin: 5189
- ColorTempMeasured: 2400
- ColorTempShade: 7000
- ColorTempTungsten: 3200
- ColorTemperature: 5200
- ColorTone: Normal
- ContinuousDrive: Single
- Contrast: Normal
- ControlMode: Camera Local Control
- DigitalZoom: None
- EasyMode: Manual
- ExposureCompensation: 0
- ExposureTime: 1/6
- FNumber: 1,8
- FileIndex: 3581
- FirmwareVersion: 1.1.0
- FlashActivity: 0
- FlashBits: (none)
- FlashExposureComp: 0
- FlashGuideNumber: 0
- FlashMeteringMode: Off
- FocalLength: 50 mm
- FocalUnits: 1/mm
- FocusDistanceLower: 0 m
- FocusDistanceUpper: 0 m
- FocusMode: Manual Focus (3)
- FocusRange: Not Known
- ISO: 200
- InternalSerialNumber: K0940257
- LensModel: EF50mm f/1.8 II
- LensType: Canon EF 50mm f/1.8 MkII
- LiveViewShooting: On
- LongExposureNoiseReduction2: Off
- LongFocal: 50 mm
- MacroMode: Normal
- ManualFlashOutput: n/a
- MaxAperture: 1,8
- MeasuredEV: 2,62
- MeasuredEV2: 1,25
- MeasuredRGGB: 1065 1024 1024 494
- MeteringMode: Evaluative
- MinAperture: 23
- NDFilter: Unknown (-1)
- NumAFPoints: 9
- OpticalZoomCode: n/a
- OriginalDecisionDataOffset: 0
- OwnerName:
- Quality: Fine
- RawJpgSize: Large
- RawMeasuredRGGB: 1868 1773 1870 854
- RecordMode: CR2
- SRAWQuality: n/a
- Saturation: Normal
- SelfTimer: 2 s
- SensorBottomBorder: 2870
- SensorHeight: 2876
- SensorLeftBorder: 32
- SensorRightBorder: 4303
- SensorTopBorder: 23
- SensorWidth: 4312
- SequenceNumber: 0
- SerialNumber: 0780286093
- SerialNumberFormat: Format 2
- ShortFocal: 50 mm
- SlowShutter: None
- TargetAperture: 1,8
- TargetExposureTime: 1/6
- VRDOffset: 0
- ValidAFPoints: 0
- WBBracketMode: Off
- WBBracketValueAB: 0
- WBBracketValueGM: 0
- WB_RGGBLevelsAsShot: 2040 1222 1222 2319
- WB_RGGBLevelsAuto: 2040 1222 1222 2319
- WB_RGGBLevelsCloudy: 2389 1024 1024 1376
- WB_RGGBLevelsDaylight: 2217 1024 1024 1504
- WB_RGGBLevelsFlash: 2456 1024 1024 1350
- WB_RGGBLevelsFluorescent: 1928 1024 1024 2016
- WB_RGGBLevelsKelvin: 2217 1024 1024 1504
- WB_RGGBLevelsMeasured: 1260 1224 1216 3866
- WB_RGGBLevelsShade: 2564 1024 1024 1273
- WB_RGGBLevelsTungsten: 1669 1093 1093 2347
- WhiteBalance: Auto
- ZoomSourceWidth: 0
- ZoomTargetWidth: 0
- CanonCustom
- AFAssistBeam: Emits
- AFDuringLiveView: Live mode
- AddOriginalDecisionData: Off
- AutoLightingOptimizer: Enable
- ExposureLevelIncrements: 1/3 Stop
- FlashSyncSpeedAv: Auto
- HighISONoiseReduction: Off
- HighlightTonePriority: Disable
- LCDDisplayAtPowerOn: Display
- LongExposureNoiseReduction: Off
- MirrorLockup: Disable
- SetButtonWhenShooting: Normal (disabled)
- ShutterButtonAFOnButton: Metering + AF start
- Composite
- Aperture: 1,8
- BlueBalance: 1,897709
- CircleOfConfusion: 0,018 mm
- DriveMode: Self-timer Operation
- FOV: 39,0 deg
- FileNumber: 100-3581
- FocalLength35efl: 50,0 mm (35 mm equivalent: 50,0 mm)
- HyperfocalDistance: inf m
- Lens: 50,0 mm
- Lens35efl: 50,0 mm (35 mm equivalent: 82,2 mm)
- LensID: Canon EF 50mm f/1.8 MkII
- RedBalance: 1,669394
- ScaleFactor35efl: 1,6
- ShootingMode: Manual
- ShutterSpeed: 1/6
- WB_RGGBLevels: 2040 1222 1222 2319
- ExifIFD
- ApertureValue: 1,8
- ColorSpace: Uncalibrated
- CreateDate: 2011:02:08 21:53:51
- CustomRendered: Normal
- DateTimeOriginal: 2011:02:08 21:53:51
- ExifImageHeight: 2797
- ExifImageWidth: 4195
- ExposureMode: Manual
- ExposureProgram: Manual
- Flash: Off, Did not fire
- FocalLength: 50,0 mm
- MeteringMode: Spot
- SceneCaptureType: Standard
- ShutterSpeedValue: 1/6
- UserComment:
- ICC-header
- IFD0
- Make: Canon
- Model: Canon EOS 450D
- ModifyDate: 2011:02:08 21:53:51
- Orientation: Horizontal (normal)
- Software: DXO Optics Pro v6
- IFD1
- System
- XMP-aux
- Firmware: 1.1.0
- FlashCompensation: 0
- ImageNumber: 0
- Lens: EF50mm f/1.8 II
- LensID: 29
- LensInfo: 50mm f/?
- SerialNumber: 780286093
- XMP-crs
- AlreadyApplied: False
- BlueHue: 0
- BlueSaturation: 0
- Brightness: +30
- CameraProfile: Embedded
- ChromaticAberrationB: 0
- ChromaticAberrationR: 0
- Clarity: 0
- ColorNoiseReduction: 25
- ColorNoiseReductionDetail: 50
- Contrast: +25
- ConvertToGrayscale: False
- Defringe: 0
- Exposure: 0.00
- FillLight: 0
- GrainAmount: 0
- GreenHue: 0
- GreenSaturation: 0
- HasCrop: False
- HasSettings: True
- HighlightRecovery: 0
- HueAdjustmentAqua: 0
- HueAdjustmentBlue: 0
- HueAdjustmentGreen: 0
- HueAdjustmentMagenta: 0
- HueAdjustmentOrange: 0
- HueAdjustmentPurple: 0
- HueAdjustmentRed: 0
- HueAdjustmentYellow: 0
- IncrementalTemperature: 0
- IncrementalTint: 0
- LuminanceAdjustmentAqua: 0
- LuminanceAdjustmentBlue: 0
- LuminanceAdjustmentGreen: 0
- LuminanceAdjustmentMagenta: 0
- LuminanceAdjustmentOrange: 0
- LuminanceAdjustmentPurple: 0
- LuminanceAdjustmentRed: 0
- LuminanceAdjustmentYellow: 0
- LuminanceSmoothing: 0
- ParametricDarks: 0
- ParametricHighlightSplit: 75
- ParametricHighlights: 0
- ParametricLights: 0
- ParametricMidtoneSplit: 50
- ParametricShadowSplit: 25
- ParametricShadows: 0
- PostCropVignetteAmount: 0
- ProcessVersion: 5.7
- RawFileName: _MG_3581_DxO.jpg
- RedHue: 0
- RedSaturation: 0
- Saturation: -3
- SaturationAdjustmentAqua: 0
- SaturationAdjustmentBlue: 0
- SaturationAdjustmentGreen: 0
- SaturationAdjustmentMagenta: 0
- SaturationAdjustmentOrange: 0
- SaturationAdjustmentPurple: 0
- SaturationAdjustmentRed: 0
- SaturationAdjustmentYellow: 0
- ShadowTint: 0
- Shadows: 0
- SharpenDetail: 25
- SharpenEdgeMasking: 0
- SharpenRadius: +1.0
- Sharpness: 25
- SplitToningBalance: 0
- SplitToningHighlightHue: 0
- SplitToningHighlightSaturation: 0
- SplitToningShadowHue: 0
- SplitToningShadowSaturation: 0
- ToneCurve: 0, 0, 32, 22, 64, 56, 128, 128, 192, 196, 255, 255
- ToneCurveName: Medium Contrast
- Version: 6.0
- Vibrance: -40
- VignetteAmount: 0
- WhiteBalance: Custom
- XMP-exif
- DateTimeDigitized: 2011:02:08 21:53:51.88+02:00
- DateTimeOriginal: 2011:02:08 21:53:51.88+02:00
- FlashFired: False
- FlashFunction: False
- FlashMode: Off
- FlashRedEyeMode: False
- FlashReturn: No return detection
- MaxApertureValue: 1,8
- XMP-tiff
- XMP-xmp
- CreateDate: 2011:02:08 21:53:51.88+02:00
- CreatorTool: DXO Optics Pro v6
- ModifyDate: 2011:02:08 21:53:51.88+02:00
- Rating: 0
- Просмотров: 498
- Рейтинг: голосов еще нет
- Отзывов: 0