» Участники » Rusbat » Актерское портфолио » Фильм "Дорогой мой человек", роль: Гнётов, сотрудник НКВД |
Фильм "Дорогой мой человек", роль: Гнётов, сотрудник НКВД |
Фильм "Дорогой мой человек", роль: Гнётов, сотрудник НКВД
- Раздел: Я, любимый(ая)
- Дата съёмки: 08.03.2010 19:18
- Дата загрузки фото: 04.05.2011 22:16
- Оригинальная фотография: 2328 x 3432 (2,9 Мб)
- Технические характеристики:
- Фотоаппарат: Pentax K10D
- Выдержка: 1/100
- Гиперфокальное расстояние: inf m
- Диафрагма: 4,5
- Светочувствительность: 1600
- Фокусное расстояние: 35,0 mm (35 mm equivalent: 35,0 mm)
- Полный EXIF
- Adobe
- ColorTransform: YCbCr
- Composite
- Aperture: 4,5
- CircleOfConfusion: 0,020 mm
- FOV: 54,0 deg
- FocalLength35efl: 35,0 mm (35 mm equivalent: 35,0 mm)
- HyperfocalDistance: inf m
- ScaleFactor35efl: 1,5
- ShutterSpeed: 1/100
- ExifIFD
- ApertureValue: 4,5
- ColorSpace: Uncalibrated
- Contrast: Normal
- CreateDate: 2010:03:08 19:18:52
- CustomRendered: Normal
- DateTimeOriginal: 2010:03:08 19:18:52
- ExifImageHeight: 3432
- ExifImageWidth: 2328
- ExposureCompensation: 0
- ExposureMode: Manual
- ExposureProgram: Manual
- ExposureTime: 1/100
- FNumber: 4,5
- Flash: Off, Did not fire
- FocalLength: 35,0 mm
- FocalLengthIn35mmFormat: 52 mm
- ISO: 1600
- LensInfo: 18-55mm f/3.5-5.6
- LensModel: smc PENTAX-DA 18-55mm F3.5-5.6 AL
- MeteringMode: Multi-segment
- Saturation: Normal
- SceneCaptureType: Standard
- SensingMethod: One-chip color area
- SensitivityType: Unknown
- Sharpness: Hard
- ShutterSpeedValue: 1/100
- SubjectDistanceRange: Close
- WhiteBalance: Auto
- ICC-header
- IFD0
- BitsPerSample: 8 8 8
- ImageHeight: 3432
- ImageWidth: 2328
- Make: PENTAX Corporation
- Model: PENTAX K10D
- ModifyDate: 2011:05:04 17:49:51
- Orientation: Horizontal (normal)
- PhotometricInterpretation: RGB
- SamplesPerPixel: 3
- IFD1
- IPTC
- DateCreated: 2010:03:08
- System
- XMP-aux
- Lens: smc PENTAX-DA 18-55mm F3.5-5.6 AL
- LensID: 4 252
- XMP-crs
- AlreadyApplied: True
- BlueHue: 0
- BlueSaturation: 0
- Brightness: +58
- ChromaticAberrationB: 0
- ChromaticAberrationR: 0
- Clarity: 0
- ColorNoiseReduction: 85
- ColorNoiseReductionDetail: 50
- Contrast: +33
- ConvertToGrayscale: False
- CropAngle: 0.566076
- CropBottom: 0.966395
- CropConstrainToWarp: 1
- CropLeft: 0.00594
- CropRight: 0.88632
- CropTop: 0.05521
- Defringe: 0
- Exposure: +0.35
- FillLight: 0
- GrainAmount: 0
- GreenHue: 0
- GreenSaturation: 0
- HasCrop: True
- HasSettings: True
- HighlightRecovery: 19
- HueAdjustmentAqua: 0
- HueAdjustmentBlue: 0
- HueAdjustmentGreen: 0
- HueAdjustmentMagenta: 0
- HueAdjustmentOrange: 0
- HueAdjustmentPurple: 0
- HueAdjustmentRed: 0
- HueAdjustmentYellow: 0
- LensManualDistortionAmount: 0
- LensProfileEnable: 0
- LensProfileSetup: LensDefaults
- LuminanceAdjustmentAqua: 0
- LuminanceAdjustmentBlue: 0
- LuminanceAdjustmentGreen: 0
- LuminanceAdjustmentMagenta: 0
- LuminanceAdjustmentOrange: 0
- LuminanceAdjustmentPurple: 0
- LuminanceAdjustmentRed: 0
- LuminanceAdjustmentYellow: 0
- LuminanceNoiseReductionContrast: 0
- LuminanceNoiseReductionDetail: 50
- LuminanceSmoothing: 25
- ParametricDarks: 0
- ParametricHighlightSplit: 75
- ParametricHighlights: 0
- ParametricLights: 0
- ParametricMidtoneSplit: 50
- ParametricShadowSplit: 25
- ParametricShadows: 0
- PerspectiveHorizontal: 0
- PerspectiveRotate: 0.0
- PerspectiveScale: 100
- PerspectiveVertical: 0
- PostCropVignetteAmount: 0
- ProcessVersion: 5.7
- RawFileName: IMGP1308.DNG
- RedHue: 0
- RedSaturation: 0
- Saturation: +13
- SaturationAdjustmentAqua: 0
- SaturationAdjustmentBlue: 0
- SaturationAdjustmentGreen: 0
- SaturationAdjustmentMagenta: 0
- SaturationAdjustmentOrange: 0
- SaturationAdjustmentPurple: 0
- SaturationAdjustmentRed: 0
- SaturationAdjustmentYellow: 0
- ShadowTint: 0
- Shadows: 18
- SharpenDetail: 86
- SharpenEdgeMasking: 0
- SharpenRadius: +1.0
- Sharpness: 25
- SplitToningBalance: 0
- SplitToningHighlightHue: 0
- SplitToningHighlightSaturation: 0
- SplitToningShadowHue: 0
- SplitToningShadowSaturation: 0
- Temperature: 7650
- Tint: -5
- ToneCurve: 0, 0, 32, 22, 64, 56, 128, 128, 192, 196, 255, 255
- ToneCurveName: Medium Contrast
- Version: 6.3
- Vibrance: 0
- VignetteAmount: 0
- WhiteBalance: Custom
- XMP-dc
- XMP-xmp
- CreateDate: 2010:03:08 19:18:52+03:00
- CreatorTool: K10D Ver 1.00
- ModifyDate: 2011:05:04 17:49:51Z
- Rating: 0
- XMP-xmpMM
- Просмотров: 3148
- Рейтинг: голосов еще нет
- Отзывов: 0
Получить код для блога
Вставка фотографии в текущем разрешении |
Вставка миниатюры |
HTML (для вставки в блог):
BBCode (для вставки в форум):
Ссылка на фото:
Ссылка на миниатюру:
- Послать ссылку другу
Комментарии к фотографии |