- Раздел: Пейзаж
- Дата съёмки: 21.05.2011 17:38
- Дата загрузки фото: 13.05.2012 09:43
- Оригинальная фотография: 1797 x 1160 (805 Кб)
- Технические характеристики:
- Фотоаппарат: Olympus E-510
- Выдержка: 1/400
- Диафрагма: 8,0
- Светочувствительность: 200
- Фокусное расстояние: 42,0 mm
- Экспокоррекция: -0,3
- Полный EXIF
- Composite
- Aperture: 8,0
- FocalLength35efl: 42,0 mm
- ShutterSpeed: 1/400
- ExifIFD
- ApertureValue: 8,0
- CFAPattern: [Red,Green][Green,Blue]
- ColorSpace: sRGB
- Contrast: Normal
- CreateDate: 2011:05:21 17:38:56
- CustomRendered: Normal
- DateTimeOriginal: 2011:05:21 17:38:56
- DigitalZoomRatio: 1
- ExifImageHeight: 1160
- ExifImageWidth: 1797
- ExposureCompensation: -0,3
- ExposureMode: Manual
- ExposureProgram: Aperture-priority AE
- ExposureTime: 1/400
- FNumber: 8,0
- Flash: Auto, Did not fire
- FocalLength: 42,0 mm
- GainControl: Low gain up
- ISO: 200
- LightSource: Unknown
- MaxApertureValue: 3,5
- MeteringMode: Multi-segment
- Saturation: Low
- SceneCaptureType: Standard
- Sharpness: Soft
- ShutterSpeedValue: 1/400
- WhiteBalance: Auto
- ICC-header
- ICC-meas
- ICC-view
- IFD0
- ImageDescription: OLYMPUS DIGITAL CAMERA
- Make: OLYMPUS IMAGING CORP.
- Model: E-510
- ModifyDate: 2012:05:13 08:41:37
- Orientation: Horizontal (normal)
- Software: Программа цифровой обработки изображений компании ACD Systems
- IFD1
- IPTC
- Caption-Abstract: OLYMPUS DIGITAL CAMERA
- System
- XMP-aux
- FlashCompensation: 0
- Lens: 14.0-42.0 mm f/3.5-5.6
- LensInfo: 14-42mm f/3.5-5.6
- LensSerialNumber: 212401769
- SerialNumber: D63582545
- XMP-crs
- AlreadyApplied: True
- BlueHue: 0
- BlueSaturation: 0
- Brightness: +95
- CameraProfile: ACR 4.4
- ChromaticAberrationB: 0
- ChromaticAberrationR: 0
- Clarity: +31
- ColorNoiseReduction: 25
- Contrast: +25
- ConvertToGrayscale: False
- Defringe: 0
- Exposure: 0.00
- FillLight: 0
- GreenHue: 0
- GreenSaturation: 0
- HasCrop: False
- HasSettings: True
- HighlightRecovery: 100
- HueAdjustmentAqua: 0
- HueAdjustmentBlue: 0
- HueAdjustmentGreen: 0
- HueAdjustmentMagenta: 0
- HueAdjustmentOrange: 0
- HueAdjustmentPurple: 0
- HueAdjustmentRed: 0
- HueAdjustmentYellow: 0
- LuminanceAdjustmentAqua: -95
- LuminanceAdjustmentBlue: -100
- LuminanceAdjustmentGreen: +64
- LuminanceAdjustmentMagenta: 0
- LuminanceAdjustmentOrange: +60
- LuminanceAdjustmentPurple: 0
- LuminanceAdjustmentRed: +64
- LuminanceAdjustmentYellow: +100
- LuminanceSmoothing: 0
- ParametricDarks: 0
- ParametricHighlightSplit: 75
- ParametricHighlights: -40
- ParametricLights: -31
- ParametricMidtoneSplit: 50
- ParametricShadowSplit: 25
- ParametricShadows: 0
- PostCropVignetteAmount: 0
- RawFileName: P5210176.ORF
- RedHue: 0
- RedSaturation: 0
- Saturation: 0
- SaturationAdjustmentAqua: +100
- SaturationAdjustmentBlue: +100
- SaturationAdjustmentGreen: +23
- SaturationAdjustmentMagenta: -28
- SaturationAdjustmentOrange: 0
- SaturationAdjustmentPurple: +9
- SaturationAdjustmentRed: 0
- SaturationAdjustmentYellow: +34
- ShadowTint: 0
- Shadows: 0
- SharpenDetail: 38
- SharpenEdgeMasking: 0
- SharpenRadius: +1.0
- Sharpness: 44
- SplitToningBalance: 0
- SplitToningHighlightHue: 0
- SplitToningHighlightSaturation: 0
- SplitToningShadowHue: 0
- SplitToningShadowSaturation: 0
- Temperature: 4900
- Tint: +11
- ToneCurve: 0, 0, 32, 22, 64, 56, 128, 128, 192, 196, 255, 255
- ToneCurveName: Medium Contrast
- Version: 5.0
- Vibrance: 0
- VignetteAmount: 0
- WhiteBalance: As Shot
- XMP-dc
- Description: OLYMPUS DIGITAL CAMERA
- Format: image/jpeg
- XMP-exif
- DateTimeDigitized: 2011:05:21 17:38:56+03:00
- DateTimeOriginal: 2011:05:21 17:38:56+03:00
- ExifImageHeight: 1214
- ExifImageWidth: 1821
- FlashFired: False
- FlashFunction: False
- FlashMode: Auto
- FlashRedEyeMode: False
- FlashReturn: No return detection
- XMP-tiff
- XMP-x
- XMP-xmp
- CreateDate: 2011:05:21 17:38:56+03:00
- CreatorTool: Version 1.3
- ModifyDate: 2011:05:22 00:08:35+03:00
- Rating: 0
- XMP-xmpMM