_IGP4129-3й.jpg |
_IGP4129-3й.jpg
- Раздел: Другое, разное
- Дата съёмки: 14.05.2012 13:11
- Дата загрузки фото: 01.08.2012 13:00
- Оригинальная фотография: 3454 x 2233 (12,9 Мб)
- Технические характеристики:
- Фотоаппарат: Pentax K-r
- Выдержка: 1/2500
- Гиперфокальное расстояние: inf m
- Диафрагма: 1,8
- Светочувствительность: 160
- Фокусное расстояние: 77,0 mm (35 mm equivalent: 77,0 mm)
- Полный EXIF
- Adobe
- ColorTransform: YCbCr
- Composite
- Aperture: 1,8
- CircleOfConfusion: 0,020 mm
- FOV: 26,0 deg
- FocalLength35efl: 77,0 mm (35 mm equivalent: 77,0 mm)
- HyperfocalDistance: inf m
- ScaleFactor35efl: 1,5
- ShutterSpeed: 1/2500
- ExifIFD
- ApertureValue: 1,8
- ColorSpace: sRGB
- Contrast: Normal
- CreateDate: 2012:05:14 13:11:00
- CustomRendered: Normal
- DateTimeOriginal: 2012:05:14 13:11:00
- ExifImageHeight: 2233
- ExifImageWidth: 3454
- ExposureCompensation: 0
- ExposureMode: Auto
- ExposureProgram: Aperture-priority AE
- ExposureTime: 1/2500
- FNumber: 1,8
- Flash: Unknown (0x48)
- FocalLength: 77,0 mm
- FocalLengthIn35mmFormat: 115 mm
- ISO: 160
- LensInfo: 77mm f/1.8
- LensModel: smc PENTAX-FA 77mm F1.8 Limited
- MeteringMode: Center-weighted average
- Saturation: Normal
- SceneCaptureType: Standard
- SceneType: Directly photographed
- SensingMethod: One-chip color area
- SensitivityType: Unknown
- Sharpness: Normal
- ShutterSpeedValue: 1/2500
- SubjectDistanceRange: Close
- WhiteBalance: Manual
- ICC-header
- ICC-meas
- ICC-view
- IFD0
- BitsPerSample: 8 8 8
- ImageHeight: 2233
- ImageWidth: 3454
- Make: PENTAX
- Model: PENTAX K-r
- ModifyDate: 2012:08:01 12:13:30
- Orientation: Horizontal (normal)
- PhotometricInterpretation: RGB
- SamplesPerPixel: 3
- IFD1
- IPTC
- DateCreated: 2012:05:14
- System
- XMP-aux
- ApproximateFocusDistance: 2,83
- Lens: smc PENTAX-FA 77mm F1.8 Limited
- LensID: 4 24
- XMP-crs
- AlreadyApplied: True
- BlueHue: 0
- BlueSaturation: 0
- Brightness: -13
- CameraProfile: Embedded
- ChromaticAberrationB: 0
- ChromaticAberrationR: 0
- Clarity: +57
- ColorNoiseReduction: 0
- Contrast: +100
- ConvertToGrayscale: True
- CropAngle: 0
- CropBottom: 1
- CropConstrainToWarp: 0
- CropHeight: 2233
- CropLeft: 0.194539
- CropRight: 1
- CropTop: 0.215939
- CropUnit: pixels
- CropWidth: 3454
- Defringe: 0
- Exposure: 0.00
- FillLight: 17
- GrainAmount: 0
- GrayMixerAqua: -6
- GrayMixerBlue: -23
- GrayMixerGreen: -19
- GrayMixerMagenta: -15
- GrayMixerOrange: -2
- GrayMixerPurple: +17
- GrayMixerRed: -42
- GrayMixerYellow: -4
- GreenHue: 0
- GreenSaturation: 0
- HasCrop: True
- HasSettings: True
- HighlightRecovery: 0
- IncrementalTemperature: +100
- IncrementalTint: -36
- LensManualDistortionAmount: 0
- LensProfileEnable: 0
- LensProfileSetup: LensDefaults
- LuminanceNoiseReductionContrast: 0
- LuminanceNoiseReductionDetail: 50
- LuminanceSmoothing: 13
- PaintCorrectionActive: true
- PaintCorrectionAmount: 1.000000
- PaintCorrectionBrightness: 0.022000
- PaintCorrectionClarity: 0.422000
- PaintCorrectionContrast: 0.244000
- PaintCorrectionExposure: 0.333000
- PaintCorrectionHue: 0.000000
- PaintCorrectionMaskCenterWeight: 0.177270
- PaintCorrectionMaskFlow: 0.882000
- PaintCorrectionMaskRadius: 0.001583
- PaintCorrectionMaskValue: 0.870000
- PaintCorrectionMaskWhat: Mask/Paint
- PaintCorrectionSaturation: 0.000000
- PaintCorrectionSharpness: 0.600000
- PaintCorrectionWhat: Correction
- ParametricDarks: +30
- ParametricHighlightSplit: 75
- ParametricHighlights: +6
- ParametricLights: -31
- ParametricMidtoneSplit: 50
- ParametricShadowSplit: 25
- ParametricShadows: -1
- PerspectiveHorizontal: 0
- PerspectiveRotate: 0.0
- PerspectiveScale: 100
- PerspectiveVertical: 0
- PostCropVignetteAmount: -4
- PostCropVignetteFeather: 50
- PostCropVignetteHighlightContrast: 0
- PostCropVignetteMidpoint: 16
- PostCropVignetteRoundness: 0
- PostCropVignetteStyle: 1
- ProcessVersion: 5.7
- RedHue: 0
- RedSaturation: 0
- ShadowTint: 0
- Shadows: 9
- SharpenDetail: 7
- SharpenEdgeMasking: 0
- SharpenRadius: +1.2
- Sharpness: 68
- SplitToningBalance: 0
- SplitToningHighlightHue: 0
- SplitToningHighlightSaturation: 0
- SplitToningShadowHue: 0
- SplitToningShadowSaturation: 31
- ToneCurve: 0, 0, 255, 255
- ToneCurveName: Linear
- Version: 6.3
- VignetteAmount: 0
- WhiteBalance: Custom
- XMP-dc
- XMP-xmp
- CreateDate: 2012:05:14 13:11
- CreatorTool: K-r Ver 1.12
- ModifyDate: 2012:08:01 12:13:30+04:00
- XMP-xmpMM
- Просмотров: 267
- Рейтинг: голосов еще нет
- Отзывов: 0
Получить код для блога
Вставка фотографии в текущем разрешении |
Вставка миниатюры |
HTML (для вставки в блог):
BBCode (для вставки в форум):
Ссылка на фото:
Ссылка на миниатюру:
- Послать ссылку другу
Комментарии к фотографии |