- Раздел: Пейзаж
- Дата съёмки: 10.08.2012 10:45
- Дата загрузки фото: 18.08.2012 23:45
- Оригинальная фотография: 1626 x 1080 (1,0 Мб)
- Технические характеристики:
- Фотоаппарат: Ricoh GXR A12
- Выдержка: 1/440
- Диафрагма: 5,6
- Светочувствительность: 200
- Фокусное расстояние: 18,0 mm
- Полный EXIF
- Adobe
- ColorTransform: YCbCr
- Composite
- Aperture: 5,6
- FocalLength35efl: 18,0 mm
- ShutterSpeed: 1/440
- ExifIFD
- ApertureValue: 5,6
- BrightnessValue: 7,9
- ColorSpace: sRGB
- CreateDate: 2012:08:10 10:45:46
- DateTimeOriginal: 2012:08:10 10:45:46
- ExifImageHeight: 1080
- ExifImageWidth: 1626
- ExposureCompensation: 0
- ExposureMode: Auto
- ExposureProgram: Aperture-priority AE
- ExposureTime: 1/440
- FNumber: 5,6
- Flash: Off, Did not fire
- FocalLength: 18,3 mm
- ISO: 200
- LensInfo: 18.3mm f/2.37841423
- LensModel: 18.3 mm f/2.4
- LightSource: Unknown
- MaxApertureValue: 2,4
- MeteringMode: Multi-segment
- SceneType: Directly photographed
- Sharpness: Hard
- ShutterSpeedValue: 1/440
- WhiteBalance: Auto
- ICC-header
- ICC-meas
- ICC-view
- IFD0
- Copyright: (C)ANDREY I.KHODAK
- ImageDescription:
- Make: RICOH
- Model: GXR A12
- ModifyDate: 2012:08:18 23:03:48
- Orientation: Horizontal (normal)
- IFD1
- IPTC
- Caption-Abstract:
- CopyrightNotice: (C)ANDREY I.KHODAK
- DateCreated: 2012:08:10
- Urgency: 0 (reserved)
- System
- XMP-aux
- Lens: 18.3 mm f/2.4
- LensInfo: 18.3mm f/2.37841422972566
- XMP-crs
- AlreadyApplied: True
- BlueHue: 0
- BlueSaturation: 0
- Brightness: +9
- CameraProfile: Embedded
- ChromaticAberrationB: -9
- ChromaticAberrationR: -12
- Clarity: 0
- ColorNoiseReduction: 0
- Contrast: +12
- ConvertToGrayscale: False
- Defringe: 1
- Exposure: 0.00
- FillLight: 14
- GradientBasedCorrActive: true
- GradientBasedCorrAmount: 1.000000
- GradientBasedCorrBrightness: 0.040000
- GradientBasedCorrClarity: 0.090000
- GradientBasedCorrContrast: 0.070000
- GradientBasedCorrExposure: -0.075000
- GradientBasedCorrHue: 0.000000
- GradientBasedCorrMaskFullX: 0.328341
- GradientBasedCorrMaskFullY: 0.109185
- GradientBasedCorrMaskValue: 1.000000
- GradientBasedCorrMaskWhat: Mask/Gradient
- GradientBasedCorrMaskZeroX: 0.331797
- GradientBasedCorrMaskZeroY: 0.166378
- GradientBasedCorrSaturation: 0.000000
- GradientBasedCorrSharpness: 0.010000
- GradientBasedCorrWhat: Correction
- GrainAmount: 0
- GreenHue: 0
- GreenSaturation: 0
- HasCrop: False
- HasSettings: True
- HighlightRecovery: 5
- HueAdjustmentAqua: 0
- HueAdjustmentBlue: -9
- HueAdjustmentGreen: +14
- HueAdjustmentMagenta: 0
- HueAdjustmentOrange: -5
- HueAdjustmentPurple: 0
- HueAdjustmentRed: 0
- HueAdjustmentYellow: +8
- IncrementalTemperature: -6
- IncrementalTint: 0
- LensManualDistortionAmount: 0
- LensProfileEnable: 0
- LensProfileSetup: LensDefaults
- LuminanceAdjustmentAqua: 0
- LuminanceAdjustmentBlue: -21
- LuminanceAdjustmentGreen: 0
- LuminanceAdjustmentMagenta: 0
- LuminanceAdjustmentOrange: +4
- LuminanceAdjustmentPurple: 0
- LuminanceAdjustmentRed: 0
- LuminanceAdjustmentYellow: +11
- LuminanceSmoothing: 0
- ParametricDarks: 0
- ParametricHighlightSplit: 75
- ParametricHighlights: 0
- ParametricLights: 0
- ParametricMidtoneSplit: 50
- ParametricShadowSplit: 25
- ParametricShadows: 0
- PerspectiveHorizontal: 0
- PerspectiveRotate: 0.0
- PerspectiveScale: 100
- PerspectiveVertical: 0
- PostCropVignetteAmount: 0
- ProcessVersion: 5.7
- RawFileName: _0011725.tif
- RedHue: 0
- RedSaturation: 0
- Saturation: 0
- SaturationAdjustmentAqua: 0
- SaturationAdjustmentBlue: -5
- SaturationAdjustmentGreen: 0
- SaturationAdjustmentMagenta: 0
- SaturationAdjustmentOrange: +9
- SaturationAdjustmentPurple: 0
- SaturationAdjustmentRed: 0
- SaturationAdjustmentYellow: +14
- ShadowTint: 0
- Shadows: 0
- SharpenDetail: 25
- SharpenEdgeMasking: 0
- SharpenRadius: +1.0
- Sharpness: 0
- SplitToningBalance: 0
- SplitToningHighlightHue: 0
- SplitToningHighlightSaturation: 0
- SplitToningShadowHue: 44
- SplitToningShadowSaturation: 10
- ToneCurve: 0, 0, 255, 255
- ToneCurveName: Linear
- Version: 6.6
- Vibrance: 0
- VignetteAmount: 0
- WhiteBalance: Custom
- XMP-dc
- Description:
- Format: image/jpeg
- Rights: (C)ANDREY I.KHODAK
- XMP-xmp
- CreatorTool: Capture One 6 Windows
- Label: None
- ModifyDate: 2012:08:18 23:03:48+04:00
- Rating: 3
- XMP-xmpMM
- Просмотров: 467
- Рейтинг: голосов еще нет
- Отзывов: 0