- Раздел: Путешествия
- Дата съёмки: 01.03.2014 14:51
- Дата загрузки фото: 20.03.2014 00:52
- Оригинальная фотография: 1200 x 1800 (1,3 Мб)
- Технические характеристики:
- Фотоаппарат: Canon EOS 5D Mark II
- Выдержка: 1/500
- Гиперфокальное расстояние: inf m
- Диафрагма: 5,6
- Светочувствительность: 100
- Фокусное расстояние: 28,0 mm (35 mm equivalent: 84,0 mm)
- Полный EXIF
- Adobe
- ColorTransform: YCbCr
- Composite
- Aperture: 5,6
- CircleOfConfusion: 0,010 mm
- DOF: inf (0,00 m - inf)
- FOV: 24,0 deg
- FocalLength35efl: 28,0 mm (35 mm equivalent: 84,0 mm)
- HyperfocalDistance: inf m
- LensID: Canon EF 24-105mm f/4L IS
- ScaleFactor35efl: 3,1
- ShutterSpeed: 1/500
- ExifIFD
- ApertureValue: 5,6
- ColorSpace: sRGB
- CreateDate: 2014:03:01 14:51:51
- CustomRendered: Normal
- DateTimeOriginal: 2014:03:01 14:51:51
- ExifImageHeight: 1800
- ExifImageWidth: 1200
- ExposureCompensation: 0
- ExposureMode: Auto
- ExposureProgram: Aperture-priority AE
- ExposureTime: 1/500
- FNumber: 5,6
- Flash: Off, Did not fire
- FocalLength: 28,0 mm
- ISO: 100
- LensInfo: 24-105mm f/?
- LensModel: EF24-105mm f/4L IS USM
- MaxApertureValue: 4,0
- MeteringMode: Partial
- SceneCaptureType: Standard
- SensitivityType: Unknown
- SerialNumber: 3331628136
- ShutterSpeedValue: 1/500
- SubjectDistance: 11,9 m
- WhiteBalance: Auto
- ICC-header
- ICC-meas
- ICC-view
- IFD0
- Artist: Photographer: Kazarenko Andrey
- BitsPerSample: 8 8 8
- ImageHeight: 5521
- ImageWidth: 3680
- Make: Canon
- Model: Canon EOS 5D Mark II
- ModifyDate: 2014:03:20 00:30:35
- Orientation: Horizontal (normal)
- PhotometricInterpretation: RGB
- SamplesPerPixel: 3
- IFD1
- IPTC
- By-line: Photographer: Kazarenko Andrey
- DateCreated: 2014:03:01
- System
- XMP-aux
- ApproximateFocusDistance: 11,9
- Firmware: 2.0.9
- FlashCompensation: 0
- ImageNumber: 0
- Lens: EF24-105mm f/4L IS USM
- LensID: 237
- XMP-crs
- AlreadyApplied: True
- BlueHue: 0
- BlueSaturation: 0
- Brightness: +50
- ChromaticAberrationB: 0
- ChromaticAberrationR: 0
- Clarity: 0
- ColorNoiseReduction: 25
- ColorNoiseReductionDetail: 50
- ColorTemperature: 5300
- Contrast: +30
- ConvertToGrayscale: False
- CropAngle: -0.659295
- CropBottom: 0.983032
- CropConstrainToWarp: 0
- CropHeight: 3680
- CropLeft: 0.004714
- CropRight: 0.995286
- CropTop: 0.016968
- CropUnit: pixels
- CropWidth: 5521
- Defringe: 0
- Exposure: +0.50
- FillLight: 25
- GradientBasedCorrActive: true
- GradientBasedCorrAmount: 1.000000
- GradientBasedCorrBrightness: 0.000000
- GradientBasedCorrClarity: 1.000000
- GradientBasedCorrContrast: 0.000000
- GradientBasedCorrExposure: -0.100000
- GradientBasedCorrHue: 0.000000
- GradientBasedCorrMaskFullX: 0.999017
- GradientBasedCorrMaskFullY: 0.507375
- GradientBasedCorrMaskValue: 1.000000
- GradientBasedCorrMaskWhat: Mask/Gradient
- GradientBasedCorrMaskZeroX: -0.001970
- GradientBasedCorrMaskZeroY: 0.508850
- GradientBasedCorrSaturation: 0.000000
- GradientBasedCorrSharpness: 0.000000
- GradientBasedCorrWhat: Correction
- GrainAmount: 0
- GreenHue: 0
- GreenSaturation: 0
- HasCrop: True
- HasSettings: True
- HighlightRecovery: 0
- HueAdjustmentAqua: 0
- HueAdjustmentBlue: 0
- HueAdjustmentGreen: 0
- HueAdjustmentMagenta: 0
- HueAdjustmentOrange: 0
- HueAdjustmentPurple: 0
- HueAdjustmentRed: 0
- HueAdjustmentYellow: 0
- LensManualDistortionAmount: 0
- LensProfileEnable: 0
- LensProfileSetup: LensDefaults
- LuminanceAdjustmentAqua: 0
- LuminanceAdjustmentBlue: 0
- LuminanceAdjustmentGreen: 0
- LuminanceAdjustmentMagenta: 0
- LuminanceAdjustmentOrange: 0
- LuminanceAdjustmentPurple: 0
- LuminanceAdjustmentRed: 0
- LuminanceAdjustmentYellow: 0
- LuminanceSmoothing: 0
- ParametricDarks: 0
- ParametricHighlightSplit: 75
- ParametricHighlights: 0
- ParametricLights: 0
- ParametricMidtoneSplit: 50
- ParametricShadowSplit: 25
- ParametricShadows: 0
- PerspectiveHorizontal: 0
- PerspectiveRotate: 0.0
- PerspectiveScale: 100
- PerspectiveVertical: 0
- PostCropVignetteAmount: 0
- ProcessVersion: 5.7
- RedHue: 0
- RedSaturation: 0
- Saturation: +10
- SaturationAdjustmentAqua: 0
- SaturationAdjustmentBlue: 0
- SaturationAdjustmentGreen: 0
- SaturationAdjustmentMagenta: 0
- SaturationAdjustmentOrange: 0
- SaturationAdjustmentPurple: 0
- SaturationAdjustmentRed: 0
- SaturationAdjustmentYellow: 0
- ShadowTint: 0
- Shadows: 5
- SharpenDetail: 25
- SharpenEdgeMasking: 0
- SharpenRadius: +1.0
- Sharpness: 25
- SplitToningBalance: 0
- SplitToningHighlightHue: 0
- SplitToningHighlightSaturation: 0
- SplitToningShadowHue: 0
- SplitToningShadowSaturation: 0
- Tint: 0
- ToneCurve: 0, 0, 32, 22, 64, 56, 128, 128, 192, 196, 255, 255
- ToneCurveName: Medium Contrast
- Version: 6.3
- Vibrance: +5
- VignetteAmount: 0
- WhiteBalance: As Shot
- XMP-dc
- Creator: Photographer: Kazarenko Andrey
- Format: image/jpeg
- XMP-xmp
- CreateDate: 2014:03:01 14:51:51.12+04:00
- ModifyDate: 2014:03:20 00:30:35+04:00
- XMP-xmpMM
- Просмотров: 132
- Рейтинг: голосов еще нет
- Отзывов: 0