| » Участники » Grandnis » Зимнее » IMG_7114.jpg |
Уважаемые друзья и участники проекта iXBT.photo! К сожалению, 1 марта 2026 года проект iXBT.photo прекратит свою работу и будет закрыт. Мы высоко ценим ваше участие и тот вклад, который вы внесли в развитие нашего сообщества. Пожалуйста, не забудьте сохранить ваши фотографии до этой даты.
С уважением, команда iXBT.com
| IMG_7114.jpg |
IMG_7114.jpg
- Раздел: Природа
- Дата съёмки: 02.01.2009 11:08
- Дата загрузки фото: 04.01.2009 23:19
- Оригинальная фотография: 1067 x 1600 (448 Кб)
- Технические характеристики:
- Фотоаппарат: Canon EOS 450D
- Выдержка: 1/4000
- Гиперфокальное расстояние: 310,41 m
- Диафрагма: 1,4
- Светочувствительность: 100
- Фокусное расстояние: 55,0 mm (35 mm equivalent: 237,4 mm)
- Полный EXIF
- Adobe
- ColorTransform: YCbCr
- Composite
- Aperture: 1,4
- CircleOfConfusion: 0,007 mm
- FOV: 8,0 deg
- FocalLength35efl: 55,0 mm (35 mm equivalent: 237,4 mm)
- HyperfocalDistance: 310,41 m
- ScaleFactor35efl: 4,3
- ShutterSpeed: 1/4000
- ExifIFD
- ApertureValue: 1,4
- CreateDate: 2009:01:02 11:08:26
- CustomRendered: Normal
- DateTimeOriginal: 2009:01:02 11:08:26
- ExposureCompensation: 0
- ExposureMode: Auto
- ExposureProgram: Aperture-priority AE
- ExposureTime: 1/4000
- FNumber: 1,4
- Flash: Off
- FocalLength: 55,0 mm
- ISO: 100
- MaxApertureValue: 1,4
- MeteringMode: Spot
- SceneCaptureType: Standard
- ShutterSpeedValue: 1/4000
- WhiteBalance: Auto
- ICC-header
- ICC-meas
- ICC-view
- IFD0
- Make: Canon
- Model: Canon EOS 450D
- ModifyDate: 2009:01:04 23:12:25
- XMP-aux
- Firmware: 1.0.4
- FlashCompensation: 0
- ImageNumber: 0
- Lens: 55-55mm
- LensInfo: 55/1 55/1 0/0 0/0
- SerialNumber: 330138231
- XMP-crs
- AlreadyApplied: True
- BlueHue: -100
- BlueSaturation: +15
- Brightness: +50
- CameraProfile: ACR 3.4
- ChromaticAberrationB: 0
- ChromaticAberrationR: 0
- Clarity: 0
- ColorNoiseReduction: 25
- Contrast: +100
- ConvertToGrayscale: False
- Defringe: 2
- Exposure: +0.38
- FillLight: 63
- GreenHue: -100
- GreenSaturation: -60
- HasCrop: False
- HasSettings: True
- HighlightRecovery: 100
- HueAdjustmentAqua: 0
- HueAdjustmentBlue: 0
- HueAdjustmentGreen: 0
- HueAdjustmentMagenta: 0
- HueAdjustmentOrange: +29
- HueAdjustmentPurple: 0
- HueAdjustmentRed: +81
- HueAdjustmentYellow: +5
- LuminanceAdjustmentAqua: -100
- LuminanceAdjustmentBlue: 0
- LuminanceAdjustmentGreen: +100
- LuminanceAdjustmentMagenta: 0
- LuminanceAdjustmentOrange: +62
- LuminanceAdjustmentPurple: 0
- LuminanceAdjustmentRed: +100
- LuminanceAdjustmentYellow: +10
- LuminanceSmoothing: 15
- ParametricDarks: 0
- ParametricHighlightSplit: 75
- ParametricHighlights: 0
- ParametricLights: +39
- ParametricMidtoneSplit: 50
- ParametricShadowSplit: 25
- ParametricShadows: -21
- PostCropVignetteAmount: 0
- RedHue: +100
- RedSaturation: -60
- Saturation: +100
- SaturationAdjustmentAqua: -100
- SaturationAdjustmentBlue: -55
- SaturationAdjustmentGreen: +45
- SaturationAdjustmentMagenta: -100
- SaturationAdjustmentOrange: -74
- SaturationAdjustmentPurple: -100
- SaturationAdjustmentRed: -100
- SaturationAdjustmentYellow: +45
- ShadowTint: +100
- Shadows: 15
- SharpenDetail: 25
- SharpenEdgeMasking: 0
- SharpenRadius: +1.0
- Sharpness: 15
- SplitToningBalance: 0
- SplitToningHighlightHue: 51
- SplitToningHighlightSaturation: 29
- SplitToningShadowHue: 43
- SplitToningShadowSaturation: 5
- Temperature: 4900
- Tint: 0
- ToneCurve: 0, 0, 32, 22, 64, 56, 128, 128, 192, 196, 255, 255
- ToneCurveName: Medium Contrast
- Version: 4.6
- Vibrance: +29
- VignetteAmount: +19
- VignetteMidpoint: 56
- WhiteBalance: Custom
- XMP-exif
- DateTimeDigitized: 2009:01:02 11:08:26.02+03:00
- DateTimeOriginal: 2009:01:02 11:08:26.02+03:00
- ExifImageHeight: 1600
- ExifImageWidth: 1067
- FlashFired: False
- FlashFunction: False
- FlashMode: Off
- FlashRedEyeMode: False
- FlashReturn: No return detection
- XMP-tiff
- ImageHeight: 1600
- ImageWidth: 1067
- XMP-xmp
- CreateDate: 2009:01:02 11:08:26.02+03:00
- ModifyDate: 2009:01:04 23:12:25+03:00
Получить код для блога
| Вставка фотографии в текущем разрешении |
Вставка миниатюры |
HTML (для вставки в блог):
BBCode (для вставки в форум):
Ссылка на фото:
Ссылка на миниатюру:
- Послать ссылку другу
| Комментарии к фотографии |