- Раздел: Природа
- Дата съёмки: 02.01.2009 13:17
- Дата загрузки фото: 04.01.2009 23:20
- Оригинальная фотография: 1067 x 1600 (282 Кб)
- Технические характеристики:
- Фотоаппарат: Canon EOS 450D
- Выдержка: 1/4000
- Гиперфокальное расстояние: 310,41 m
- Диафрагма: 1,4
- Светочувствительность: 100
- Фокусное расстояние: 55,0 mm (35 mm equivalent: 237,4 mm)
- Полный EXIF
- Adobe
- ColorTransform: YCbCr
- Composite
- Aperture: 1,4
- CircleOfConfusion: 0,007 mm
- FOV: 8,0 deg
- FocalLength35efl: 55,0 mm (35 mm equivalent: 237,4 mm)
- HyperfocalDistance: 310,41 m
- ScaleFactor35efl: 4,3
- ShutterSpeed: 1/4000
- ExifIFD
- ApertureValue: 1,4
- CreateDate: 2009:01:02 13:17:14
- CustomRendered: Normal
- DateTimeOriginal: 2009:01:02 13:17:14
- ExposureCompensation: 0
- ExposureMode: Auto
- ExposureProgram: Aperture-priority AE
- ExposureTime: 1/4000
- FNumber: 1,4
- Flash: Off
- FocalLength: 55,0 mm
- ISO: 100
- MaxApertureValue: 1,4
- MeteringMode: Spot
- SceneCaptureType: Standard
- ShutterSpeedValue: 1/4000
- WhiteBalance: Auto
- ICC-header
- ICC-meas
- ICC-view
- IFD0
- Make: Canon
- Model: Canon EOS 450D
- ModifyDate: 2009:01:04 23:12:48
- XMP-aux
- Firmware: 1.0.4
- FlashCompensation: 0
- ImageNumber: 0
- Lens: 55-55mm
- LensInfo: 55/1 55/1 0/0 0/0
- SerialNumber: 330138231
- XMP-crs
- AlreadyApplied: True
- BlueHue: 0
- BlueSaturation: 0
- Brightness: +98
- CameraProfile: ACR 3.3
- ChromaticAberrationB: 0
- ChromaticAberrationR: 0
- Clarity: 0
- ColorNoiseReduction: 25
- Contrast: +100
- ConvertToGrayscale: False
- Defringe: 0
- Exposure: +0.30
- FillLight: 6
- GreenHue: 0
- GreenSaturation: 0
- HasCrop: False
- HasSettings: True
- HighlightRecovery: 100
- HueAdjustmentAqua: 0
- HueAdjustmentBlue: 0
- HueAdjustmentGreen: 0
- HueAdjustmentMagenta: 0
- HueAdjustmentOrange: -1
- HueAdjustmentPurple: 0
- HueAdjustmentRed: 0
- HueAdjustmentYellow: 0
- LuminanceAdjustmentAqua: -1
- LuminanceAdjustmentBlue: 0
- LuminanceAdjustmentGreen: -10
- LuminanceAdjustmentMagenta: 0
- LuminanceAdjustmentOrange: +79
- LuminanceAdjustmentPurple: 0
- LuminanceAdjustmentRed: -100
- LuminanceAdjustmentYellow: -100
- LuminanceSmoothing: 0
- ParametricDarks: +40
- ParametricHighlightSplit: 75
- ParametricHighlights: +80
- ParametricLights: -13
- ParametricMidtoneSplit: 50
- ParametricShadowSplit: 25
- ParametricShadows: -64
- PostCropVignetteAmount: 0
- RedHue: 0
- RedSaturation: 0
- Saturation: -54
- SaturationAdjustmentAqua: 0
- SaturationAdjustmentBlue: 0
- SaturationAdjustmentGreen: 0
- SaturationAdjustmentMagenta: 0
- SaturationAdjustmentOrange: -10
- SaturationAdjustmentPurple: 0
- SaturationAdjustmentRed: -7
- SaturationAdjustmentYellow: 0
- ShadowTint: 0
- Shadows: 58
- SharpenDetail: 25
- SharpenEdgeMasking: 0
- SharpenRadius: +1.0
- Sharpness: 10
- SplitToningBalance: 0
- SplitToningHighlightHue: 0
- SplitToningHighlightSaturation: 0
- SplitToningShadowHue: 0
- SplitToningShadowSaturation: 0
- Temperature: 4986
- Tint: -19
- ToneCurve: 0, 0, 32, 22, 64, 56, 128, 128, 192, 196, 255, 255
- ToneCurveName: Medium Contrast
- Version: 4.6
- Vibrance: -26
- VignetteAmount: 0
- WhiteBalance: Custom
- XMP-exif
- DateTimeDigitized: 2009:01:02 13:17:14.87+03:00
- DateTimeOriginal: 2009:01:02 13:17:14.87+03:00
- ExifImageHeight: 1600
- ExifImageWidth: 1067
- FlashFired: False
- FlashFunction: False
- FlashMode: Off
- FlashRedEyeMode: False
- FlashReturn: No return detection
- XMP-tiff
- ImageHeight: 1600
- ImageWidth: 1067
- XMP-xmp
- CreateDate: 2009:01:02 13:17:14.87+03:00
- ModifyDate: 2009:01:04 23:12:48+03:00
- Просмотров: 680
- Рейтинг: голосов еще нет
- Отзывов: 0