| » Участники » Grandnis » Зимнее » IMG_7267.jpg |
Уважаемые друзья и участники проекта iXBT.photo! К сожалению, 1 марта 2026 года проект iXBT.photo прекратит свою работу и будет закрыт. Мы высоко ценим ваше участие и тот вклад, который вы внесли в развитие нашего сообщества. Пожалуйста, не забудьте сохранить ваши фотографии до этой даты.
С уважением, команда iXBT.com
| IMG_7267.jpg |
IMG_7267.jpg
- Раздел: Природа
- Дата съёмки: 02.01.2009 14:10
- Дата загрузки фото: 04.01.2009 23:20
- Оригинальная фотография: 1067 x 1600 (421 Кб)
- Технические характеристики:
- Фотоаппарат: Canon EOS 450D
- Выдержка: 1/2500
- Гиперфокальное расстояние: 310,41 m
- Диафрагма: 1,4
- Светочувствительность: 200
- Фокусное расстояние: 55,0 mm (35 mm equivalent: 237,4 mm)
- Полный EXIF
- Adobe
- ColorTransform: YCbCr
- Composite
- Aperture: 1,4
- CircleOfConfusion: 0,007 mm
- FOV: 8,0 deg
- FocalLength35efl: 55,0 mm (35 mm equivalent: 237,4 mm)
- HyperfocalDistance: 310,41 m
- ScaleFactor35efl: 4,3
- ShutterSpeed: 1/2500
- ExifIFD
- ApertureValue: 1,4
- CreateDate: 2009:01:02 14:10:53
- CustomRendered: Normal
- DateTimeOriginal: 2009:01:02 14:10:53
- ExposureCompensation: 0
- ExposureMode: Auto
- ExposureProgram: Aperture-priority AE
- ExposureTime: 1/2500
- FNumber: 1,4
- Flash: Off
- FocalLength: 55,0 mm
- ISO: 200
- MaxApertureValue: 1,4
- MeteringMode: Multi-segment
- SceneCaptureType: Standard
- ShutterSpeedValue: 1/2500
- WhiteBalance: Auto
- ICC-header
- ICC-meas
- ICC-view
- IFD0
- Make: Canon
- Model: Canon EOS 450D
- ModifyDate: 2009:01:04 23:13:08
- XMP-aux
- Firmware: 1.0.4
- FlashCompensation: 0
- ImageNumber: 0
- Lens: 55-55mm
- LensInfo: 55/1 55/1 0/0 0/0
- SerialNumber: 330138231
- XMP-crs
- AlreadyApplied: True
- BlueHue: 0
- BlueSaturation: 0
- Brightness: +50
- CameraProfile: ACR 4.4
- ChromaticAberrationB: 0
- ChromaticAberrationR: 0
- Clarity: +40
- ColorNoiseReduction: 35
- Contrast: +100
- ConvertToGrayscale: False
- Defringe: 0
- Exposure: +0.60
- FillLight: 15
- GreenHue: 0
- GreenSaturation: 0
- HasCrop: False
- HasSettings: True
- HighlightRecovery: 0
- HueAdjustmentAqua: 0
- HueAdjustmentBlue: 0
- HueAdjustmentGreen: 0
- HueAdjustmentMagenta: 0
- HueAdjustmentOrange: 0
- HueAdjustmentPurple: 0
- HueAdjustmentRed: 0
- HueAdjustmentYellow: 0
- LuminanceAdjustmentAqua: 0
- LuminanceAdjustmentBlue: 0
- LuminanceAdjustmentGreen: 0
- LuminanceAdjustmentMagenta: 0
- LuminanceAdjustmentOrange: 0
- LuminanceAdjustmentPurple: 0
- LuminanceAdjustmentRed: 0
- LuminanceAdjustmentYellow: 0
- LuminanceSmoothing: 0
- ParametricDarks: -5
- ParametricHighlightSplit: 75
- ParametricHighlights: +32
- ParametricLights: 0
- ParametricMidtoneSplit: 50
- ParametricShadowSplit: 25
- ParametricShadows: +11
- PostCropVignetteAmount: 0
- RedHue: 0
- RedSaturation: 0
- Saturation: -33
- SaturationAdjustmentAqua: 0
- SaturationAdjustmentBlue: 0
- SaturationAdjustmentGreen: 0
- SaturationAdjustmentMagenta: 0
- SaturationAdjustmentOrange: 0
- SaturationAdjustmentPurple: 0
- SaturationAdjustmentRed: 0
- SaturationAdjustmentYellow: 0
- ShadowTint: 0
- Shadows: 4
- SharpenDetail: 25
- SharpenEdgeMasking: 0
- SharpenRadius: +1.0
- Sharpness: 64
- SplitToningBalance: 0
- SplitToningHighlightHue: 0
- SplitToningHighlightSaturation: 0
- SplitToningShadowHue: 0
- SplitToningShadowSaturation: 0
- Temperature: 6762
- Tint: +4
- ToneCurve: 0, 0, 32, 22, 64, 56, 128, 128, 192, 196, 255, 255
- ToneCurveName: Medium Contrast
- Version: 4.6
- Vibrance: +11
- VignetteAmount: -100
- VignetteMidpoint: 37
- WhiteBalance: Custom
- XMP-exif
- DateTimeDigitized: 2009:01:02 14:10:53.03+03:00
- DateTimeOriginal: 2009:01:02 14:10:53.03+03:00
- ExifImageHeight: 1600
- ExifImageWidth: 1067
- FlashFired: False
- FlashFunction: False
- FlashMode: Off
- FlashRedEyeMode: False
- FlashReturn: No return detection
- XMP-tiff
- ImageHeight: 1600
- ImageWidth: 1067
- XMP-xmp
- CreateDate: 2009:01:02 14:10:53.03+03:00
- ModifyDate: 2009:01:04 23:13:08+03:00
- Просмотров: 506
- Рейтинг: голосов еще нет
- Отзывов: 0
Получить код для блога
| Вставка фотографии в текущем разрешении |
Вставка миниатюры |
HTML (для вставки в блог):
BBCode (для вставки в форум):
Ссылка на фото:
Ссылка на миниатюру:
- Послать ссылку другу
| Комментарии к фотографии |