- Раздел: Другое, разное
- Дата съёмки: 17.04.2014 21:47
- Дата загрузки фото: 03.07.2014 00:32
- Оригинальная фотография: 1920 x 1280 (1,3 Мб)
- Технические характеристики:
- Фотоаппарат: Canon EOS 5D Mark II
- Выдержка: 30,0
- Гиперфокальное расстояние: inf m
- Диафрагма: 10,0
- Светочувствительность: 100
- Фокусное расстояние: 150,0 mm (35 mm equivalent: 300,0 mm)
- Полный EXIF
- Adobe
- ColorTransform: YCbCr
- Composite
- Aperture: 10,0
- CircleOfConfusion: 0,011 mm
- FOV: 6,0 deg
- FocalLength35efl: 150,0 mm (35 mm equivalent: 300,0 mm)
- HyperfocalDistance: inf m
- LensID: Canon EF 75-300mm f/4-5.6 USM
- LightValue: 1,7
- ScaleFactor35efl: 2,9
- ShutterSpeed: 30,0
- ExifIFD
- ApertureValue: 10,0
- ColorSpace: sRGB
- CreateDate: 2014:04:17 21:47:32
- CustomRendered: Normal
- DateTimeOriginal: 2014:04:17 21:47:32
- ExifImageHeight: 1280
- ExifImageWidth: 1920
- ExposureCompensation: 0
- ExposureMode: Manual
- ExposureProgram: Manual
- ExposureTime: 30,0
- FNumber: 10,0
- Flash: Off, Did not fire
- FocalLength: 150,0 mm
- ISO: 100
- LensInfo: 75-300mm f/?
- LensModel: EF75-300mm f/4-5.6 USM
- MaxApertureValue: 4,8
- MeteringMode: Multi-segment
- SceneCaptureType: Standard
- SerialNumber: 2151307365
- ShutterSpeedValue: 30,0
- WhiteBalance: Auto
- ICC-header
- ICC-meas
- ICC-view
- IFD0
- BitsPerSample: 8 8 8
- ImageHeight: 3744
- ImageWidth: 5616
- Make: Canon
- Model: Canon EOS 5D Mark II
- ModifyDate: 2014:05:09 23:39:09
- Orientation: Horizontal (normal)
- PhotometricInterpretation: RGB
- SamplesPerPixel: 3
- IFD1
- IPTC
- DateCreated: 2014:04:17
- System
- XMP-aux
- Firmware: 2.0.7
- FlashCompensation: 0
- ImageNumber: 0
- Lens: EF75-300mm f/4-5.6 USM
- LensID: 200
- XMP-crs
- AlreadyApplied: True
- AutoLateralCA: 0
- Blacks2012: +35
- BlueHue: 0
- BlueSaturation: +12
- CameraProfile: Fuji FP-100c C
- Clarity2012: +14
- ColorNoiseReduction: 43
- ColorNoiseReductionDetail: 50
- ColorTemperature: 3932
- Contrast2012: +14
- ConvertToGrayscale: False
- DefringeGreenAmount: 3
- DefringeGreenHueHi: 71
- DefringeGreenHueLo: 34
- DefringePurpleAmount: 2
- DefringePurpleHueHi: 70
- DefringePurpleHueLo: 23
- Exposure2012: 0.00
- GrainAmount: 0
- GreenHue: -5
- GreenSaturation: 0
- HasCrop: False
- HasSettings: True
- Highlights2012: -30
- HueAdjustmentAqua: +25
- HueAdjustmentBlue: 0
- HueAdjustmentGreen: 0
- HueAdjustmentMagenta: 0
- HueAdjustmentOrange: 0
- HueAdjustmentPurple: +30
- HueAdjustmentRed: +15
- HueAdjustmentYellow: -5
- LensManualDistortionAmount: 0
- LensProfileEnable: 0
- LensProfileSetup: LensDefaults
- LuminanceAdjustmentAqua: -15
- LuminanceAdjustmentBlue: -40
- LuminanceAdjustmentGreen: -30
- LuminanceAdjustmentMagenta: -20
- LuminanceAdjustmentOrange: -10
- LuminanceAdjustmentPurple: 0
- LuminanceAdjustmentRed: -25
- LuminanceAdjustmentYellow: -25
- LuminanceSmoothing: 0
- PaintBasedCorrectionsLocalClarity2012: 0.142860
- PaintBasedCorrectionsLocalContrast2012: 0.000000
- PaintBasedCorrectionsLocalDefringe: 0.000000
- PaintBasedCorrectionsLocalExposure2012: 0.055000
- PaintBasedCorrectionsLocalHighlights2012: 0.000000
- PaintBasedCorrectionsLocalLuminanceNoise: 0.000000
- PaintBasedCorrectionsLocalMoire: 0.000000
- PaintBasedCorrectionsLocalShadows2012: 0.120880
- PaintBasedCorrectionsLocalTemperature: 0.000000
- PaintBasedCorrectionsLocalTint: 0.000000
- PaintCorrectionActive: true
- PaintCorrectionAmount: 1.000000
- PaintCorrectionBrightness: 0.000000
- PaintCorrectionHue: 0.000000
- PaintCorrectionMaskCenterWeight: 0.000000
- PaintCorrectionMaskFlow: 1.000000
- PaintCorrectionMaskRadius: 0.039929
- PaintCorrectionMaskValue: 0.000000
- PaintCorrectionMaskWhat: Mask/Paint
- PaintCorrectionSaturation: 0.000000
- PaintCorrectionSharpness: 0.000000
- PaintCorrectionWhat: Correction
- ParametricDarks: +7
- ParametricHighlightSplit: 75
- ParametricHighlights: 0
- ParametricLights: 0
- ParametricMidtoneSplit: 50
- ParametricShadowSplit: 25
- ParametricShadows: +13
- PerspectiveHorizontal: 0
- PerspectiveRotate: 0.0
- PerspectiveScale: 100
- PerspectiveVertical: 0
- PostCropVignetteAmount: -11
- PostCropVignetteFeather: 50
- PostCropVignetteHighlightContrast: 0
- PostCropVignetteMidpoint: 34
- PostCropVignetteRoundness: 0
- PostCropVignetteStyle: 1
- ProcessVersion: 6.7
- RedHue: +10
- RedSaturation: -15
- Saturation: 0
- SaturationAdjustmentAqua: -20
- SaturationAdjustmentBlue: -17
- SaturationAdjustmentGreen: -4
- SaturationAdjustmentMagenta: +4
- SaturationAdjustmentOrange: +11
- SaturationAdjustmentPurple: +17
- SaturationAdjustmentRed: +21
- SaturationAdjustmentYellow: +9
- ShadowTint: 0
- Shadows2012: +59
- SharpenDetail: 25
- SharpenEdgeMasking: 0
- SharpenRadius: +1.0
- Sharpness: 14
- SplitToningBalance: 0
- SplitToningHighlightHue: 0
- SplitToningHighlightSaturation: 10
- SplitToningShadowHue: 53
- SplitToningShadowSaturation: 10
- Tint: +34
- ToneCurveName2012: Custom
- ToneCurvePV2012: 0, 0, 17, 30, 57, 78, 135, 151, 201, 206, 255, 255
- ToneCurvePV2012Blue: 0, 0, 34, 19, 123, 130, 221, 233, 255, 255
- ToneCurvePV2012Green: 0, 0, 39, 21, 122, 129, 220, 234, 255, 255
- ToneCurvePV2012Red: 0, 0, 36, 18, 88, 78, 118, 126, 160, 182, 255, 255
- Version: 7.3
- Vibrance: +30
- VignetteAmount: 0
- WhiteBalance: Custom
- Whites2012: +18
- XMP-dc
- XMP-xmp
- ModifyDate: 2014:05:09 23:39:09+04:00
- XMP-xmpMM