- Раздел: Макро
- Дата съёмки: 30.06.2007 15:54
- Дата загрузки фото: 30.06.2007 16:56
- Оригинальная фотография: 2648 x 1968 (2,0 Мб)
- Технические характеристики:
- Фотоаппарат: Canon PowerShotS3IS
- Выдержка: 1/160
- Диафрагма: 4,0
- Светочувствительность: 50
- Фокусное расстояние: 13,2mm
- Полный EXIF
- ColorTransform: YCbCr
- Composite
- Aperture: 4,0
- EV: 12,3
- FocalLength35efl: 13,2mm
- ShutterSpeed: 1/160
- ExifIFD
- ApertureValue: 4,0
- ColorSpace: sRGB
- CreateDate: 2005:11:22 19:47:50
- DateTimeOriginal: 2005:11:22 19:47:50
- ExifImageLength: 1968
- ExifImageWidth: 2648
- ExposureCompensation: 0
- ExposureProgram: Shutter speed priority AE
- ExposureTime: 1/160
- FNumber: 4,0
- Flash: Fired
- FocalLength: 13,2mm
- ISO: 50
- MaxApertureValue: 4,2
- MeteringMode: Multi-segment
- ShutterSpeedValue: 1/160
- ICC-header
- ICC-meas
- ICC-view
- IFD0
- Make: Canon
- Model: Canon PowerShotS3IS
- ModifyDate: 2007:06:30 15:54:10
- Orientation: Horizontal (normal)
- IFD1
- IPTC
- XMP-aux
- Firmware: 1.01
- Lens: 5.8-20.7 mm
- LensInfo: 5,8125
- XMP-crs
- AlreadyApplied: True
- AutoGrayscaleWeights: True
- BlueHue: 0
- BlueSaturation: 0
- Brightness: +68
- CameraProfile: Embedded
- ChromaticAberrationB: 0
- ChromaticAberrationR: 0
- ColorNoiseReduction: 25
- Contrast: +20
- ConvertToGrayscale: False
- Exposure: +1.35
- FillLight: 0
- GreenHue: 0
- GreenSaturation: 0
- HasCrop: False
- HasSettings: True
- HighlightRecovery: 28
- HueAdjustmentAqua: 0
- HueAdjustmentBlue: 0
- HueAdjustmentGreen: 0
- HueAdjustmentMagenta: 0
- HueAdjustmentOrange: 0
- HueAdjustmentPurple: 0
- HueAdjustmentRed: 0
- HueAdjustmentYellow: 0
- LuminanceAdjustmentAqua: 0
- LuminanceAdjustmentBlue: 0
- LuminanceAdjustmentGreen: 0
- LuminanceAdjustmentMagenta: 0
- LuminanceAdjustmentOrange: 0
- LuminanceAdjustmentPurple: 0
- LuminanceAdjustmentRed: 0
- LuminanceAdjustmentYellow: 0
- LuminanceSmoothing: 0
- ParametricDarks: 0
- ParametricHighlightSplit: 75
- ParametricHighlights: 0
- ParametricLights: 0
- ParametricMidtoneSplit: 50
- ParametricShadowSplit: 25
- ParametricShadows: 0
- RawFileName: CRW_2135.DNG
- RedHue: 0
- RedSaturation: 0
- Saturation: 0
- SaturationAdjustmentAqua: 0
- SaturationAdjustmentBlue: 0
- SaturationAdjustmentGreen: 0
- SaturationAdjustmentMagenta: 0
- SaturationAdjustmentOrange: 0
- SaturationAdjustmentPurple: 0
- SaturationAdjustmentRed: 0
- SaturationAdjustmentYellow: 0
- ShadowTint: 0
- Shadows: 4
- Sharpness: 30
- SplitToningBalance: 0
- SplitToningHighlightHue: 0
- SplitToningHighlightSaturation: 0
- SplitToningShadowHue: 0
- SplitToningShadowSaturation: 0
- Temperature: 7700
- Tint: 0
- ToneCurve: 0, 0, 32, 22, 64, 56, 128, 128, 192, 196, 255, 255
- ToneCurveName: Medium Contrast
- Version: 4.0x168
- Vibrance: 0
- VignetteAmount: 0
- WhiteBalance: Custom
- XMP-dc
- XMP-exif
- DateTimeDigitized: 2005:11:22 19:47:50+02:00
- DateTimeOriginal: 2005:11:22 19:47:50+02:00
- ExifImageHeight: 1968
- FlashFired: True
- FlashFunction: False
- FlashMode: Unknown
- FlashRedEyeMode: False
- FlashReturn: No return detection
- XMP-tiff
- ImageHeight: 2112
- ImageWidth: 2816
- XMP-xmp
- CreateDate: 2007:06:30 15:54:10+03:00
- ModifyDate: 2007:06:30 15:54:10+03:00
- XMP-xmpMM
- DerivedFrom: