_MG_6490.jpg |
_MG_6490.jpg
- Раздел: Другое, разное
- Дата съёмки: 19.09.2008 17:26
- Дата загрузки фото: 08.03.2015 20:43
- Оригинальная фотография: 2000 x 3000 (3,3 Мб)
- Технические характеристики:
- Фотоаппарат: Canon EOS 350D DIGITAL
- Выдержка: 1/250
- Гиперфокальное расстояние: inf m
- Диафрагма: 9,0
- Светочувствительность: 100
- Фокусное расстояние: 48,0 mm (35 mm equivalent: 48,0 mm)
- Полный EXIF
- Adobe
- ColorTransform: YCbCr
- Composite
- Aperture: 9,0
- CircleOfConfusion: 0,016 mm
- FOV: 41,0 deg
- FocalLength35efl: 48,0 mm (35 mm equivalent: 48,0 mm)
- HyperfocalDistance: inf m
- ScaleFactor35efl: 1,9
- ShutterSpeed: 1/250
- ExifIFD
- ApertureValue: 9,0
- ColorSpace: Uncalibrated
- CreateDate: 2008:09:19 17:26:02
- CustomRendered: Normal
- DateTimeOriginal: 2008:09:19 17:26:02
- ExifImageHeight: 3000
- ExifImageWidth: 2000
- ExposureCompensation: 0
- ExposureMode: Auto
- ExposureProgram: Program AE
- ExposureTime: 1/250
- FNumber: 9,0
- Flash: Off, Did not fire
- FocalLength: 48,0 mm
- ISO: 100
- LensInfo: 28-105mm f/?
- LensModel: 28.0-105.0 mm
- MeteringMode: Multi-segment
- OwnerName: unknown
- SceneCaptureType: Standard
- SensitivityType: Unknown
- SerialNumber: 230108038
- ShutterSpeedValue: 1/250
- WhiteBalance: Auto
- IFD0
- Artist: unknown
- Make: Canon
- Model: Canon EOS 350D DIGITAL
- ModifyDate: 2015:03:08 17:40:43
- Orientation: Horizontal (normal)
- IFD1
- IPTC
- By-line: unknown
- DateCreated: 2008:09:19
- System
- XMP-aux
- Firmware: 1.0.2
- FlashCompensation: 0
- ImageNumber: 90
- Lens: 28.0-105.0 mm
- XMP-crs
- AlreadyApplied: True
- BlueHue: 0
- BlueSaturation: 0
- Brightness: +60
- ChromaticAberrationB: 0
- ChromaticAberrationR: 0
- Clarity: 0
- ColorNoiseReduction: 25
- ColorNoiseReductionDetail: 50
- ColorTemperature: 5650
- Contrast: +33
- ConvertToGrayscale: False
- Defringe: 0
- Exposure: -0.15
- FillLight: 54
- GrainAmount: 0
- GreenHue: 0
- GreenSaturation: 0
- HasCrop: False
- HasSettings: True
- HighlightRecovery: 0
- HueAdjustmentAqua: 0
- HueAdjustmentBlue: 0
- HueAdjustmentGreen: 0
- HueAdjustmentMagenta: 0
- HueAdjustmentOrange: 0
- HueAdjustmentPurple: 0
- HueAdjustmentRed: 0
- HueAdjustmentYellow: 0
- LensManualDistortionAmount: 0
- LensProfileEnable: 0
- LensProfileSetup: LensDefaults
- LuminanceAdjustmentAqua: 0
- LuminanceAdjustmentBlue: 0
- LuminanceAdjustmentGreen: 0
- LuminanceAdjustmentMagenta: 0
- LuminanceAdjustmentOrange: 0
- LuminanceAdjustmentPurple: 0
- LuminanceAdjustmentRed: 0
- LuminanceAdjustmentYellow: 0
- LuminanceSmoothing: 0
- ParametricDarks: 0
- ParametricHighlightSplit: 75
- ParametricHighlights: 0
- ParametricLights: 0
- ParametricMidtoneSplit: 50
- ParametricShadowSplit: 25
- ParametricShadows: 0
- PerspectiveHorizontal: 0
- PerspectiveRotate: 0.0
- PerspectiveScale: 100
- PerspectiveVertical: 0
- PostCropVignetteAmount: 0
- ProcessVersion: 5.7
- RawFileName: _MG_6490.CR2
- RedHue: 0
- RedSaturation: 0
- Saturation: 0
- SaturationAdjustmentAqua: 0
- SaturationAdjustmentBlue: 0
- SaturationAdjustmentGreen: 0
- SaturationAdjustmentMagenta: 0
- SaturationAdjustmentOrange: 0
- SaturationAdjustmentPurple: 0
- SaturationAdjustmentRed: 0
- SaturationAdjustmentYellow: 0
- ShadowTint: 0
- Shadows: 10
- SharpenDetail: 25
- SharpenEdgeMasking: 0
- SharpenRadius: +1.0
- Sharpness: 25
- SplitToningBalance: 0
- SplitToningHighlightHue: 0
- SplitToningHighlightSaturation: 0
- SplitToningShadowHue: 0
- SplitToningShadowSaturation: 0
- Tint: +15
- ToneCurve: 0, 0, 32, 22, 64, 56, 128, 128, 192, 196, 255, 255
- ToneCurveName: Medium Contrast
- Version: 6.3
- Vibrance: +22
- VignetteAmount: 0
- WhiteBalance: As Shot
- XMP-dc
- Creator: unknown
- Format: image/jpeg
- XMP-xmp
- CreateDate: 2008:09:19 17:26:02+04:00
- ModifyDate: 2015:03:08 17:40:43Z
- Rating: 0
- XMP-xmpMM
- DerivedFrom:
Получить код для блога
Вставка фотографии в текущем разрешении |
Вставка миниатюры |
HTML (для вставки в блог):
BBCode (для вставки в форум):
Ссылка на фото:
Ссылка на миниатюру:
- Послать ссылку другу
Комментарии к фотографии |