- Раздел: Другое, разное
- Дата съёмки: 20.10.2015 18:09
- Дата загрузки фото: 22.10.2015 23:56
- Оригинальная фотография: 1280 x 719 (387 Кб)
- Технические характеристики:
- Фотоаппарат: DJI FC300X
- Выдержка: 3,0
- Гиперфокальное расстояние: inf m
- Диафрагма: 2,8
- Светочувствительность: 100
- Фокусное расстояние: 3,0 mm (35 mm equivalent: 18,0 mm)
- Полный EXIF
- Composite
- Aperture: 2,8
- CircleOfConfusion: 0,005 mm
- FOV: 90,0 deg
- FocalLength35efl: 3,0 mm (35 mm equivalent: 18,0 mm)
- GPSAltitude: 489,1 m Above Sea Level
- GPSLatitude: 57 deg 35' 45,00" N
- GPSLongitude: 38 deg 0' 6,00" E
- GPSPosition: 57 deg 35' 45,00" N, 38 deg 0' 6,00" E
- HyperfocalDistance: inf m
- LightValue: 0,4
- ScaleFactor35efl: 6,7
- ShutterSpeed: 3,0
- ExifIFD
- ApertureValue: 2,8
- ColorSpace: sRGB
- Contrast: Normal
- CreateDate: 2015:10:20 18:09:03
- CustomRendered: Normal
- DateTimeOriginal: 2015:10:20 18:09:03
- DigitalZoomRatio: 0
- ExifImageHeight: 719
- ExifImageWidth: 1280
- ExposureCompensation: 0
- ExposureMode: Manual
- ExposureProgram: Unknown (8176)
- ExposureTime: 3,0
- FNumber: 2,8
- Flash: No flash function
- FocalLength: 3,6 mm
- FocalLengthIn35mmFormat: 20 mm
- GainControl: None
- ISO: 100
- LensInfo: 20.7mm f/?
- LensModel: 20.7 mm
- LightSource: Tungsten (Incandescent)
- MaxApertureValue: 2,0
- MeteringMode: Center-weighted average
- Saturation: Normal
- SceneCaptureType: Standard
- SceneType: Directly photographed
- SerialNumber: 2014031100
- Sharpness: Normal
- ShutterSpeedValue: 3,0
- SubjectDistance: 0 m
- SubjectDistanceRange: Unknown
- WhiteBalance: Auto
- GPS
- GPSAltitude: 489,1 m
- GPSAltitudeRef: Above Sea Level
- GPSLatitude: 57 deg 35' 45,00"
- GPSLatitudeRef: North
- GPSLongitude: 38 deg 0' 6,00"
- GPSLongitudeRef: East
- GPSVersionID: 2.3.0.0
- ICC-header
- ICC-meas
- ICC-view
- IFD0
- Make: DJI
- Model: FC300X
- ModifyDate: 2015:10:20 21:04:27
- Orientation: Horizontal (normal)
- IFD1
- IPTC
- City: Moskva
- Country-PrimaryLocationName: Russia
- DateCreated: 2015:10:20
- Province-State: Moscow
- Sub-location: Zapadnyy administrativnyy okrug
- System
- XMP-aux
- ApproximateFocusDistance: 0
- Lens: 20.7 mm
- XMP-crs
- AlreadyApplied: True
- AutoLateralCA: 0
- AutoWhiteVersion: 134348800
- Blacks2012: +50
- BlueHue: 0
- BlueSaturation: +64
- CameraProfile: Embedded
- Clarity2012: +25
- ColorNoiseReduction: 25
- ColorNoiseReductionDetail: 50
- ColorNoiseReductionSmoothness: 50
- ColorTemperature: 3300
- Contrast2012: 0
- ConvertToGrayscale: False
- DefringeGreenAmount: 0
- DefringeGreenHueHi: 60
- DefringeGreenHueLo: 40
- DefringePurpleAmount: 0
- DefringePurpleHueHi: 70
- DefringePurpleHueLo: 30
- Exposure2012: -0.11
- GradientBasedCorrActive: true
- GradientBasedCorrAmount: 1.000000
- GradientBasedCorrBrightness: 0.000000
- GradientBasedCorrHue: 0.000000
- GradientBasedCorrMaskFullX: 0.587977
- GradientBasedCorrMaskFullY: 1.094000
- GradientBasedCorrMaskValue: 1.000000
- GradientBasedCorrMaskWhat: Mask/Gradient
- GradientBasedCorrMaskZeroX: 0.285924
- GradientBasedCorrMaskZeroY: 0.754569
- GradientBasedCorrSaturation: 0.000000
- GradientBasedCorrSharpness: 0.000000
- GradientBasedCorrWhat: Correction
- GradientBasedCorrectionsLocalClarity2012: 0.000000
- GradientBasedCorrectionsLocalContrast2012: 0.000000
- GradientBasedCorrectionsLocalDefringe: 0.000000
- GradientBasedCorrectionsLocalExposure2012: 0.125000
- GradientBasedCorrectionsLocalHighlights2012: 0.000000
- GradientBasedCorrectionsLocalLuminanceNoise: 0.000000
- GradientBasedCorrectionsLocalMoire: 0.000000
- GradientBasedCorrectionsLocalShadows2012: 0.000000
- GradientBasedCorrectionsLocalTemperature: 0.000000
- GradientBasedCorrectionsLocalTint: 0.000000
- GrainAmount: 0
- GreenHue: 0
- GreenSaturation: +66
- HasCrop: False
- HasSettings: True
- Highlights2012: -50
- HueAdjustmentAqua: 0
- HueAdjustmentBlue: 0
- HueAdjustmentGreen: 0
- HueAdjustmentMagenta: 0
- HueAdjustmentOrange: 0
- HueAdjustmentPurple: +13
- HueAdjustmentRed: -15
- HueAdjustmentYellow: 0
- LensManualDistortionAmount: 0
- LensProfileEnable: 0
- LensProfileSetup: LensDefaults
- LuminanceAdjustmentAqua: +21
- LuminanceAdjustmentBlue: +34
- LuminanceAdjustmentGreen: 0
- LuminanceAdjustmentMagenta: 0
- LuminanceAdjustmentOrange: 0
- LuminanceAdjustmentPurple: 0
- LuminanceAdjustmentRed: +15
- LuminanceAdjustmentYellow: 0
- LuminanceNoiseReductionContrast: 0
- LuminanceNoiseReductionDetail: 50
- LuminanceSmoothing: 50
- ParametricDarks: +19
- ParametricHighlightSplit: 75
- ParametricHighlights: +29
- ParametricLights: -3
- ParametricMidtoneSplit: 50
- ParametricShadowSplit: 25
- ParametricShadows: +45
- PerspectiveAspect: 0
- PerspectiveHorizontal: 0
- PerspectiveRotate: 0.0
- PerspectiveScale: 100
- PerspectiveUpright: 0
- PerspectiveVertical: 0
- PostCropVignetteAmount: 0
- ProcessVersion: 6.7
- RedHue: 0
- RedSaturation: +34
- Saturation: 0
- SaturationAdjustmentAqua: +100
- SaturationAdjustmentBlue: +34
- SaturationAdjustmentGreen: 0
- SaturationAdjustmentMagenta: +15
- SaturationAdjustmentOrange: -34
- SaturationAdjustmentPurple: +55
- SaturationAdjustmentRed: +81
- SaturationAdjustmentYellow: +43
- ShadowTint: 0
- Shadows2012: +50
- SharpenDetail: 50
- SharpenEdgeMasking: 25
- SharpenRadius: +1.0
- Sharpness: 25
- SplitToningBalance: 0
- SplitToningHighlightHue: 225
- SplitToningHighlightSaturation: 11
- SplitToningShadowHue: 0
- SplitToningShadowSaturation: 0
- Tint: +27
- ToneCurve: 0, 0, 255, 255
- ToneCurveBlue: 0, 0, 255, 255
- ToneCurveGreen: 0, 0, 255, 255
- ToneCurveName: Linear
- ToneCurveName2012: Linear
- ToneCurvePV2012: 0, 0, 255, 255
- ToneCurvePV2012Blue: 0, 0, 255, 255
- ToneCurvePV2012Green: 0, 0, 255, 255
- ToneCurvePV2012Red: 0, 0, 255, 255
- ToneCurveRed: 0, 0, 255, 255
- Version: 8.7.1
- Vibrance: +25
- VignetteAmount: 0
- WhiteBalance: Custom
- Whites2012: 0
- XMP-dc
- XMP-iptcCore
- Location: Zapadnyy administrativnyy okrug
- XMP-xmp
- ModifyDate: 2015:10:20 21:04:27+03:00
- XMP-xmpMM
- Просмотров: 405
- Рейтинг: голосов еще нет
- Отзывов: 0