- Раздел: Природа
- Дата съёмки: неизвестно
- Дата загрузки фото: 02.08.2016 18:13
- Оригинальная фотография: 4072 x 4072 (946 Кб)
- Технические характеристики:
- Фотоаппарат: Kodak ProBack645
- Выдержка: 1/350
- Диафрагма: 2,2
- Светочувствительность: 100
- Полный EXIF
- Adobe
- ColorTransform: YCbCr
- Composite
- Aperture: 2,2
- ShutterSpeed: 1/350
- ExifIFD
- ApertureValue: 2,2
- ColorSpace: sRGB
- DateTimeOriginal: 2106:02:06 06:20:42
- ExifImageHeight: 4072
- ExifImageWidth: 4072
- ExposureCompensation: 0
- ExposureIndex: 100
- ExposureProgram: Program AE
- ExposureTime: 1/350
- FNumber: 2,2
- ISO: 100
- LightSource: Unknown
- MeteringMode: Unknown
- SensingMethod: One-chip color area
- SerialNumber: PB645H-00218
- ShutterSpeedValue: 1/350
- ICC-header
- ICC-meas
- ICC-view
- IFD0
- Make: Kodak
- Model: ProBack645
- ModifyDate: 2016:07:31 16:36:55
- Orientation: Horizontal (normal)
- IFD1
- IPTC
- DateCreated: 2106:02:06
- System
- XMP-aux
- ImageNumber: 3668
- XMP-crs
- AlreadyApplied: True
- BlueHue: 0
- BlueSaturation: 0
- Brightness: +50
- CameraProfile: ACR 4.4
- ChromaticAberrationB: 0
- ChromaticAberrationR: 0
- Clarity: 0
- ColorNoiseReduction: 25
- ColorNoiseReductionDetail: 50
- ColorTemperature: 4900
- Contrast: +25
- ConvertToGrayscale: False
- Defringe: 0
- Exposure: 0.00
- FillLight: 0
- GrainAmount: 0
- GreenHue: 0
- GreenSaturation: 0
- HasCrop: False
- HasSettings: True
- HighlightRecovery: 44
- HueAdjustmentAqua: 0
- HueAdjustmentBlue: 0
- HueAdjustmentGreen: 0
- HueAdjustmentMagenta: 0
- HueAdjustmentOrange: 0
- HueAdjustmentPurple: 0
- HueAdjustmentRed: 0
- HueAdjustmentYellow: 0
- LensManualDistortionAmount: 0
- LensProfileEnable: 0
- LensProfileSetup: LensDefaults
- LuminanceAdjustmentAqua: 0
- LuminanceAdjustmentBlue: 0
- LuminanceAdjustmentGreen: 0
- LuminanceAdjustmentMagenta: 0
- LuminanceAdjustmentOrange: 0
- LuminanceAdjustmentPurple: 0
- LuminanceAdjustmentRed: 0
- LuminanceAdjustmentYellow: 0
- LuminanceSmoothing: 0
- ParametricDarks: -25
- ParametricHighlightSplit: 75
- ParametricHighlights: 0
- ParametricLights: -7
- ParametricMidtoneSplit: 50
- ParametricShadowSplit: 25
- ParametricShadows: 0
- PerspectiveHorizontal: 0
- PerspectiveRotate: 0.0
- PerspectiveScale: 100
- PerspectiveVertical: 0
- PostCropVignetteAmount: 0
- ProcessVersion: 5.7
- RawFileName: 7D2C3668.DCR
- RedHue: 0
- RedSaturation: 0
- Saturation: 0
- SaturationAdjustmentAqua: 0
- SaturationAdjustmentBlue: 0
- SaturationAdjustmentGreen: 0
- SaturationAdjustmentMagenta: 0
- SaturationAdjustmentOrange: 0
- SaturationAdjustmentPurple: 0
- SaturationAdjustmentRed: 0
- SaturationAdjustmentYellow: 0
- ShadowTint: 0
- Shadows: 0
- SharpenDetail: 0
- SharpenEdgeMasking: 0
- SharpenRadius: +0.7
- Sharpness: 55
- SplitToningBalance: 0
- SplitToningHighlightHue: 0
- SplitToningHighlightSaturation: 0
- SplitToningShadowHue: 0
- SplitToningShadowSaturation: 0
- Tint: -8
- ToneCurve: 0, 0, 32, 22, 64, 56, 128, 128, 192, 196, 255, 255
- ToneCurveName: Medium Contrast
- Version: 6.6
- Vibrance: 0
- VignetteAmount: 0
- WhiteBalance: Custom
- XMP-dc
- XMP-xmp
- CreateDate: 2106:02:06 06:20:42
- CreatorTool: 3.3.7
- ModifyDate: 2016:07:31 16:36:55+03:00
- Rating: 0
- XMP-xmpMM
- Просмотров: 320
- Рейтинг: голосов еще нет
- Отзывов: 0