- Раздел: Тесты фототехники
- Дата съёмки: неизвестно
- Дата загрузки фото: 30.08.2017 17:09
- Оригинальная фотография: 6720 x 4480 (12,4 Мб)
- Технические характеристики:
- Фотоаппарат: Canon EOS 5D Mark IV
- Выдержка: 0,0
- Гиперфокальное расстояние: inf m
- Диафрагма: 8,0
- Светочувствительность: 100
- Фокусное расстояние: 24,0 mm
- Полный EXIF
- Adobe
- ColorTransform: YCbCr
- Composite
- Aperture: 8,0
- CircleOfConfusion: 0,030 mm
- FocalLength35efl: 24,0 mm
- HyperfocalDistance: inf m
- LensID: Canon EF 24mm f/2.8 IS USM
- Megapixels: 30,1
- ScaleFactor35efl: 1,0
- ShutterSpeed: 0,0
- ExifIFD
- ApertureValue: 8,0
- ColorSpace: Uncalibrated
- CreateDate: 2017:08:26 11:39:13
- CustomRendered: Normal
- DateTimeOriginal: 2017:08:26 11:39:13
- ExifImageHeight: 4480
- ExifImageWidth: 6720
- ExposureCompensation: 0
- ExposureMode: Auto
- ExposureProgram: Aperture-priority AE
- ExposureTime: 0,0
- FNumber: 8,0
- Flash: Off, Did not fire
- FocalLength: 24,0 mm
- ISO: 100
- LensInfo: 24mm f/?
- LensModel: EF24mm f/2.8 IS USM
- LensSerialNumber: 0000000b88
- MaxApertureValue: 2,8
- MeteringMode: Center-weighted average
- RecommendedExposureIndex: 100
- SceneCaptureType: Standard
- SensitivityType: Recommended Exposure Index
- SerialNumber: 003099000075
- ShutterSpeedValue: 1/256
- WhiteBalance: Auto
- IFD0
- Artist: MIKHAIL RYBAKOV
- Copyright: MIKHAIL RYBAKOV
- Make: Canon
- Model: Canon EOS 5D Mark IV
- ModifyDate: 2017:08:30 11:59:54
- Orientation: Horizontal (normal)
- IFD1
- IPTC
- By-line: MIKHAIL RYBAKOV
- CopyrightNotice: MIKHAIL RYBAKOV
- DateCreated: 2017:08:26
- System
- XMP-aux
- ApproximateFocusDistance: 9,9
- DistortionCorrectionAlreadyApplied: True
- Firmware: 7.1.1
- FlashCompensation: 0
- ImageNumber: 0
- LateralChromaticAberrationCorrectionAlreadyApplied: True
- Lens: EF24mm f/2.8 IS USM
- LensID: 503
- VignetteCorrectionAlreadyApplied: True
- XMP-crs
- AlreadyApplied: True
- AutoLateralCA: 1
- Blacks2012: +29
- BlueHue: 0
- BlueSaturation: 0
- Clarity2012: +18
- ColorNoiseReduction: 25
- ColorNoiseReductionDetail: 50
- ColorNoiseReductionSmoothness: 50
- ColorTemperature: 5400
- Contrast2012: +14
- ConvertToGrayscale: False
- DefringeGreenAmount: 8
- DefringeGreenHueHi: 70
- DefringeGreenHueLo: 33
- DefringePurpleAmount: 7
- DefringePurpleHueHi: 74
- DefringePurpleHueLo: 24
- Dehaze: 0
- Exposure2012: +0.35
- GrainAmount: 0
- GreenHue: 0
- GreenSaturation: 0
- HasCrop: False
- HasSettings: True
- Highlights2012: -74
- HueAdjustmentAqua: 0
- HueAdjustmentBlue: 0
- HueAdjustmentGreen: 0
- HueAdjustmentMagenta: 0
- HueAdjustmentOrange: 0
- HueAdjustmentPurple: 0
- HueAdjustmentRed: 0
- HueAdjustmentYellow: 0
- LensManualDistortionAmount: 0
- LensProfileChromaticAberrationScale: 100
- LensProfileDistortionScale: 100
- LensProfileEnable: 1
- LensProfileFilename: Canon EOS 5D Mark II (Canon EF 24mm f2.8 IS USM) - RAW.lcp
- LensProfileSetup: LensDefaults
- LensProfileVignettingScale: 100
- LuminanceAdjustmentAqua: -31
- LuminanceAdjustmentBlue: -40
- LuminanceAdjustmentGreen: 0
- LuminanceAdjustmentMagenta: 0
- LuminanceAdjustmentOrange: 0
- LuminanceAdjustmentPurple: 0
- LuminanceAdjustmentRed: 0
- LuminanceAdjustmentYellow: 0
- LuminanceSmoothing: 0
- ParametricDarks: 0
- ParametricHighlightSplit: 75
- ParametricHighlights: 0
- ParametricLights: 0
- ParametricMidtoneSplit: 50
- ParametricShadowSplit: 25
- ParametricShadows: 0
- PerspectiveAspect: 0
- PerspectiveHorizontal: 0
- PerspectiveRotate: 0.0
- PerspectiveScale: 100
- PerspectiveUpright: 0
- PerspectiveVertical: 0
- PerspectiveX: 0.00
- PerspectiveY: 0.00
- PostCropVignetteAmount: 0
- ProcessVersion: 6.7
- RawFileName: _75A0948.CR2
- RedHue: 0
- RedSaturation: 0
- Saturation: +29
- SaturationAdjustmentAqua: 0
- SaturationAdjustmentBlue: 0
- SaturationAdjustmentGreen: 0
- SaturationAdjustmentMagenta: 0
- SaturationAdjustmentOrange: 0
- SaturationAdjustmentPurple: 0
- SaturationAdjustmentRed: 0
- SaturationAdjustmentYellow: 0
- ShadowTint: 0
- Shadows2012: +24
- SharpenDetail: 25
- SharpenEdgeMasking: 0
- SharpenRadius: +1.0
- Sharpness: 25
- SplitToningBalance: 0
- SplitToningHighlightHue: 0
- SplitToningHighlightSaturation: 0
- SplitToningShadowHue: 0
- SplitToningShadowSaturation: 0
- Tint: +8
- ToneCurve: 0, 0, 32, 22, 64, 56, 128, 128, 192, 196, 255, 255
- ToneCurveBlue: 0, 0, 255, 255
- ToneCurveGreen: 0, 0, 255, 255
- ToneCurveName: Medium Contrast
- ToneCurveName2012: Linear
- ToneCurvePV2012: 0, 0, 255, 255
- ToneCurvePV2012Blue: 0, 0, 255, 255
- ToneCurvePV2012Green: 0, 0, 255, 255
- ToneCurvePV2012Red: 0, 0, 255, 255
- ToneCurveRed: 0, 0, 255, 255
- ToneMapStrength: 0
- Version: 9.12
- Vibrance: +26
- VignetteAmount: 0
- WhiteBalance: Custom
- Whites2012: 0
- XMP-dc
- Creator: MIKHAIL RYBAKOV
- Format: image/jpeg
- Rights: MIKHAIL RYBAKOV
- XMP-xmp
- ModifyDate: 2017:08:30 11:59:54+03:00
- Rating: 0
- XMP-xmpMM
- Просмотров: 208
- Рейтинг: голосов еще нет
- Отзывов: отключены