- Раздел: Путешествия
- Дата съёмки: 05.05.2008 23:21
- Дата загрузки фото: 13.04.2019 14:53
- Оригинальная фотография: 3600 x 2400 (4,6 Мб)
- Технические характеристики:
- Фотоаппарат: Canon EOS 400D DIGITAL
- Выдержка: 1,0
- Гиперфокальное расстояние: inf m
- Диафрагма: 5,0
- Светочувствительность: 800
- Фокусное расстояние: 22,0 mm (35 mm equivalent: 22,0 mm)
- Полный EXIF
- Adobe
- ColorTransform: YCbCr
- Composite
- Aperture: 5,0
- CircleOfConfusion: 0,019 mm
- FOV: 78,0 deg
- Flash: Off, Did not fire
- FocalLength35efl: 22,0 mm (35 mm equivalent: 22,0 mm)
- HyperfocalDistance: inf m
- LightValue: 1,6
- Megapixels: 8,6
- ScaleFactor35efl: 1,6
- ShutterSpeed: 1,0
- ExifIFD
- ApertureValue: 4,0
- ColorSpace: sRGB
- CreateDate: 2008:05:05 23:21:41
- CustomRendered: Normal
- DateTimeOriginal: 2008:05:05 23:21:41
- ExifImageHeight: 2400
- ExifImageWidth: 3600
- ExposureCompensation: 0
- ExposureMode: Auto
- ExposureProgram: Aperture-priority AE
- ExposureTime: 1,0
- FNumber: 5,0
- FocalLength: 22,0 mm
- ISO: 800
- MaxApertureValue: 4,0
- MeteringMode: Multi-segment
- SceneCaptureType: Standard
- ShutterSpeedValue: 1,0
- WhiteBalance: Auto
- ICC-header
- ICC-meas
- ICC-view
- IFD0
- Artist: OO
- ImageDescription: Evening coast
- Make: Canon
- Model: Canon EOS 400D DIGITAL
- ModifyDate: 2009:09:15 18:46:56
- Orientation: Horizontal (normal)
- IFD1
- IPTC
- By-line: OO
- Caption-Abstract: Evening coast
- Keywords: sea, coast, evening, glow, house, estate, nature, rocks, trees, rocks, summer, Spain, Costa, Brava, light, street lamp, reflections, Luxury, harbor, Mediterranean, stronghold, setting, tourist, vacation, holiday, recreation, evening coast, cloud
- ObjectName: Evening coast
- System
- XMP-aux
- Firmware: 1.0.5
- FlashCompensation: 0
- ImageNumber: 240
- Lens: EF-S10-22mm f/3.5-4.5 USM
- LensInfo: 10-22mm f/?
- OwnerName: unknown
- SerialNumber: 1130503873
- XMP-crs
- AlreadyApplied: True
- BlueHue: 0
- BlueSaturation: 0
- Brightness: +50
- CameraProfile: ACR 4.4
- ChromaticAberrationB: 0
- ChromaticAberrationR: 0
- Clarity: +5
- ColorNoiseReduction: 25
- ColorTemperature: 5950
- Contrast: +15
- ConvertToGrayscale: False
- Defringe: 0
- Exposure: +0.15
- FillLight: 10
- GreenHue: 0
- GreenSaturation: 0
- HasCrop: False
- HasSettings: True
- HighlightRecovery: 0
- HueAdjustmentAqua: 0
- HueAdjustmentBlue: 0
- HueAdjustmentGreen: 0
- HueAdjustmentMagenta: 0
- HueAdjustmentOrange: 0
- HueAdjustmentPurple: 0
- HueAdjustmentRed: 0
- HueAdjustmentYellow: 0
- LuminanceAdjustmentAqua: 0
- LuminanceAdjustmentBlue: 0
- LuminanceAdjustmentGreen: 0
- LuminanceAdjustmentMagenta: 0
- LuminanceAdjustmentOrange: 0
- LuminanceAdjustmentPurple: 0
- LuminanceAdjustmentRed: 0
- LuminanceAdjustmentYellow: 0
- LuminanceSmoothing: 0
- ParametricDarks: 0
- ParametricHighlightSplit: 75
- ParametricHighlights: 0
- ParametricLights: 0
- ParametricMidtoneSplit: 50
- ParametricShadowSplit: 25
- ParametricShadows: 0
- PostCropVignetteAmount: 0
- RawFileName: IMG_4207.CR2
- RedHue: 0
- RedSaturation: 0
- Saturation: +10
- SaturationAdjustmentAqua: 0
- SaturationAdjustmentBlue: 0
- SaturationAdjustmentGreen: 0
- SaturationAdjustmentMagenta: 0
- SaturationAdjustmentOrange: 0
- SaturationAdjustmentPurple: 0
- SaturationAdjustmentRed: 0
- SaturationAdjustmentYellow: 0
- ShadowTint: 0
- Shadows: 3
- SharpenDetail: 25
- SharpenEdgeMasking: 0
- SharpenRadius: +1.0
- Sharpness: 25
- SplitToningBalance: 0
- SplitToningHighlightHue: 0
- SplitToningHighlightSaturation: 0
- SplitToningShadowHue: 0
- SplitToningShadowSaturation: 0
- Tint: -2
- ToneCurve: 0, 0, 32, 22, 64, 56, 128, 128, 192, 196, 255, 255
- ToneCurveName: Medium Contrast
- Version: 4.6
- Vibrance: +10
- VignetteAmount: 0
- WhiteBalance: As Shot
- XMP-dc
- Creator: OO
- Description: Evening coast
- Format: image/jpeg
- Subject: sea, coast, evening, glow, house, estate, nature, rocks, trees, rocks, summer, Spain, Costa, Brava, light, street lamp, reflections, Luxury, harbor, Mediterranean, stronghold, setting, tourist, vacation, holiday, recreation, evening coast, cloud
- Title: Evening coast
- XMP-exif
- ApertureValue: 5,0
- DateTimeDigitized: 2008:05:05 23:21:41+04:00
- DateTimeOriginal: 2008:05:05 23:21:41+04:00
- ExposureTime: 1,6
- FlashFired: False
- FlashFunction: False
- FlashMode: Off
- FlashRedEyeMode: False
- FlashReturn: No return detection
- MaxApertureValue: 1,0
- ShutterSpeedValue: 1,6
- XMP-illustrator
- XMP-tiff
- XMP-xmp
- CreateDate: 2009:09:15 18:46:56+04:00
- ModifyDate: 2009:09:15 18:46:56+04:00
- Rating: 0
- XMP-xmpMM
- XMP-xmpRights
- Просмотров: 554
- Рейтинг: голосов еще нет
- Отзывов: 1