- Раздел: Другое, разное
- Дата съёмки: неизвестно
- Дата загрузки фото: 25.04.2019 22:07
- Оригинальная фотография: 4928 x 3264 (6,0 Мб)
- Технические характеристики:
- Фотоаппарат: LEICA CAMERA AG LEICA X (Typ 113)
- Выдержка: 0,0
- Гиперфокальное расстояние: inf m
- Диафрагма: 2,2
- Светочувствительность: 100
- Фокусное расстояние: 23,0 mm (35 mm equivalent: 23,0 mm)
- Полный EXIF
- Adobe
- ColorTransform: YCbCr
- Composite
- Aperture: 2,2
- BlueBalance: 0
- CircleOfConfusion: 0,020 mm
- FOV: 76,0 deg
- FocalLength35efl: 23,0 mm (35 mm equivalent: 23,0 mm)
- HyperfocalDistance: inf m
- Megapixels: 16,1
- RedBalance: 0
- ScaleFactor35efl: 1,5
- ShutterSpeed: 0,0
- ExifIFD
- ApertureValue: 2,0
- ColorSpace: sRGB
- Contrast: Normal
- CreateDate: 2019:04:25 14:38:42
- CustomRendered: Normal
- DateTimeOriginal: 2019:04:25 14:38:42
- DigitalZoomRatio: 1
- ExposureCompensation: 0
- ExposureProgram: Program AE
- ExposureTime: 0,0
- FNumber: 2,2
- Flash: Off, Did not fire
- FocalLength: 23,0 mm
- FocalLengthIn35mmFormat: 35 mm
- ISO: 100
- LensInfo: 23mm f/1.7
- LensModel: 23.0 mm f/1.7
- LightSource: Unknown
- MaxApertureValue: 1,4
- MeteringMode: Center-weighted average
- Saturation: High
- SceneCaptureType: Landscape
- SensingMethod: One-chip color area
- SerialNumber: 000004898933
- Sharpness: Normal
- ShutterSpeedValue: 1/32
- WhiteBalance: Auto
- GPS
- GPSStatus: Measurement Void
- ICC-header
- ICC-meas
- ICC-view
- IFD0
- Make: LEICA CAMERA AG
- MakerNoteSafety: Safe
- Model: LEICA X (Typ 113)
- ModifyDate: 2019:04:25 21:50:45
- IFD1
- IPTC
- DateCreated: 2019:04:25
- Leica
- ExposureMode: Unknown (0 1 0 0)
- FileIndex: 366
- FilmMode: Standard *
- OriginalDirectory: 968LEICA
- OriginalFileName: L9680366.DNG
- WB_RGBLevels: 0,4238410596 1,001956947 0,6109785203
- System
- XMP-aux
- DistortionCorrectionAlreadyApplied: True
- LateralChromaticAberrationCorrectionAlreadyApplied: True
- Lens: 23.0 mm f/1.7
- XMP-crs
- AlreadyApplied: True
- AutoLateralCA: 1
- Blacks2012: -33
- BlueHue: 0
- BlueSaturation: 0
- CameraProfile: Embedded
- Clarity2012: 0
- ColorNoiseReduction: 25
- ColorNoiseReductionDetail: 50
- ColorNoiseReductionSmoothness: 50
- ColorTemperature: 4650
- Contrast2012: -56
- ConvertToGrayscale: False
- DefringeGreenAmount: 0
- DefringeGreenHueHi: 60
- DefringeGreenHueLo: 40
- DefringePurpleAmount: 0
- DefringePurpleHueHi: 70
- DefringePurpleHueLo: 30
- Dehaze: 0
- Exposure2012: -0.56
- GrainAmount: 0
- GreenHue: 0
- GreenSaturation: 0
- HasCrop: False
- HasSettings: True
- Highlights2012: -39
- HueAdjustmentAqua: -11
- HueAdjustmentBlue: -3
- HueAdjustmentGreen: +6
- HueAdjustmentMagenta: 0
- HueAdjustmentOrange: +3
- HueAdjustmentPurple: +1
- HueAdjustmentRed: +19
- HueAdjustmentYellow: 0
- LensManualDistortionAmount: 0
- LensProfileEnable: 1
- LensProfileSetup: LensDefaults
- LuminanceAdjustmentAqua: +19
- LuminanceAdjustmentBlue: +24
- LuminanceAdjustmentGreen: -2
- LuminanceAdjustmentMagenta: +4
- LuminanceAdjustmentOrange: 0
- LuminanceAdjustmentPurple: 0
- LuminanceAdjustmentRed: 0
- LuminanceAdjustmentYellow: -9
- LuminanceSmoothing: 0
- ParametricDarks: 0
- ParametricHighlightSplit: 75
- ParametricHighlights: -1
- ParametricLights: 0
- ParametricMidtoneSplit: 50
- ParametricShadowSplit: 25
- ParametricShadows: 0
- PerspectiveAspect: 0
- PerspectiveHorizontal: 0
- PerspectiveRotate: 0.0
- PerspectiveScale: 100
- PerspectiveUpright: 0
- PerspectiveVertical: 0
- PerspectiveX: 0.00
- PerspectiveY: 0.00
- PostCropVignetteAmount: 0
- ProcessVersion: 10.0
- RedHue: 0
- RedSaturation: 0
- Saturation: +10
- SaturationAdjustmentAqua: -5
- SaturationAdjustmentBlue: -1
- SaturationAdjustmentGreen: +6
- SaturationAdjustmentMagenta: -5
- SaturationAdjustmentOrange: +1
- SaturationAdjustmentPurple: -5
- SaturationAdjustmentRed: +1
- SaturationAdjustmentYellow: +4
- ShadowTint: 0
- Shadows2012: +5
- SharpenDetail: 25
- SharpenEdgeMasking: 0
- SharpenRadius: +1.0
- Sharpness: 25
- SplitToningBalance: 0
- SplitToningHighlightHue: 0
- SplitToningHighlightSaturation: 0
- SplitToningShadowHue: 0
- SplitToningShadowSaturation: 0
- Tint: +23
- ToneCurve: 0, 0, 255, 255
- ToneCurveBlue: 0, 0, 255, 255
- ToneCurveGreen: 0, 0, 255, 255
- ToneCurveName: Linear
- ToneCurveName2012: Linear
- ToneCurvePV2012: 0, 0, 255, 255
- ToneCurvePV2012Blue: 0, 0, 255, 255
- ToneCurvePV2012Green: 0, 0, 255, 255
- ToneCurvePV2012Red: 0, 0, 255, 255
- ToneCurveRed: 0, 0, 255, 255
- Version: 10.0
- Vibrance: +1
- VignetteAmount: 0
- WhiteBalance: Custom
- Whites2012: +35
- XMP-dc
- XMP-xmp
- ModifyDate: 2019:04:25 21:50:45+03:00
- XMP-xmpMM
- Просмотров: 154
- Рейтинг: голосов еще нет
- Отзывов: 0