- Раздел: Другое, разное
- Дата съёмки: неизвестно
- Дата загрузки фото: 13.05.2019 17:18
- Оригинальная фотография: 2128 x 1419 (2,0 Мб)
- Технические характеристики:
- Фотоаппарат: Canon EOS 5D
- Выдержка: 0,0
- Гиперфокальное расстояние: inf m
- Диафрагма: 6,3
- Светочувствительность: 200
- Фокусное расстояние: 28,0 mm (35 mm equivalent: 28,0 mm)
- Полный EXIF
- Adobe
- ColorTransform: YCbCr
- Composite
- Aperture: 6,3
- CircleOfConfusion: 0,030 mm
- FOV: 65,0 deg
- FocalLength35efl: 28,0 mm (35 mm equivalent: 28,0 mm)
- HyperfocalDistance: inf m
- LensID: Canon EF 28mm f/2.8
- Megapixels: 3,0
- ScaleFactor35efl: 1,0
- ShutterSpeed: 0,0
- ExifIFD
- ApertureValue: 5,7
- ColorSpace: Uncalibrated
- CreateDate: 2019:05:10 19:13:24
- CustomRendered: Normal
- DateTimeOriginal: 2019:05:10 19:13:24
- ExifImageHeight: 1419
- ExifImageWidth: 2128
- ExposureCompensation: 0
- ExposureMode: Auto
- ExposureProgram: Aperture-priority AE
- ExposureTime: 0,0
- FNumber: 6,3
- Flash: Off, Did not fire
- FocalLength: 28,0 mm
- ISO: 200
- LensInfo: 28mm f/?
- LensModel: EF28mm f/2.8
- MaxApertureValue: 2,8
- MeteringMode: Unknown
- SceneCaptureType: Standard
- SerialNumber: 930604573
- ShutterSpeedValue: 1/128
- WhiteBalance: Auto
- IFD0
- Make: Canon
- Model: Canon EOS 5D
- ModifyDate: 2019:05:13 18:57:52
- Orientation: Horizontal (normal)
- IFD1
- IPTC
- DateCreated: 2019:05:10
- System
- XMP-aux
- DistortionCorrectionAlreadyApplied: True
- Firmware: 1.1.1
- FlashCompensation: 0
- ImageNumber: 16
- LateralChromaticAberrationCorrectionAlreadyApplied: True
- Lens: EF28mm f/2.8
- LensID: 2
- VignetteCorrectionAlreadyApplied: True
- XMP-crs
- AlreadyApplied: True
- AutoLateralCA: 1
- Blacks2012: -30
- BlueHue: 0
- BlueSaturation: 0
- CameraProfile: Camera Standard
- Clarity2012: 0
- ColorNoiseReduction: 41
- ColorNoiseReductionDetail: 50
- ColorNoiseReductionSmoothness: 50
- ColorTemperature: 5100
- Contrast2012: -5
- ConvertToGrayscale: False
- DefringeGreenAmount: 0
- DefringeGreenHueHi: 60
- DefringeGreenHueLo: 40
- DefringePurpleAmount: 0
- DefringePurpleHueHi: 70
- DefringePurpleHueLo: 30
- Dehaze: 0
- Exposure2012: -0.40
- GrainAmount: 0
- GreenHue: 0
- GreenSaturation: 0
- HasCrop: False
- HasSettings: True
- Highlights2012: -70
- HueAdjustmentAqua: 0
- HueAdjustmentBlue: 0
- HueAdjustmentGreen: 0
- HueAdjustmentMagenta: 0
- HueAdjustmentOrange: 0
- HueAdjustmentPurple: 0
- HueAdjustmentRed: 0
- HueAdjustmentYellow: 0
- LensManualDistortionAmount: 0
- LensProfileChromaticAberrationScale: 100
- LensProfileDistortionScale: 100
- LensProfileEnable: 1
- LensProfileFilename: Canon EOS 5D Mark II (Canon EF 28mm f1.8 USM) - RAW.lcp
- LensProfileSetup: Custom
- LensProfileVignettingScale: 100
- LuminanceAdjustmentAqua: 0
- LuminanceAdjustmentBlue: 0
- LuminanceAdjustmentGreen: 0
- LuminanceAdjustmentMagenta: 0
- LuminanceAdjustmentOrange: 0
- LuminanceAdjustmentPurple: 0
- LuminanceAdjustmentRed: 0
- LuminanceAdjustmentYellow: 0
- LuminanceNoiseReductionContrast: 0
- LuminanceNoiseReductionDetail: 50
- LuminanceSmoothing: 17
- OverrideLookVignette: False
- ParametricDarks: 0
- ParametricHighlightSplit: 75
- ParametricHighlights: 0
- ParametricLights: 0
- ParametricMidtoneSplit: 50
- ParametricShadowSplit: 25
- ParametricShadows: 0
- PerspectiveAspect: 0
- PerspectiveHorizontal: 0
- PerspectiveRotate: 0.0
- PerspectiveScale: 100
- PerspectiveUpright: 0
- PerspectiveVertical: 0
- PerspectiveX: 0.00
- PerspectiveY: 0.00
- PostCropVignetteAmount: 0
- ProcessVersion: 11.0
- RawFileName: IMG_7858.CR2
- RedHue: 0
- RedSaturation: 0
- Saturation: -1
- SaturationAdjustmentAqua: 0
- SaturationAdjustmentBlue: 0
- SaturationAdjustmentGreen: 0
- SaturationAdjustmentMagenta: 0
- SaturationAdjustmentOrange: 0
- SaturationAdjustmentPurple: 0
- SaturationAdjustmentRed: 0
- SaturationAdjustmentYellow: 0
- ShadowTint: 0
- Shadows2012: +46
- SharpenDetail: 25
- SharpenEdgeMasking: 23
- SharpenRadius: +1.0
- Sharpness: 23
- SplitToningBalance: 0
- SplitToningHighlightHue: 0
- SplitToningHighlightSaturation: 0
- SplitToningShadowHue: 0
- SplitToningShadowSaturation: 0
- Tint: +5
- ToneCurve: 0, 0, 255, 255
- ToneCurveBlue: 0, 0, 255, 255
- ToneCurveGreen: 0, 0, 255, 255
- ToneCurveName: Linear
- ToneCurveName2012: Linear
- ToneCurvePV2012: 0, 0, 255, 255
- ToneCurvePV2012Blue: 0, 0, 255, 255
- ToneCurvePV2012Green: 0, 0, 255, 255
- ToneCurvePV2012Red: 0, 0, 255, 255
- ToneCurveRed: 0, 0, 255, 255
- ToneMapStrength: 0
- Version: 11.2
- Vibrance: -1
- VignetteAmount: 0
- WhiteBalance: As Shot
- Whites2012: +2
- XMP-dc
- XMP-exifEX
- XMP-xmp
- ModifyDate: 2019:05:13 18:57:52+05:00
- Rating: 0
- XMP-xmpMM
- Просмотров: 154
- Рейтинг: голосов еще нет
- Отзывов: 0