- Раздел: Другое, разное
- Дата съёмки: 27.12.2014 07:19
- Дата загрузки фото: 19.10.2019 21:21
- Оригинальная фотография: 3840 x 5760 (3,7 Мб)
- Технические характеристики:
- Фотоаппарат: Canon EOS 5D Mark III
- Выдержка: 0,0
- Гиперфокальное расстояние: inf m
- Диафрагма: 2,5
- Светочувствительность: 400
- Фокусное расстояние: 50,0 mm (35 mm equivalent: 50,0 mm)
- Полный EXIF
- Adobe
- ColorTransform: YCbCr
- Composite
- Aperture: 2,5
- CircleOfConfusion: 0,030 mm
- FOV: 39,0 deg
- FocalLength35efl: 50,0 mm (35 mm equivalent: 50,0 mm)
- HyperfocalDistance: inf m
- LensID: Canon EF 50mm f/1.4 USM or Zeiss Lens
- Megapixels: 22,1
- ScaleFactor35efl: 1,0
- ShutterSpeed: 0,0
- ExifIFD
- ApertureValue: 2,0
- ColorSpace: sRGB
- CreateDate: 2014:12:27 07:19:50
- CustomRendered: Normal
- DateTimeOriginal: 2014:12:27 07:19:50
- ExifImageHeight: 5760
- ExifImageWidth: 3840
- ExposureCompensation: 0
- ExposureMode: Manual
- ExposureProgram: Manual
- ExposureTime: 0,0
- FNumber: 2,5
- Flash: Off, Did not fire
- FocalLength: 50,0 mm
- ISO: 400
- LensInfo: 50mm f/?
- LensModel: EF50mm f/1.4 USM
- LensSerialNumber: 0000000000
- MaxApertureValue: 1,4
- MeteringMode: Multi-segment
- RecommendedExposureIndex: 400
- SceneCaptureType: Standard
- SensitivityType: Recommended Exposure Index
- SerialNumber: 083024016331
- ShutterSpeedValue: 1/64
- WhiteBalance: Manual
- ICC-header
- ICC-meas
- ICC-view
- IFD0
- Make: Canon
- Model: Canon EOS 5D Mark III
- ModifyDate: 2019:10:02 12:59:30
- Orientation: Horizontal (normal)
- IFD1
- IPTC
- DateCreated: 2014:12:27
- System
- XMP-aux
- Firmware: 1.3.3
- FlashCompensation: 0
- ImageNumber: 0
- Lens: EF50mm f/1.4 USM
- LensID: 198
- XMP-crs
- AlreadyApplied: True
- AutoLateralCA: 0
- AutoWhiteVersion: 134348800
- Blacks2012: -32
- BlueHue: 0
- BlueSaturation: 0
- CameraProfile: Camera Standard
- Clarity2012: 0
- ColorNoiseReduction: 25
- ColorNoiseReductionDetail: 50
- ColorNoiseReductionSmoothness: 50
- ColorTemperature: 6150
- Contrast2012: +23
- ConvertToGrayscale: False
- DefringeGreenAmount: 0
- DefringeGreenHueHi: 60
- DefringeGreenHueLo: 40
- DefringePurpleAmount: 0
- DefringePurpleHueHi: 70
- DefringePurpleHueLo: 30
- Exposure2012: 0.00
- GrainAmount: 0
- GreenHue: 0
- GreenSaturation: 0
- HasCrop: False
- HasSettings: True
- Highlights2012: -86
- HueAdjustmentAqua: 0
- HueAdjustmentBlue: 0
- HueAdjustmentGreen: 0
- HueAdjustmentMagenta: 0
- HueAdjustmentOrange: 0
- HueAdjustmentPurple: 0
- HueAdjustmentRed: 0
- HueAdjustmentYellow: 0
- LensManualDistortionAmount: 0
- LensProfileEnable: 0
- LensProfileSetup: LensDefaults
- LuminanceAdjustmentAqua: 0
- LuminanceAdjustmentBlue: 0
- LuminanceAdjustmentGreen: 0
- LuminanceAdjustmentMagenta: 0
- LuminanceAdjustmentOrange: 0
- LuminanceAdjustmentPurple: 0
- LuminanceAdjustmentRed: 0
- LuminanceAdjustmentYellow: 0
- LuminanceSmoothing: 0
- PaintCorrectionActive: true
- PaintCorrectionAmount: 1.000000
- PaintCorrectionBrightness: 0.000000
- PaintCorrectionClarity: 0.000000
- PaintCorrectionClarity2012: 0.000000
- PaintCorrectionContrast: 0.000000
- PaintCorrectionContrast2012: 0.020000
- PaintCorrectionDefringe: 0.490000
- PaintCorrectionExposure: 0.000000
- PaintCorrectionExposure2012: 0.087500
- PaintCorrectionHighlights2012: 0.000000
- PaintCorrectionHue: 0.000000
- PaintCorrectionLuminanceNoise: 0.000000
- PaintCorrectionMaskCenterWeight: 0.033437
- PaintCorrectionMaskFlow: 0.993464
- PaintCorrectionMaskRadius: 0.440521
- PaintCorrectionMaskValue: 0.940000
- PaintCorrectionMaskWhat: Mask/Paint
- PaintCorrectionMoire: 0.000000
- PaintCorrectionSaturation: 0.000000
- PaintCorrectionShadows2012: 0.590000
- PaintCorrectionSharpness: 0.420000
- PaintCorrectionTemperature: 0.130000
- PaintCorrectionTint: 0.000000
- PaintCorrectionWhat: Correction
- ParametricDarks: 0
- ParametricHighlightSplit: 75
- ParametricHighlights: 0
- ParametricLights: 0
- ParametricMidtoneSplit: 50
- ParametricShadowSplit: 25
- ParametricShadows: 0
- PerspectiveAspect: 0
- PerspectiveHorizontal: 0
- PerspectiveRotate: 0.0
- PerspectiveScale: 100
- PerspectiveUpright: 0
- PerspectiveVertical: 0
- PostCropVignetteAmount: 0
- ProcessVersion: 6.7
- RawFileName: 9D1B0140.CR2
- RedHue: 0
- RedSaturation: 0
- Saturation: 0
- SaturationAdjustmentAqua: 0
- SaturationAdjustmentBlue: 0
- SaturationAdjustmentGreen: 0
- SaturationAdjustmentMagenta: 0
- SaturationAdjustmentOrange: 0
- SaturationAdjustmentPurple: 0
- SaturationAdjustmentRed: 0
- SaturationAdjustmentYellow: 0
- ShadowTint: 0
- Shadows2012: -53
- SharpenDetail: 25
- SharpenEdgeMasking: 0
- SharpenRadius: +1.0
- Sharpness: 25
- SplitToningBalance: 0
- SplitToningHighlightHue: 0
- SplitToningHighlightSaturation: 0
- SplitToningShadowHue: 0
- SplitToningShadowSaturation: 0
- Tint: +5
- ToneCurve: 0, 0, 32, 22, 64, 56, 128, 128, 192, 196, 255, 255
- ToneCurveBlue: 0, 0, 255, 255
- ToneCurveGreen: 0, 0, 255, 255
- ToneCurveName: Medium Contrast
- ToneCurveName2012: Linear
- ToneCurvePV2012: 0, 0, 255, 255
- ToneCurvePV2012Blue: 0, 0, 255, 255
- ToneCurvePV2012Green: 0, 0, 255, 255
- ToneCurvePV2012Red: 0, 0, 255, 255
- ToneCurveRed: 0, 0, 255, 255
- Version: 8.4
- Vibrance: 0
- VignetteAmount: 0
- WhiteBalance: Custom
- Whites2012: 0
- XMP-dc
- XMP-xmp
- ModifyDate: 2019:10:02 12:59:30+05:00
- Rating: 0
- XMP-xmpMM
- Просмотров: 129
- Рейтинг: голосов еще нет
- Отзывов: отключены