- Раздел: Цветы
- Дата съёмки: 30.09.2007 13:37
- Дата загрузки фото: 30.09.2007 14:39
- Оригинальная фотография: 2816 x 2112 (1,8 Мб)
- Технические характеристики:
- Фотоаппарат: Canon PowerShotS3IS
- Выдержка: 1/160
- Диафрагма: 4,0
- Светочувствительность: 50
- Фокусное расстояние: 13,2mm
- Полный EXIF
- ColorTransform: YCbCr
- Composite
- Aperture: 4,0
- EV: 12,3
- FocalLength35efl: 13,2mm
- ShutterSpeed: 1/160
- ExifIFD
- ApertureValue: 4,0
- ColorSpace: Uncalibrated
- CreateDate: 2005:11:22 19:47:50
- DateTimeOriginal: 2005:11:22 19:47:50
- ExifImageLength: 2112
- ExifImageWidth: 2816
- ExposureCompensation: 0
- ExposureProgram: Shutter speed priority AE
- ExposureTime: 1/160
- FNumber: 4,0
- Flash: Fired
- FocalLength: 13,2mm
- ISO: 50
- MaxApertureValue: 4,2
- MeteringMode: Multi-segment
- ShutterSpeedValue: 1/160
- IFD0
- Make: Canon
- Model: Canon PowerShotS3IS
- ModifyDate: 2007:09:30 13:37:13
- Orientation: Horizontal (normal)
- TimeZoneOffset: 3 3
- IFD1
- IPTC
- XMP-aux
- Firmware: 1.01
- Lens: 5.8-20.7 mm
- LensInfo: 5,8125
- XMP-crs
- AlreadyApplied: True
- BlueHue: 0
- BlueSaturation: 0
- Brightness: +51
- CameraProfile: Embedded
- ChromaticAberrationB: 0
- ChromaticAberrationR: 0
- ColorNoiseReduction: 50
- Contrast: +24
- ConvertToGrayscale: False
- Exposure: 0.00
- FillLight: 0
- GreenHue: 0
- GreenSaturation: 0
- HasCrop: False
- HasSettings: True
- HighlightRecovery: 40
- HueAdjustmentAqua: 0
- HueAdjustmentBlue: 0
- HueAdjustmentGreen: 0
- HueAdjustmentMagenta: 0
- HueAdjustmentOrange: 0
- HueAdjustmentPurple: 0
- HueAdjustmentRed: 0
- HueAdjustmentYellow: 0
- LuminanceAdjustmentAqua: 0
- LuminanceAdjustmentBlue: 0
- LuminanceAdjustmentGreen: 0
- LuminanceAdjustmentMagenta: 0
- LuminanceAdjustmentOrange: 0
- LuminanceAdjustmentPurple: 0
- LuminanceAdjustmentRed: 0
- LuminanceAdjustmentYellow: 0
- LuminanceSmoothing: 55
- ParametricDarks: 0
- ParametricHighlightSplit: 75
- ParametricHighlights: 0
- ParametricLights: 0
- ParametricMidtoneSplit: 50
- ParametricShadowSplit: 25
- ParametricShadows: 0
- RawFileName: CRW_4080.DNG
- RedHue: 0
- RedSaturation: 0
- Saturation: 0
- SaturationAdjustmentAqua: 0
- SaturationAdjustmentBlue: 0
- SaturationAdjustmentGreen: 0
- SaturationAdjustmentMagenta: 0
- SaturationAdjustmentOrange: 0
- SaturationAdjustmentPurple: 0
- SaturationAdjustmentRed: 0
- SaturationAdjustmentYellow: 0
- ShadowTint: 0
- Shadows: 26
- Sharpness: 74
- SplitToningBalance: 0
- SplitToningHighlightHue: 0
- SplitToningHighlightSaturation: 0
- SplitToningShadowHue: 0
- SplitToningShadowSaturation: 0
- Temperature: 6500
- Tint: 0
- ToneCurve: 0, 0, 32, 22, 64, 56, 128, 128, 192, 196, 255, 255
- ToneCurveName: Medium Contrast
- Version: 4.0
- Vibrance: 0
- VignetteAmount: 0
- WhiteBalance: Custom
- XMP-dc
- XMP-exif
- ColorSpace: Unknown (-1)
- DateTimeDigitized: 2005:11:22 19:47:50+03:00
- DateTimeOriginal: 2005:11:22 19:47:50+03:00
- ExifImageHeight: 2112
- FlashFired: True
- FlashFunction: False
- FlashMode: Unknown
- FlashRedEyeMode: False
- FlashReturn: No return detection
- XMP-tiff
- ImageHeight: 2112
- ImageWidth: 2816
- XMP-xmp
- CreateDate: 2007:09:30 13:37:13+03:00
- ModifyDate: 2007:09:30 13:37:13+03:00
- XMP-xmpMM
- DerivedFrom:
- Просмотров: 532
- Рейтинг: голосов еще нет
- Отзывов: 0