- Раздел: Пейзаж
- Дата съёмки: неизвестно
- Дата загрузки фото: 22.11.2019 23:55
- Оригинальная фотография: 1620 x 1080 (721 Кб)
- Технические характеристики:
- Фотоаппарат: Sony DSC-RX100M4
- Выдержка: 0,0
- Гиперфокальное расстояние: inf m
- Диафрагма: 5,6
- Светочувствительность: 125
- Фокусное расстояние: 8,0 mm (35 mm equivalent: 24,0 mm)
- Полный EXIF
- Adobe
- ColorTransform: YCbCr
- Composite
- Aperture: 5,6
- CircleOfConfusion: 0,010 mm
- FOV: 73,0 deg
- FocalLength35efl: 8,0 mm (35 mm equivalent: 24,0 mm)
- HyperfocalDistance: inf m
- Megapixels: 1,7
- ScaleFactor35efl: 3,0
- ShutterSpeed: 0,0
- ExifIFD
- ApertureValue: 4,0
- BrightnessValue: 8,6578125
- ColorSpace: sRGB
- Contrast: Normal
- CreateDate: 2019:07:09 10:23:29
- CustomRendered: Normal
- DateTimeOriginal: 2019:07:09 10:23:29
- DigitalZoomRatio: 1
- ExifImageHeight: 1080
- ExifImageWidth: 1620
- ExposureCompensation: 0
- ExposureMode: Auto
- ExposureProgram: Aperture-priority AE
- ExposureTime: 0,0
- FNumber: 5,6
- Flash: Off, Did not fire
- FocalLength: 8,0 mm
- FocalLengthIn35mmFormat: 24 mm
- ISO: 125
- LensInfo: 8.8-25.7mm f/1.8-2.8
- LensModel: 24-70mm F1.8-2.8
- LightSource: Unknown
- MaxApertureValue: 1,4
- MeteringMode: Multi-segment
- RecommendedExposureIndex: 125
- Saturation: Normal
- SceneCaptureType: Standard
- SceneType: Directly photographed
- SensitivityType: Recommended Exposure Index
- Sharpness: Normal
- ShutterSpeedValue: 1/128
- WhiteBalance: Auto
- ICC-header
- ICC-meas
- ICC-view
- IFD0
- Copyright: A.I.Khodak
- Make: SONY
- Model: DSC-RX100M4
- ModifyDate: 2019:11:04 20:13:51
- Orientation: Horizontal (normal)
- IFD1
- IPTC
- CopyrightNotice: A.I.Khodak
- DateCreated: 2019:07:09
- System
- XMP-aux
- DistortionCorrectionAlreadyApplied: True
- LateralChromaticAberrationCorrectionAlreadyApplied: True
- Lens: 24-70mm F1.8-2.8
- LensDistortInfo: 35336/32768 -322647567/1073741824 175139330/1073741824 -49573325/1073741824
- XMP-crs
- AlreadyApplied: True
- AutoLateralCA: 0
- Blacks2012: 0
- BlueHue: 0
- BlueSaturation: 0
- Brightness: 0
- CameraProfile: Embedded
- Clarity: 0
- Clarity2012: 0
- ColorNoiseReduction: 0
- Contrast: 0
- Contrast2012: 0
- ConvertToGrayscale: False
- Defringe: 0
- Exposure: 0.00
- Exposure2012: 0.00
- FillLight: 7
- GrainAmount: 0
- GreenHue: 0
- GreenSaturation: 0
- HasCrop: False
- HasSettings: True
- HighlightRecovery: 28
- Highlights2012: 0
- HueAdjustmentAqua: 0
- HueAdjustmentBlue: 0
- HueAdjustmentGreen: 0
- HueAdjustmentMagenta: 0
- HueAdjustmentOrange: 0
- HueAdjustmentPurple: 0
- HueAdjustmentRed: 0
- HueAdjustmentYellow: 0
- IncrementalTemperature: -6
- IncrementalTint: -3
- LensManualDistortionAmount: 0
- LensProfileEnable: 0
- LensProfileSetup: LensDefaults
- LuminanceAdjustmentAqua: 0
- LuminanceAdjustmentBlue: 0
- LuminanceAdjustmentGreen: 0
- LuminanceAdjustmentMagenta: 0
- LuminanceAdjustmentOrange: 0
- LuminanceAdjustmentPurple: 0
- LuminanceAdjustmentRed: 0
- LuminanceAdjustmentYellow: 0
- LuminanceSmoothing: 0
- ParametricDarks: 0
- ParametricHighlightSplit: 75
- ParametricHighlights: 0
- ParametricLights: 0
- ParametricMidtoneSplit: 50
- ParametricShadowSplit: 25
- ParametricShadows: 0
- PerspectiveHorizontal: 0
- PerspectiveRotate: 0.0
- PerspectiveScale: 100
- PerspectiveVertical: 0
- PostCropVignetteAmount: 0
- ProcessVersion: 5.7
- RawFileName: _DSC2613.TIF
- RedHue: 0
- RedSaturation: 0
- Saturation: 0
- SaturationAdjustmentAqua: 0
- SaturationAdjustmentBlue: 0
- SaturationAdjustmentGreen: 0
- SaturationAdjustmentMagenta: 0
- SaturationAdjustmentOrange: 0
- SaturationAdjustmentPurple: 0
- SaturationAdjustmentRed: 0
- SaturationAdjustmentYellow: 0
- ShadowTint: 0
- Shadows: 0
- Shadows2012: 0
- SharpenDetail: 25
- SharpenEdgeMasking: 0
- SharpenRadius: +1.0
- Sharpness: 0
- SplitToningBalance: 0
- SplitToningHighlightHue: 0
- SplitToningHighlightSaturation: 0
- SplitToningShadowHue: 0
- SplitToningShadowSaturation: 0
- ToneCurve: 0, 0, 255, 255
- ToneCurveBlue: 0, 0, 255, 255
- ToneCurveGreen: 0, 0, 255, 255
- ToneCurveName: Linear
- ToneCurveName2012: Linear
- ToneCurvePV2012: 0, 0, 255, 255
- ToneCurvePV2012Blue: 0, 0, 255, 255
- ToneCurvePV2012Green: 0, 0, 255, 255
- ToneCurvePV2012Red: 0, 0, 255, 255
- ToneCurveRed: 0, 0, 255, 255
- Version: 6.7
- Vibrance: 0
- VignetteAmount: 0
- WhiteBalance: Custom
- Whites2012: 0
- XMP-dc
- Format: image/jpeg
- Rights: A.I.Khodak
- XMP-exifEX
- XMP-xmp
- ModifyDate: 2019:11:04 20:13:51+03:00
- Rating: 4
- XMP-xmpMM
- Просмотров: 565
- Рейтинг: голосов еще нет
- Отзывов: 0