200429_0079.jpg
Банка фарфор LUXE (с птицами) для табака CANON 90D Canon EF 24-105
Банка фарфор LUXE (с птицами) для табака с силиконовым уплотнителем объем 500 г. №2 новая 45020
Вес - 555 гр, габариты – 107х157 мм, внутренний диаметр 78 мм, глубина 124 мм
Камера CANON EOS 90D Объектив Canon EF 24-105 mm f/4L IS USM
Безмолвие души Владимир LUMIERE
Автор ролика и слов песни pointalex
https://www.youtube.com/watch?v=sWQmD2BHr58
https://ok.ru/video/2809448106640
https://ok.ru/video/2809447844496
https://vk.com/video4174885_456241002
https://www.facebook.com/Alexander.pointalex/videos/3647933781899787/
***
Безмолвие ума... Безмолвие души...
Безмолвия дурман, нас держащий в глуши.
Нас кто загнал сюда за первородный грех,
Который навсегда, как Бог, - один на всех.
Прозрачной пеленой укутал нас туман,
Отгородив стеной пытливого ума
От истины во тьме открывшейся в ночи,
И мы о ней весь день безудержно молчим.
Но наступает ночь, и как стена огня,
Уходит ясность прочь, скрываясь в сумрак дня.
И от слепящей тьмы, до боли сжав сердца,
Мы молим о судьбе Единого Отца...
Безмолвие ума...Безмолвие души...
Который дал нам Бог навек один на всех.
Понедельник-Среда, 24-26 мая 1993 г.
http://www.stihi.ru/2010/05/12/5517
#стихи #pointalex #видео
https://www.avito.ru/sankt-peterburg/kollektsionirovanie/banka_farfor_luxe_s_ptitsami_dlya_tabaka_1916172082
- Раздел: Работа
- Дата съёмки: неизвестно
- Дата загрузки фото: 02.05.2020 04:02
- Оригинальная фотография: 4111 x 4477 (9,6 Мб)
- Технические характеристики:
- Фотоаппарат: Canon EOS 90D
- Выдержка: 0,0
- Гиперфокальное расстояние: inf m
- Диафрагма: 8,0
- Светочувствительность: 200
- Фокусное расстояние: 40,0 mm (35 mm equivalent: 80,0 mm)
- Полный EXIF
- Adobe
- ColorTransform: YCbCr
- Composite
- Aperture: 8,0
- CircleOfConfusion: 0,014 mm
- FOV: 25,0 deg
- FocalLength35efl: 40,0 mm (35 mm equivalent: 80,0 mm)
- HyperfocalDistance: inf m
- LensID: Canon EF 24-105mm f/4L IS
- Megapixels: 18,4
- ScaleFactor35efl: 2,2
- ShutterSpeed: 0,0
- ExifIFD
- ApertureValue: 8,0
- CreateDate: 2020:04:29 20:09:25
- CustomRendered: Normal
- DateTimeOriginal: 2020:04:29 20:09:25
- ExposureCompensation: 0
- ExposureMode: Auto
- ExposureProgram: Aperture-priority AE
- ExposureTime: 0,0
- FNumber: 8,0
- Flash: No Flash
- FocalLength: 40,0 mm
- ISO: 200
- LensInfo: 24-105mm f/?
- LensModel: EF24-105mm f/4L IS USM
- LensSerialNumber: 0000ffffff
- MaxApertureValue: 4,0
- MeteringMode: Multi-segment
- RecommendedExposureIndex: 200
- SceneCaptureType: Standard
- SensitivityType: Recommended Exposure Index
- SerialNumber: 068051000509
- ShutterSpeedValue: 1/64
- WhiteBalance: Auto
- ICC-header
- IFD0
- Make: Canon
- Model: Canon EOS 90D
- ModifyDate: 2020:04:29 23:13:59
- IFD1
- IPTC
- DateCreated: 2020:04:29
- System
- XMP-aux
- ApproximateFocusDistance: 0,6
- Firmware: 1.1.1
- FlashCompensation: 0
- ImageNumber: 0
- Lens: EF24-105mm f/4L IS USM
- LensID: 237
- XMP-crd
- CameraProfile: Camera Auto
- LookName:
- XMP-crs
- AlreadyApplied: True
- AutoLateralCA: 0
- Blacks2012: -20
- BlueHue: 0
- BlueSaturation: 0
- Clarity2012: 0
- ColorNoiseReduction: 25
- ColorNoiseReductionDetail: 50
- ColorTemperature: 5450
- Contrast2012: -25
- ConvertToGrayscale: False
- CropAngle: 0
- CropBottom: 1
- CropConstrainToWarp: 1
- CropLeft: 0.147996
- CropRight: 0.738699
- CropTop: 0.035054
- DefringeGreenAmount: 0
- DefringeGreenHueHi: 60
- DefringeGreenHueLo: 40
- DefringePurpleAmount: 0
- DefringePurpleHueHi: 70
- DefringePurpleHueLo: 30
- Exposure2012: +0.25
- GrainAmount: 0
- GreenHue: 0
- GreenSaturation: 0
- HasCrop: True
- HasSettings: True
- Highlights2012: -17
- HueAdjustmentAqua: 0
- HueAdjustmentBlue: 0
- HueAdjustmentGreen: 0
- HueAdjustmentMagenta: 0
- HueAdjustmentOrange: 0
- HueAdjustmentPurple: 0
- HueAdjustmentRed: 0
- HueAdjustmentYellow: 0
- LensManualDistortionAmount: 0
- LensProfileEnable: 0
- LensProfileSetup: LensDefaults
- LuminanceAdjustmentAqua: 0
- LuminanceAdjustmentBlue: 0
- LuminanceAdjustmentGreen: 0
- LuminanceAdjustmentMagenta: 0
- LuminanceAdjustmentOrange: 0
- LuminanceAdjustmentPurple: 0
- LuminanceAdjustmentRed: 0
- LuminanceAdjustmentYellow: 0
- LuminanceSmoothing: 0
- ParametricDarks: 0
- ParametricHighlightSplit: 75
- ParametricHighlights: 0
- ParametricLights: 0
- ParametricMidtoneSplit: 50
- ParametricShadowSplit: 25
- ParametricShadows: 0
- PerspectiveAspect: 0
- PerspectiveHorizontal: 0
- PerspectiveRotate: 0.0
- PerspectiveScale: 100
- PerspectiveUpright: 0
- PerspectiveVertical: 0
- PostCropVignetteAmount: 0
- ProcessVersion: 6.7
- RawFileName: IMG_0079.dng
- RedHue: 0
- RedSaturation: 0
- Saturation: 0
- SaturationAdjustmentAqua: 0
- SaturationAdjustmentBlue: 0
- SaturationAdjustmentGreen: 0
- SaturationAdjustmentMagenta: 0
- SaturationAdjustmentOrange: 0
- SaturationAdjustmentPurple: 0
- SaturationAdjustmentRed: 0
- SaturationAdjustmentYellow: 0
- ShadowTint: 0
- Shadows2012: +17
- SharpenDetail: 25
- SharpenEdgeMasking: 0
- SharpenRadius: +1.0
- Sharpness: 25
- SplitToningBalance: 0
- SplitToningHighlightHue: 0
- SplitToningHighlightSaturation: 0
- SplitToningShadowHue: 0
- SplitToningShadowSaturation: 0
- Tint: +18
- ToneCurveName2012: Linear
- ToneCurvePV2012: 0, 0, 255, 255
- ToneCurvePV2012Blue: 0, 0, 255, 255
- ToneCurvePV2012Green: 0, 0, 255, 255
- ToneCurvePV2012Red: 0, 0, 255, 255
- Version: 8.1
- Vibrance: 0
- VignetteAmount: 0
- WhiteBalance: As Shot
- Whites2012: +43
- XMP-dc
- XMP-exifEX
- XMP-xmp
- CreateDate: 2020:04:29 20:09:25.71+03:00
- ModifyDate: 2020:04:29 23:13:59+03:00
- XMP-xmpMM
- Просмотров: 495
- Рейтинг: голосов еще нет
- Отзывов: 0
Получить код для блога
Вставка фотографии в текущем разрешении |
Вставка миниатюры |
HTML (для вставки в блог):
BBCode (для вставки в форум):
Ссылка на фото:
Ссылка на миниатюру:
- Послать ссылку другу
Комментарии к фотографии |