- Раздел: Другое, разное
- Дата съёмки: неизвестно
- Дата загрузки фото: 11.05.2020 00:38
- Оригинальная фотография: 3850 x 2888 (7,9 Мб)
- Технические характеристики:
- Фотоаппарат: Samsung SM-G930F
- Выдержка: 0,0
- Гиперфокальное расстояние: inf m
- Диафрагма: 1,7
- Светочувствительность: 250
- Фокусное расстояние: 4,0 mm (35 mm equivalent: 24,0 mm)
- Полный EXIF
- Adobe
- ColorTransform: YCbCr
- Composite
- Aperture: 1,7
- CircleOfConfusion: 0,005 mm
- FOV: 73,0 deg
- FocalLength35efl: 4,0 mm (35 mm equivalent: 24,0 mm)
- GPSAltitude: 180 m Above Sea Level
- GPSDateTime: 2020:05:10 17:35:28Z
- GPSLatitude: 55 deg 45' 16,00" N
- GPSLongitude: 37 deg 55' 33,00" E
- GPSPosition: 55 deg 45' 16,00" N, 37 deg 55' 33,00" E
- HyperfocalDistance: inf m
- Megapixels: 11,1
- ScaleFactor35efl: 6,5
- ShutterSpeed: 0,0
- ExifIFD
- ApertureValue: 1,4
- BrightnessValue: -1
- ColorSpace: sRGB
- CreateDate: 2020:05:10 20:35:30
- DateTimeOriginal: 2020:05:10 20:35:30
- ExposureCompensation: 0
- ExposureMode: Auto
- ExposureProgram: Program AE
- ExposureTime: 0,0
- FNumber: 1,7
- Flash: No Flash
- FocalLength: 4,0 mm
- FocalLengthIn35mmFormat: 26 mm
- ISO: 250
- LensModel: Samsung Galaxy S7 Rear Camera
- MaxApertureValue: 1,4
- MeteringMode: Spot
- SceneCaptureType: Standard
- ShutterSpeedValue: 1/8
- WhiteBalance: Auto
- GPS
- GPSAltitude: 180 m
- GPSAltitudeRef: Above Sea Level
- GPSDateStamp: 2020:05:10
- GPSLatitude: 55 deg 45' 16,00"
- GPSLatitudeRef: North
- GPSLongitude: 37 deg 55' 33,00"
- GPSLongitudeRef: East
- GPSTimeStamp: 17:35:28
- GPSVersionID: 2.2.0.0
- ICC-header
- ICC-meas
- ICC-view
- IFD0
- Make: samsung
- Model: SM-G930F
- ModifyDate: 2020:05:10 23:49:22
- IFD1
- IPTC
- DateCreated: 2020:05:10
- System
- XMP-aux
- DistortionCorrectionAlreadyApplied: True
- LateralChromaticAberrationCorrectionAlreadyApplied: True
- Lens: Samsung Galaxy S7 Rear Camera
- XMP-crs
- AlreadyApplied: True
- AutoLateralCA: 1
- Blacks2012: 0
- BlueHue: 0
- BlueSaturation: 0
- CameraProfile: Embedded
- Clarity2012: 0
- ColorNoiseReduction: 0
- Contrast2012: 0
- ConvertToGrayscale: False
- CropAngle: 2.05405
- CropBottom: 1
- CropConstrainToWarp: 0
- CropLeft: 0.035655
- CropRight: 0.964345
- CropTop: 0
- DefringeGreenAmount: 0
- DefringeGreenHueHi: 60
- DefringeGreenHueLo: 40
- DefringePurpleAmount: 0
- DefringePurpleHueHi: 70
- DefringePurpleHueLo: 30
- Dehaze: 0
- Exposure2012: +0.12
- GrainAmount: 0
- GreenHue: 0
- GreenSaturation: 0
- HasCrop: True
- HasSettings: True
- Highlights2012: 0
- HueAdjustmentAqua: 0
- HueAdjustmentBlue: 0
- HueAdjustmentGreen: 0
- HueAdjustmentMagenta: 0
- HueAdjustmentOrange: 0
- HueAdjustmentPurple: 0
- HueAdjustmentRed: 0
- HueAdjustmentYellow: 0
- IncrementalTemperature: 0
- IncrementalTint: 0
- LensManualDistortionAmount: 0
- LensProfileChromaticAberrationScale: 100
- LensProfileDistortionScale: 100
- LensProfileEnable: 1
- LensProfileFilename: Samsung Galaxy S7 Rear Camera.lcp
- LensProfileSetup: LensDefaults
- LensProfileVignettingScale: 100
- LuminanceAdjustmentAqua: 0
- LuminanceAdjustmentBlue: 0
- LuminanceAdjustmentGreen: 0
- LuminanceAdjustmentMagenta: 0
- LuminanceAdjustmentOrange: 0
- LuminanceAdjustmentPurple: 0
- LuminanceAdjustmentRed: 0
- LuminanceAdjustmentYellow: 0
- LuminanceSmoothing: 0
- ParametricDarks: 0
- ParametricHighlightSplit: 75
- ParametricHighlights: 0
- ParametricLights: 0
- ParametricMidtoneSplit: 50
- ParametricShadowSplit: 25
- ParametricShadows: 0
- PerspectiveAspect: 0
- PerspectiveHorizontal: 0
- PerspectiveRotate: 0.0
- PerspectiveScale: 100
- PerspectiveUpright: 0
- PerspectiveVertical: 0
- PerspectiveX: 0.00
- PerspectiveY: 0.00
- PostCropVignetteAmount: -21
- PostCropVignetteFeather: 50
- PostCropVignetteHighlightContrast: 0
- PostCropVignetteMidpoint: 50
- PostCropVignetteRoundness: 0
- PostCropVignetteStyle: 1
- ProcessVersion: 10.0
- RedHue: 0
- RedSaturation: 0
- Saturation: 0
- SaturationAdjustmentAqua: 0
- SaturationAdjustmentBlue: 0
- SaturationAdjustmentGreen: 0
- SaturationAdjustmentMagenta: 0
- SaturationAdjustmentOrange: 0
- SaturationAdjustmentPurple: 0
- SaturationAdjustmentRed: 0
- SaturationAdjustmentYellow: 0
- ShadowTint: 0
- Shadows2012: +74
- SharpenDetail: 25
- SharpenEdgeMasking: 0
- SharpenRadius: +1.0
- Sharpness: 18
- SplitToningBalance: 0
- SplitToningHighlightHue: 0
- SplitToningHighlightSaturation: 0
- SplitToningShadowHue: 0
- SplitToningShadowSaturation: 0
- ToneCurve: 0, 0, 255, 255
- ToneCurveBlue: 0, 0, 255, 255
- ToneCurveGreen: 0, 0, 255, 255
- ToneCurveName: Linear
- ToneCurveName2012: Linear
- ToneCurvePV2012: 0, 0, 255, 255
- ToneCurvePV2012Blue: 0, 0, 255, 255
- ToneCurvePV2012Green: 0, 0, 255, 255
- ToneCurvePV2012Red: 0, 0, 255, 255
- ToneCurveRed: 0, 0, 255, 255
- Version: 10.0
- Vibrance: 0
- VignetteAmount: 0
- WhiteBalance: As Shot
- Whites2012: 0
- XMP-dc
- XMP-xmp
- CreateDate: 2020:05:10 20:35:30.0000
- ModifyDate: 2020:05:10 23:49:22+03:00
- XMP-xmpMM
- Просмотров: 78
- Рейтинг: голосов еще нет
- Отзывов: отключены