- Раздел: Тесты фототехники
- Дата съёмки: неизвестно
- Дата загрузки фото: 16.08.2020 02:36
- Оригинальная фотография: 1920 x 1440 (1,2 Мб)
- Технические характеристики:
- Фотоаппарат: Olympus E-M1MarkII
- Выдержка: 0,0
- Гиперфокальное расстояние: inf m
- Диафрагма: 5,6
- Светочувствительность: 200
- Фокусное расстояние: 31,0 mm (35 mm equivalent: 62,0 mm)
- Полный EXIF
- Composite
- Aperture: 5,6
- CircleOfConfusion: 0,015 mm
- FOV: 32,0 deg
- FocalLength35efl: 31,0 mm (35 mm equivalent: 62,0 mm)
- HyperfocalDistance: inf m
- Megapixels: 2,8
- ScaleFactor35efl: 2,0
- ShutterSpeed: 0,0
- ExifIFD
- ApertureValue: 4,0
- CFAPattern: [Red,Green][Green,Blue]
- ColorSpace: sRGB
- Contrast: Normal
- CreateDate: 2020:04:15 18:07:55
- CustomRendered: Normal
- DateTimeOriginal: 2020:04:15 18:07:55
- DigitalZoomRatio: 1
- ExposureCompensation: 0
- ExposureMode: Auto
- ExposureProgram: Program AE
- ExposureTime: 0,0
- FNumber: 5,6
- Flash: On, Did not fire
- FocalLength: 31,0 mm
- FocalLengthIn35mmFormat: 62 mm
- GainControl: None
- ISO: 200
- LensInfo: 12-100mm f/4
- LensModel: OLYMPUS M.12-100mm F4.0
- LensSerialNumber: ACC203548
- LightSource: Unknown
- MaxApertureValue: 4,0
- MeteringMode: Center-weighted average
- Saturation: Normal
- SceneCaptureType: Standard
- SensitivityType: Standard Output Sensitivity
- SerialNumber: BHUA27681
- Sharpness: Normal
- ShutterSpeedValue: 1/64
- WhiteBalance: Auto
- IFD0
- Artist: Andrey Menshikov;+1(215)909-1743;DAYMEN@GMAIL.COM
- Copyright: Andrey Menshikov (C)2020
- ImageDescription: OLYMPUS DIGITAL CAMERA
- Make: OLYMPUS CORPORATION
- Model: E-M1MarkII
- ModifyDate: 2020:05:04 02:45:26
- IFD1
- IPTC
- By-line: Andrey Menshikov;+1(215)909-1743
- Caption-Abstract: OLYMPUS DIGITAL CAMERA
- CopyrightNotice: Andrey Menshikov (C)2020
- DateCreated: 2020:04:15
- System
- XMP-aux
- DistortionCorrectionAlreadyApplied: True
- FlashCompensation: 0
- LateralChromaticAberrationCorrectionAlreadyApplied: True
- Lens: OLYMPUS M.12-100mm F4.0
- XMP-crs
- AlreadyApplied: True
- AutoLateralCA: 0
- Blacks2012: -22
- BlueHue: 0
- BlueSaturation: 0
- Clarity2012: +12
- ColorNoiseReduction: 25
- ColorNoiseReductionDetail: 50
- ColorNoiseReductionSmoothness: 50
- ColorTemperature: 6900
- Contrast2012: +7
- ConvertToGrayscale: False
- CropAngle: 0
- CropBottom: 0.903312
- CropConstrainToWarp: 0
- CropLeft: 0.065567
- CropRight: 0.906627
- CropTop: 0.062252
- DefringeGreenAmount: 0
- DefringeGreenHueHi: 60
- DefringeGreenHueLo: 40
- DefringePurpleAmount: 0
- DefringePurpleHueHi: 70
- DefringePurpleHueLo: 30
- Dehaze: 0
- Exposure2012: -0.12
- GrainAmount: 0
- GreenHue: 0
- GreenSaturation: 0
- HasCrop: True
- HasSettings: True
- Highlights2012: -62
- HueAdjustmentAqua: 0
- HueAdjustmentBlue: 0
- HueAdjustmentGreen: 0
- HueAdjustmentMagenta: 0
- HueAdjustmentOrange: 0
- HueAdjustmentPurple: 0
- HueAdjustmentRed: 0
- HueAdjustmentYellow: 0
- LensManualDistortionAmount: 0
- LensProfileEnable: 0
- LensProfileSetup: LensDefaults
- LookAmount: 1.000000
- LookGroup: Profiles
- LookParametersConvertToGrayscale: False
- LookParametersLookTable: E1095149FDB39D7A057BAB208837E2E1
- LookParametersProcessVersion: 11.0
- LookParametersToneCurvePV2012: 0, 0, 22, 16, 40, 35, 127, 127, 224, 230, 240, 246, 255, 255
- LookParametersToneCurvePV2012Blue: 0, 0, 255, 255
- LookParametersToneCurvePV2012Green: 0, 0, 255, 255
- LookParametersToneCurvePV2012Red: 0, 0, 255, 255
- LookParametersVersion: 12.2
- LookSupportsAmount: false
- LookSupportsMonochrome: false
- LookSupportsOutputReferred: false
- LuminanceAdjustmentAqua: 0
- LuminanceAdjustmentBlue: 0
- LuminanceAdjustmentGreen: 0
- LuminanceAdjustmentMagenta: 0
- LuminanceAdjustmentOrange: 0
- LuminanceAdjustmentPurple: 0
- LuminanceAdjustmentRed: 0
- LuminanceAdjustmentYellow: 0
- LuminanceSmoothing: 0
- OverrideLookVignette: False
- ParametricDarks: 0
- ParametricHighlightSplit: 75
- ParametricHighlights: 0
- ParametricLights: 0
- ParametricMidtoneSplit: 50
- ParametricShadowSplit: 25
- ParametricShadows: 0
- PerspectiveAspect: 0
- PerspectiveHorizontal: 0
- PerspectiveRotate: 0.0
- PerspectiveScale: 100
- PerspectiveUpright: 0
- PerspectiveVertical: 0
- PerspectiveX: 0.00
- PerspectiveY: 0.00
- PostCropVignetteAmount: 0
- ProcessVersion: 11.0
- RawFileName: P4153324.ORF
- RedHue: 0
- RedSaturation: 0
- Saturation: -3
- SaturationAdjustmentAqua: 0
- SaturationAdjustmentBlue: 0
- SaturationAdjustmentGreen: 0
- SaturationAdjustmentMagenta: 0
- SaturationAdjustmentOrange: 0
- SaturationAdjustmentPurple: 0
- SaturationAdjustmentRed: 0
- SaturationAdjustmentYellow: 0
- ShadowTint: 0
- Shadows2012: +43
- SharpenDetail: 25
- SharpenEdgeMasking: 0
- SharpenRadius: +1.0
- Sharpness: 40
- SplitToningBalance: 0
- SplitToningHighlightHue: 0
- SplitToningHighlightSaturation: 0
- SplitToningShadowHue: 0
- SplitToningShadowSaturation: 0
- Texture: 0
- Tint: +14
- ToneCurve: 0, 0, 255, 255
- ToneCurveBlue: 0, 0, 255, 255
- ToneCurveGreen: 0, 0, 255, 255
- ToneCurveName: Linear
- ToneCurveName2012: Linear
- ToneCurvePV2012: 0, 0, 255, 255
- ToneCurvePV2012Blue: 0, 0, 255, 255
- ToneCurvePV2012Green: 0, 0, 255, 255
- ToneCurvePV2012Red: 0, 0, 255, 255
- ToneCurveRed: 0, 0, 255, 255
- ToneMapStrength: 0
- Version: 12.2
- Vibrance: +15
- VignetteAmount: 0
- WhiteBalance: As Shot
- Whites2012: +11
- XMP-dc
- Creator: Andrey Menshikov;+1(215)909-1743;DAYMEN@GMAIL.COM
- Description: OLYMPUS DIGITAL CAMERA
- Format: image/jpeg
- Rights: Andrey Menshikov (C)2020
- XMP-exifEX
- XMP-xmp
- ModifyDate: 2020:05:04 02:45:26-04:00
- XMP-xmpMM
- PreservedFileName: P4153324.ORF
- Просмотров: 163
- Рейтинг: голосов еще нет
- Отзывов: 0