- Раздел: Отдых, развлечения
- Дата съёмки: 29.04.2013 14:24
- Дата загрузки фото: 14.02.2021 03:27
- Оригинальная фотография: 3747 x 2400 (1,4 Мб)
- Технические характеристики:
- Фотоаппарат: Nikon D90
- Выдержка: 0,0
- Диафрагма: 13,0
- Светочувствительность: 400, 400
- Фокусное расстояние: 30,0 mm
- Полный EXIF
- Composite
- Aperture: 13,0
- FocalLength35efl: 30,0 mm
- LensID: AF-S DX VR Zoom-Nikkor 18-105mm f/3.5-5.6G ED
- Megapixels: 9,0
- ShutterSpeed: 0,0
- ExifIFD
- ApertureValue: 11,3
- BrightnessValue: 0
- ColorSpace: Unknown (0)
- CompressedBitsPerPixel: 0
- CreateDate: 2013:04:29 14:24:47
- DateTimeOriginal: 2013:04:29 14:24:47
- ExifImageHeight: 0
- ExifImageWidth: 0
- ExposureCompensation: 0
- ExposureIndex: 0
- ExposureProgram: Manual
- ExposureTime: 0,0
- FNumber: 13,0
- Flash: On, Return detected
- FocalLength: 30,0 mm
- ISO: 400, 400
- LightSource: Unknown
- MaxApertureValue: 4,0
- MeteringMode: Center-weighted average
- SceneType: Directly photographed
- SensingMethod: One-chip color area
- ShutterSpeedValue: 1/64
- SubjectDistance: 0 m
- ICC-header
- ICC-meas
- ICC-view
- IFD0
- Make: NIKON CORPORATION
- Model: NIKON D90
- ModifyDate: 2013:05:31 19:12:24
- Orientation: Horizontal (normal)
- PrimaryChromaticities: 0 0 0 0 0 0
- ReferenceBlackWhite: 0 0 0 0 0 0
- WhitePoint: 0 0
- IPTC
- DateCreated: 2013:04:29
- System
- XMP-aux
- ApproximateFocusDistance: 4294967295
- ImageNumber: 23950
- Lens: 18.0-105.0 mm f/3.5-5.6
- LensID: 158
- LensInfo: 18-105mm f/3.5-5.6
- SerialNumber: 6756415
- XMP-crs
- AlreadyApplied: True
- AutoLateralCA: 0
- Blacks2012: 0
- BlueHue: 0
- BlueSaturation: 0
- Clarity2012: +30
- ColorNoiseReduction: 25
- ColorNoiseReductionDetail: 50
- ColorTemperature: 5391
- Contrast2012: 0
- ConvertToGrayscale: False
- CropAngle: 2.228
- CropBottom: 0.997802
- CropConstrainToWarp: 0
- CropHeight: 2400
- CropLeft: 0.071322
- CropRight: 0.922613
- CropTop: 0.104747
- CropUnit: pixels
- CropWidth: 3747
- DefringeGreenAmount: 0
- DefringeGreenHueHi: 60
- DefringeGreenHueLo: 40
- DefringePurpleAmount: 0
- DefringePurpleHueHi: 70
- DefringePurpleHueLo: 30
- Exposure2012: 0.00
- GrainAmount: 0
- GreenHue: 0
- GreenSaturation: 0
- HasCrop: True
- HasSettings: True
- Highlights2012: -70
- HueAdjustmentAqua: 0
- HueAdjustmentBlue: 0
- HueAdjustmentGreen: 0
- HueAdjustmentMagenta: 0
- HueAdjustmentOrange: 0
- HueAdjustmentPurple: 0
- HueAdjustmentRed: 0
- HueAdjustmentYellow: 0
- LensManualDistortionAmount: 0
- LensProfileEnable: 0
- LensProfileSetup: LensDefaults
- LuminanceAdjustmentAqua: 0
- LuminanceAdjustmentBlue: 0
- LuminanceAdjustmentGreen: 0
- LuminanceAdjustmentMagenta: 0
- LuminanceAdjustmentOrange: 0
- LuminanceAdjustmentPurple: 0
- LuminanceAdjustmentRed: 0
- LuminanceAdjustmentYellow: 0
- LuminanceSmoothing: 0
- ParametricDarks: 0
- ParametricHighlightSplit: 75
- ParametricHighlights: 0
- ParametricLights: 0
- ParametricMidtoneSplit: 50
- ParametricShadowSplit: 25
- ParametricShadows: 0
- PerspectiveHorizontal: 0
- PerspectiveRotate: 0.0
- PerspectiveScale: 100
- PerspectiveVertical: 0
- PostCropVignetteAmount: 0
- ProcessVersion: 6.7
- RedHue: 0
- RedSaturation: 0
- Saturation: 0
- SaturationAdjustmentAqua: 0
- SaturationAdjustmentBlue: 0
- SaturationAdjustmentGreen: +62
- SaturationAdjustmentMagenta: 0
- SaturationAdjustmentOrange: 0
- SaturationAdjustmentPurple: 0
- SaturationAdjustmentRed: 0
- SaturationAdjustmentYellow: +62
- ShadowTint: 0
- Shadows2012: 0
- SharpenDetail: 25
- SharpenEdgeMasking: 0
- SharpenRadius: +1.0
- Sharpness: 25
- SplitToningBalance: 0
- SplitToningHighlightHue: 0
- SplitToningHighlightSaturation: 0
- SplitToningShadowHue: 0
- SplitToningShadowSaturation: 0
- Tint: -6
- ToneCurveName2012: Strong Contrast
- ToneCurvePV2012: 0, 0, 32, 16, 64, 50, 128, 128, 192, 202, 255, 255
- ToneCurvePV2012Blue: 0, 0, 255, 255
- ToneCurvePV2012Green: 0, 0, 255, 255
- ToneCurvePV2012Red: 0, 0, 255, 255
- Version: 7.3
- Vibrance: +34
- VignetteAmount: 0
- WhiteBalance: Custom
- Whites2012: -29
- XMP-dc
- XMP-xmp
- CreateDate: 2013:04:29 14:24:47.00
- ModifyDate: 2013:05:31 19:12:24+03:00
- XMP-xmpMM
- Просмотров: 130
- Рейтинг: голосов еще нет
- Отзывов: 0