- Раздел: Отдых, развлечения
- Дата съёмки: 07.06.2014 14:35
- Дата загрузки фото: 06.03.2021 21:11
- Оригинальная фотография: 720 x 1080 (476 Кб)
- Технические характеристики:
- Фотоаппарат: Nikon D90
- Выдержка: 0,0
- Гиперфокальное расстояние: inf m
- Диафрагма: 1,8
- Светочувствительность: 200, 200
- Фокусное расстояние: 35,0 mm (35 mm equivalent: 35,0 mm)
- Полный EXIF
- Composite
- Aperture: 1,8
- CircleOfConfusion: 0,020 mm
- DOF: inf (0,00 m - inf)
- FOV: 54,0 deg
- FocalLength35efl: 35,0 mm (35 mm equivalent: 35,0 mm)
- HyperfocalDistance: inf m
- LensID: AF-S DX Nikkor 35mm f/1.8G
- Megapixels: 0,778
- ScaleFactor35efl: 1,5
- ShutterSpeed: 0,0
- ExifIFD
- ApertureValue: 1,4
- BrightnessValue: 0
- ColorSpace: Uncalibrated
- CompressedBitsPerPixel: 0
- Contrast: Normal
- CreateDate: 2014:06:07 14:35:43
- DateTimeOriginal: 2014:06:07 14:35:43
- DigitalZoomRatio: 1
- ExifImageHeight: 1080
- ExifImageWidth: 720
- ExposureCompensation: 0
- ExposureIndex: 0
- ExposureMode: Manual
- ExposureProgram: Manual
- ExposureTime: 0,0
- FNumber: 1,8
- Flash: No Flash
- FocalLength: 35,0 mm
- FocalLengthIn35mmFormat: 52 mm
- GainControl: None
- ISO: 200, 200
- LightSource: Unknown
- MaxApertureValue: 1,4
- MeteringMode: Spot
- Saturation: Normal
- SceneCaptureType: Standard
- SceneType: Directly photographed
- SensingMethod: One-chip color area
- Sharpness: Normal
- ShutterSpeedValue: 1/256
- SubjectDistance: 3,76 m
- SubjectDistanceRange: Unknown
- WhiteBalance: Auto
- ICC-header
- IFD0
- Make: NIKON CORPORATION
- Model: NIKON D90
- ModifyDate: 2014:06:11 09:04:09
- Orientation: Horizontal (normal)
- PrimaryChromaticities: 0 0 0 0 0 0
- ReferenceBlackWhite: 0 0 0 0 0 0
- WhitePoint: 0 0
- IFD1
- BitsPerSample: 8 8 8
- ImageHeight: 160
- ImageWidth: 107
- JPEGProc: Baseline
- PhotometricInterpretation: YCbCr
- RowsPerStrip: 160
- SamplesPerPixel: 3
- StripByteCounts: 7296
- StripOffsets: 1725
- SubfileType: Full-resolution Image
- IPTC
- DateCreated: 2014:06:07
- System
- XMP-aux
- ApproximateFocusDistance: 3,76
- ImageNumber: 17813
- Lens: 35.0 mm f/1.8
- LensID: 159
- LensInfo: 35mm f/1.8
- SerialNumber: 6909701
- XMP-crs
- AlreadyApplied: True
- AutoLateralCA: 0
- Blacks2012: 0
- BlueHue: 0
- BlueSaturation: 0
- Brightness: +46
- Clarity: +43
- Clarity2012: 0
- ColorNoiseReduction: 25
- ColorNoiseReductionDetail: 50
- ColorTemperature: 5450
- Contrast: +40
- Contrast2012: 0
- ConvertToGrayscale: False
- CropAngle: 4.869942
- CropBottom: 0.997433
- CropConstrainToWarp: 1
- CropHeight: 3
- CropLeft: 0.090424
- CropRight: 0.919824
- CropTop: 0.001987
- CropUnit: Unknown (3)
- CropWidth: 2
- Defringe: 0
- Exposure: 0.00
- Exposure2012: 0.00
- FillLight: 39
- GrainAmount: 0
- GreenHue: 0
- GreenSaturation: 0
- HasCrop: True
- HasSettings: True
- HighlightRecovery: 31
- Highlights2012: 0
- HueAdjustmentAqua: 0
- HueAdjustmentBlue: 0
- HueAdjustmentGreen: 0
- HueAdjustmentMagenta: 0
- HueAdjustmentOrange: 0
- HueAdjustmentPurple: 0
- HueAdjustmentRed: 0
- HueAdjustmentYellow: 0
- LensManualDistortionAmount: 0
- LensProfileChromaticAberrationScale: 100
- LensProfileDistortionScale: 100
- LensProfileEnable: 1
- LensProfileFilename: NIKON CORPORATION (Sigma_10-20mm_F4-5.6_EX_DC_HSM ) - RAW.lcp
- LensProfileSetup: Custom
- LensProfileVignettingScale: 100
- LuminanceAdjustmentAqua: 0
- LuminanceAdjustmentBlue: 0
- LuminanceAdjustmentGreen: 0
- LuminanceAdjustmentMagenta: 0
- LuminanceAdjustmentOrange: 0
- LuminanceAdjustmentPurple: 0
- LuminanceAdjustmentRed: 0
- LuminanceAdjustmentYellow: 0
- LuminanceSmoothing: 0
- ParametricDarks: +6
- ParametricHighlightSplit: 75
- ParametricHighlights: +63
- ParametricLights: +17
- ParametricMidtoneSplit: 50
- ParametricShadowSplit: 25
- ParametricShadows: -59
- PerspectiveHorizontal: 0
- PerspectiveRotate: 0.0
- PerspectiveScale: 100
- PerspectiveVertical: 0
- PostCropVignetteAmount: -59
- PostCropVignetteFeather: 51
- PostCropVignetteHighlightContrast: 0
- PostCropVignetteMidpoint: 49
- PostCropVignetteRoundness: -2
- PostCropVignetteStyle: 1
- ProcessVersion: 5.7
- RawFileName: DSC_0332.NEF
- RedHue: 0
- RedSaturation: 0
- Saturation: +20
- SaturationAdjustmentAqua: 0
- SaturationAdjustmentBlue: 0
- SaturationAdjustmentGreen: 0
- SaturationAdjustmentMagenta: 0
- SaturationAdjustmentOrange: 0
- SaturationAdjustmentPurple: 0
- SaturationAdjustmentRed: 0
- SaturationAdjustmentYellow: 0
- ShadowTint: 0
- Shadows: 11
- Shadows2012: 0
- SharpenDetail: 25
- SharpenEdgeMasking: 0
- SharpenRadius: +1.0
- Sharpness: 25
- SplitToningBalance: -34
- SplitToningHighlightHue: 219
- SplitToningHighlightSaturation: 43
- SplitToningShadowHue: 54
- SplitToningShadowSaturation: 36
- Tint: -2
- ToneCurve: 0, 0, 32, 22, 64, 56, 128, 128, 192, 196, 255, 255
- ToneCurveBlue: 0, 0, 255, 255
- ToneCurveGreen: 0, 0, 255, 255
- ToneCurveName: Medium Contrast
- ToneCurveName2012: Linear
- ToneCurvePV2012: 0, 0, 255, 255
- ToneCurvePV2012Blue: 0, 0, 255, 255
- ToneCurvePV2012Green: 0, 0, 255, 255
- ToneCurvePV2012Red: 0, 0, 255, 255
- ToneCurveRed: 0, 0, 255, 255
- Version: 6.7
- Vibrance: +11
- VignetteAmount: 0
- WhiteBalance: Custom
- Whites2012: 0
- XMP-dc
- XMP-xmp
- CreateDate: 2014:06:07 14:35:43.00
- CreatorTool: Ver.1.00
- ModifyDate: 2014:06:11 09:04:09+04:00
- Rating: 0
- XMP-xmpMM
- Просмотров: 667
- Рейтинг: голосов еще нет
- Отзывов: 0