- Раздел: Другое, разное
- Дата съёмки: неизвестно
- Дата загрузки фото: 23.04.2021 04:51
- Оригинальная фотография: 1483 x 988 (693 Кб)
- Технические характеристики:
- Фотоаппарат: Canon EOS 5D Mark II
- Выдержка: 0,0
- Гиперфокальное расстояние: inf m
- Диафрагма: 6,3
- Светочувствительность: 400
- Фокусное расстояние: 105,0 mm
- Полный EXIF
- Adobe
- ColorTransform: YCbCr
- Composite
- Aperture: 6,3
- CircleOfConfusion: 0,031 mm
- Flash: Off, Did not fire
- FocalLength35efl: 105,0 mm
- HyperfocalDistance: inf m
- LensID: Canon EF 24-105mm f/4L IS
- Megapixels: 1,5
- ScaleFactor35efl: 1,0
- ShutterSpeed: 0,0
- ExifIFD
- ApertureValue: 5,7
- CreateDate: 2016:05:27 10:49:58
- CustomRendered: Normal
- DateTimeOriginal: 2016:05:27 10:49:58
- ExposureCompensation: 0
- ExposureMode: Manual
- ExposureProgram: Manual
- ExposureTime: 0,0
- FNumber: 6,3
- FocalLength: 105,0 mm
- ISO: 400
- MaxApertureValue: 4,0
- MeteringMode: Multi-segment
- SceneCaptureType: Standard
- ShutterSpeedValue: 1/64
- SubjectDistance: 0,53 m
- WhiteBalance: Manual
- ICC-header
- ICC-meas
- ICC-view
- IFD0
- Make: Canon
- Model: Canon EOS 5D Mark II
- ModifyDate: 2016:05:27 10:18:03
- IFD1
- System
- XMP-aux
- Firmware: 2.0.9
- FlashCompensation: 0
- ImageNumber: 0
- Lens: EF24-105mm f/4L IS USM
- LensID: 237
- LensInfo: 24-105mm f/?
- SerialNumber: 3761700146
- XMP-crs
- AlreadyApplied: True
- BlueHue: 0
- BlueSaturation: 0
- Brightness: +50
- CameraProfile: Matrix
- ChromaticAberrationB: 0
- ChromaticAberrationR: 0
- Clarity: 0
- ColorNoiseReduction: 25
- ColorNoiseReductionDetail: 50
- ColorTemperature: 4650
- Contrast: +31
- ConvertToGrayscale: False
- CropAngle: 0
- CropBottom: 0.742938
- CropHeight: 3
- CropLeft: 0.259887
- CropRight: 0.742534
- CropTop: 0.260291
- CropUnit: Unknown (3)
- CropWidth: 2
- Defringe: 0
- Exposure: +0.20
- FillLight: 0
- GrainAmount: 0
- GreenHue: 0
- GreenSaturation: 0
- HasCrop: True
- HasSettings: True
- HighlightRecovery: 0
- HueAdjustmentAqua: 0
- HueAdjustmentBlue: 0
- HueAdjustmentGreen: 0
- HueAdjustmentMagenta: 0
- HueAdjustmentOrange: 0
- HueAdjustmentPurple: 0
- HueAdjustmentRed: 0
- HueAdjustmentYellow: 0
- LuminanceAdjustmentAqua: 0
- LuminanceAdjustmentBlue: 0
- LuminanceAdjustmentGreen: 0
- LuminanceAdjustmentMagenta: +42
- LuminanceAdjustmentOrange: 0
- LuminanceAdjustmentPurple: +38
- LuminanceAdjustmentRed: 0
- LuminanceAdjustmentYellow: 0
- LuminanceSmoothing: 0
- ParametricDarks: +16
- ParametricHighlightSplit: 75
- ParametricHighlights: +8
- ParametricLights: 0
- ParametricMidtoneSplit: 50
- ParametricShadowSplit: 25
- ParametricShadows: 0
- PostCropVignetteAmount: 0
- ProcessVersion: 5.7
- RawFileName: IMG_3878.CR2
- RedHue: 0
- RedSaturation: 0
- Saturation: +2
- SaturationAdjustmentAqua: 0
- SaturationAdjustmentBlue: 0
- SaturationAdjustmentGreen: 0
- SaturationAdjustmentMagenta: -100
- SaturationAdjustmentOrange: 0
- SaturationAdjustmentPurple: -100
- SaturationAdjustmentRed: +2
- SaturationAdjustmentYellow: 0
- ShadowTint: 0
- Shadows: 5
- SharpenDetail: 25
- SharpenEdgeMasking: 0
- SharpenRadius: +1.0
- Sharpness: 25
- SplitToningBalance: 0
- SplitToningHighlightHue: 0
- SplitToningHighlightSaturation: 0
- SplitToningShadowHue: 0
- SplitToningShadowSaturation: 0
- Tint: -9
- ToneCurve: 0, 0, 32, 22, 64, 56, 128, 128, 192, 196, 255, 255
- ToneCurveName: Medium Contrast
- Version: 6.0
- Vibrance: +2
- VignetteAmount: 0
- WhiteBalance: Custom
- XMP-exif
- ApertureValue: 6,3
- DateTimeDigitized: 2016:05:27 10:49:58.11+07:00
- DateTimeOriginal: 2016:05:27 10:49:58.11+07:00
- ExifImageHeight: 988
- ExifImageWidth: 1483
- ExposureTime: 1/100
- FlashFired: False
- FlashFunction: False
- FlashMode: Off
- FlashRedEyeMode: False
- FlashReturn: No return detection
- ShutterSpeedValue: 1/100
- XMP-tiff
- ImageHeight: 988
- ImageWidth: 1483
- XMP-xmp
- CreateDate: 2016:05:27 10:49:58.11+07:00
- ModifyDate: 2016:05:27 10:18:03+07:00
- Rating: 0
- Просмотров: 23
- Рейтинг: голосов еще нет
- Отзывов: отключены