- Раздел: Животные
- Дата съёмки: неизвестно
- Дата загрузки фото: 10.05.2021 09:07
- Оригинальная фотография: 2851 x 1901 (2,8 Мб)
- Технические характеристики:
- Фотоаппарат: Canon EOS 90D
- Выдержка: 0,0
- Гиперфокальное расстояние: inf m
- Диафрагма: 4,5
- Светочувствительность: 250
- Фокусное расстояние: 200,0 mm (35 mm equivalent: 600,0 mm)
- Полный EXIF
- Adobe
- ColorTransform: YCbCr
- Composite
- Aperture: 4,5
- CircleOfConfusion: 0,008 mm
- FOV: 3,0 deg
- FocalLength35efl: 200,0 mm (35 mm equivalent: 600,0 mm)
- GPSDateTime: 2021:05:07 08:40:33Z
- GPSLatitude: 53 deg 30' 15,00" N
- GPSLongitude: 78 deg 41' 39,00" E
- GPSPosition: 53 deg 30' 15,00" N, 78 deg 41' 39,00" E
- HyperfocalDistance: inf m
- LensID: Canon EF 135mm f/2L or Other Lens
- Megapixels: 5,4
- ScaleFactor35efl: 3,9
- ShutterSpeed: 0,0
- ExifIFD
- ApertureValue: 4,0
- ColorSpace: sRGB
- CreateDate: 2021:05:07 14:42:09
- CustomRendered: Normal
- DateTimeOriginal: 2021:05:07 14:42:09
- ExposureCompensation: 0
- ExposureMode: Auto
- ExposureProgram: Aperture-priority AE
- ExposureTime: 0,0
- FNumber: 4,5
- Flash: No Flash
- FocalLength: 200,0 mm
- ISO: 250
- LensInfo: 70-200mm f/?
- LensModel: 70.0-200.0 mm
- LensSerialNumber: 0000000000
- MaxApertureValue: 2,8
- MeteringMode: Multi-segment
- OwnerName: Oleg Kovalyov
- RecommendedExposureIndex: 250
- SceneCaptureType: Standard
- SensitivityType: Recommended Exposure Index
- SerialNumber: 173053007930
- ShutterSpeedValue: 1/512
- WhiteBalance: Auto
- GPS
- GPSDateStamp: 2021:05:07
- GPSLatitude: 53 deg 30' 15,00"
- GPSLatitudeRef: North
- GPSLongitude: 78 deg 41' 39,00"
- GPSLongitudeRef: East
- GPSMapDatum: WGS-84
- GPSStatus: Measurement Active
- GPSTimeStamp: 08:40:33
- GPSVersionID: 2.3.0.0
- ICC-header
- ICC-meas
- ICC-view
- IFD0
- Artist: Oleg Kovalyov
- Copyright: Don't use
- Make: Canon
- Model: Canon EOS 90D
- ModifyDate: 2021:05:08 14:46:41
- IFD1
- IPTC
- By-line: Oleg Kovalyov
- City: РђРєСЃСѓ
- CopyrightNotice: Don't use
- Country-PrimaryLocationCode: KZ
- Country-PrimaryLocationName: Казахстан
- DateCreated: 2021:05:07
- Keywords: Bird, Dacha
- Province-State: Павлодарская обл
- System
- XMP-aux
- ApproximateFocusDistance: 13,3
- DistortionCorrectionAlreadyApplied: True
- Firmware: 1.1.1
- FlashCompensation: 0
- ImageNumber: 0
- LateralChromaticAberrationCorrectionAlreadyApplied: True
- Lens: 70.0-200.0 mm
- LensID: 174
- VignetteCorrectionAlreadyApplied: True
- XMP-crs
- AlreadyApplied: True
- AutoLateralCA: 1
- Blacks2012: -47
- BlueHue: 0
- BlueSaturation: 0
- Clarity2012: +10
- ColorGradeBlending: 50
- ColorGradeGlobalHue: 0
- ColorGradeGlobalLum: 0
- ColorGradeGlobalSat: 0
- ColorGradeHighlightLum: 0
- ColorGradeMidtoneHue: 0
- ColorGradeMidtoneLum: 0
- ColorGradeMidtoneSat: 0
- ColorGradeShadowLum: 0
- ColorNoiseReduction: 25
- ColorNoiseReductionDetail: 50
- ColorNoiseReductionSmoothness: 50
- ColorTemperature: 5000
- Contrast2012: +7
- CropAngle: 0
- CropBottom: 0.74389
- CropConstrainToWarp: 0
- CropLeft: 0.302932
- CropRight: 0.712511
- CropTop: 0.334311
- DefringeGreenAmount: 0
- DefringeGreenHueHi: 60
- DefringeGreenHueLo: 40
- DefringePurpleAmount: 0
- DefringePurpleHueHi: 70
- DefringePurpleHueLo: 30
- Dehaze: 0
- Exposure2012: 0.00
- GrainAmount: 0
- GreenHue: 0
- GreenSaturation: 0
- HasCrop: True
- HasSettings: True
- Highlights2012: -100
- HueAdjustmentAqua: 0
- HueAdjustmentBlue: 0
- HueAdjustmentGreen: 0
- HueAdjustmentMagenta: 0
- HueAdjustmentOrange: 0
- HueAdjustmentPurple: 0
- HueAdjustmentRed: 0
- HueAdjustmentYellow: 0
- LensManualDistortionAmount: 0
- LensProfileDistortionScale: 100
- LensProfileEnable: 1
- LensProfileFilename: Canon (SIGMA APO 70-200mm F2.8 EX DG OS HSM) - RAW.lcp
- LensProfileIsEmbedded: False
- LensProfileSetup: LensDefaults
- LensProfileVignettingScale: 100
- LookAmount: 1.000000
- LookGroup: Profiles
- LookParametersConvertToGrayscale: False
- LookParametersLookTable: E1095149FDB39D7A057BAB208837E2E1
- LookParametersProcessVersion: 11.0
- LookParametersToneCurvePV2012: 0, 0, 22, 16, 40, 35, 127, 127, 224, 230, 240, 246, 255, 255
- LookParametersToneCurvePV2012Blue: 0, 0, 255, 255
- LookParametersToneCurvePV2012Green: 0, 0, 255, 255
- LookParametersToneCurvePV2012Red: 0, 0, 255, 255
- LookParametersVersion: 13.2
- LookSupportsAmount: false
- LookSupportsMonochrome: false
- LookSupportsOutputReferred: false
- LuminanceAdjustmentAqua: 0
- LuminanceAdjustmentBlue: 0
- LuminanceAdjustmentGreen: 0
- LuminanceAdjustmentMagenta: 0
- LuminanceAdjustmentOrange: 0
- LuminanceAdjustmentPurple: 0
- LuminanceAdjustmentRed: 0
- LuminanceAdjustmentYellow: 0
- LuminanceNoiseReductionContrast: 25
- LuminanceNoiseReductionDetail: 50
- LuminanceSmoothing: 20
- OverrideLookVignette: False
- ParametricDarks: 0
- ParametricHighlightSplit: 75
- ParametricHighlights: 0
- ParametricLights: 0
- ParametricMidtoneSplit: 50
- ParametricShadowSplit: 25
- ParametricShadows: 0
- PerspectiveAspect: 0
- PerspectiveHorizontal: 0
- PerspectiveRotate: 0.0
- PerspectiveScale: 100
- PerspectiveUpright: 0
- PerspectiveVertical: 0
- PerspectiveX: 0.00
- PerspectiveY: 0.00
- PostCropVignetteAmount: 0
- ProcessVersion: 11.0
- RawFileName: IMG_4470.CR3
- RedHue: 0
- RedSaturation: 0
- Saturation: +1
- SaturationAdjustmentAqua: 0
- SaturationAdjustmentBlue: 0
- SaturationAdjustmentGreen: 0
- SaturationAdjustmentMagenta: 0
- SaturationAdjustmentOrange: 0
- SaturationAdjustmentPurple: 0
- SaturationAdjustmentRed: 0
- SaturationAdjustmentYellow: 0
- ShadowTint: 0
- Shadows2012: +27
- SharpenDetail: 50
- SharpenEdgeMasking: 25
- SharpenRadius: +1.0
- Sharpness: 50
- SplitToningBalance: 0
- SplitToningHighlightHue: 0
- SplitToningHighlightSaturation: 0
- SplitToningShadowHue: 0
- SplitToningShadowSaturation: 0
- Texture: +20
- Tint: +30
- ToneCurveName2012: Linear
- ToneCurvePV2012: 0, 0, 255, 255
- ToneCurvePV2012Blue: 0, 0, 255, 255
- ToneCurvePV2012Green: 0, 0, 255, 255
- ToneCurvePV2012Red: 0, 0, 255, 255
- Version: 13.2
- Vibrance: +15
- VignetteAmount: 0
- WhiteBalance: As Shot
- Whites2012: +23
- XMP-dc
- Creator: Oleg Kovalyov
- Format: image/jpeg
- Rights: Don't use
- Subject: Bird, Dacha
- XMP-iptcCore
- XMP-xmp
- CreateDate: 2021:05:07 14:42:09.59+06:00
- Label: Готов
- ModifyDate: 2021:05:08 14:46:41+06:00
- XMP-xmpMM
- PreservedFileName: IMG_4470.CR3
- Просмотров: 74
- Рейтинг: голосов еще нет
- Отзывов: 0