- Раздел: Другое, разное
- Дата съёмки: неизвестно
- Дата загрузки фото: 05.09.2021 22:13
- Оригинальная фотография: 6000 x 4000 (9,6 Мб)
- Технические характеристики:
- Фотоаппарат: Sony ILCE-7C
- Выдержка: 0,0
- Гиперфокальное расстояние: inf m
- Диафрагма: 7,1
- Светочувствительность: 100
- Фокусное расстояние: 34,0 mm (35 mm equivalent: 34,0 mm)
- Полный EXIF
- Adobe
- ColorTransform: YCbCr
- Composite
- Aperture: 7,1
- CircleOfConfusion: 0,030 mm
- FOV: 55,0 deg
- FocalLength35efl: 34,0 mm (35 mm equivalent: 34,0 mm)
- HyperfocalDistance: inf m
- Megapixels: 24,0
- ScaleFactor35efl: 1,0
- ShutterSpeed: 0,0
- ExifIFD
- ApertureValue: 5,7
- BrightnessValue: 7,1109375
- ColorSpace: sRGB
- Contrast: Normal
- CreateDate: 2021:09:05 14:47:52
- CustomRendered: Normal
- DateTimeOriginal: 2021:09:05 14:47:52
- DigitalZoomRatio: 1
- ExposureCompensation: 0
- ExposureMode: Auto
- ExposureProgram: Aperture-priority AE
- ExposureTime: 0,0
- FNumber: 7,1
- Flash: Off, Did not fire
- FocalLength: 34,0 mm
- FocalLengthIn35mmFormat: 34 mm
- ISO: 100
- LensInfo: 28-60mm f/4-5.6
- LensModel: FE 28-60mm F4-5.6
- LightSource: Unknown
- MaxApertureValue: 4,0
- MeteringMode: Center-weighted average
- RecommendedExposureIndex: 100
- Saturation: Normal
- SceneCaptureType: Standard
- SceneType: Directly photographed
- SensitivityType: Recommended Exposure Index
- Sharpness: Normal
- ShutterSpeedValue: 1/32
- WhiteBalance: Auto
- ICC-header
- ICC-meas
- ICC-view
- IFD0
- Make: SONY
- Model: ILCE-7C
- ModifyDate: 2021:09:05 21:38:23
- IFD1
- IPTC
- DateCreated: 2021:09:05
- System
- XMP-aux
- DistortionCorrectionAlreadyApplied: True
- EnhanceDetailsAlreadyApplied: True
- EnhanceDetailsVersion: 218300416
- EnhanceSuperResolutionAlreadyApplied: True
- EnhanceSuperResolutionScale: 2
- EnhanceSuperResolutionVersion: 218103808
- Lens: FE 28-60mm F4-5.6
- LensDistortInfo: 33217/32768 -53187852/1073741824 16515343/1073741824 695899/1073741824
- VignetteCorrectionAlreadyApplied: True
- XMP-crs
- AlreadyApplied: True
- AutoLateralCA: 0
- AutoWhiteVersion: 134348800
- Blacks2012: -59
- BlueHue: +1
- BlueSaturation: -1
- Clarity2012: 0
- ColorGradeBlending: 100
- ColorGradeGlobalHue: 0
- ColorGradeGlobalLum: 0
- ColorGradeGlobalSat: 0
- ColorGradeHighlightLum: 0
- ColorGradeMidtoneHue: 0
- ColorGradeMidtoneLum: 0
- ColorGradeMidtoneSat: 0
- ColorGradeShadowLum: 0
- ColorNoiseReduction: 25
- ColorNoiseReductionDetail: 50
- ColorNoiseReductionSmoothness: 50
- ColorTemperature: 4850
- Contrast2012: -2
- CropAngle: 0
- CropBottom: 1
- CropConstrainToWarp: 0
- CropLeft: 0
- CropRight: 1
- CropTop: 0
- DefringeGreenAmount: 0
- DefringeGreenHueHi: 60
- DefringeGreenHueLo: 40
- DefringePurpleAmount: 0
- DefringePurpleHueHi: 70
- DefringePurpleHueLo: 30
- Dehaze: 0
- Exposure2012: +0.49
- GrainAmount: 0
- GreenHue: -2
- GreenSaturation: +2
- HasCrop: False
- HasSettings: True
- Highlights2012: -77
- HueAdjustmentAqua: 0
- HueAdjustmentBlue: -24
- HueAdjustmentGreen: +12
- HueAdjustmentMagenta: +20
- HueAdjustmentOrange: -5
- HueAdjustmentPurple: +3
- HueAdjustmentRed: +6
- HueAdjustmentYellow: -6
- LensManualDistortionAmount: 0
- LensProfileDistortionScale: 100
- LensProfileEnable: 1
- LensProfileFilename: SONY (Sony FE 28-60mm F4-5.6) - RAW.lcp
- LensProfileIsEmbedded: False
- LensProfileSetup: LensDefaults
- LensProfileVignettingScale: 100
- LookAmount: 1.000000
- LookGroup: Profiles
- LookParametersConvertToGrayscale: False
- LookParametersLookTable: E1095149FDB39D7A057BAB208837E2E1
- LookParametersProcessVersion: 11.0
- LookParametersToneCurvePV2012: 0, 0, 22, 16, 40, 35, 127, 127, 224, 230, 240, 246, 255, 255
- LookParametersToneCurvePV2012Blue: 0, 0, 255, 255
- LookParametersToneCurvePV2012Green: 0, 0, 255, 255
- LookParametersToneCurvePV2012Red: 0, 0, 255, 255
- LookParametersVersion: 13.3
- LookSupportsAmount: false
- LookSupportsMonochrome: false
- LookSupportsOutputReferred: false
- LuminanceAdjustmentAqua: 0
- LuminanceAdjustmentBlue: -10
- LuminanceAdjustmentGreen: 0
- LuminanceAdjustmentMagenta: 0
- LuminanceAdjustmentOrange: -10
- LuminanceAdjustmentPurple: 0
- LuminanceAdjustmentRed: -19
- LuminanceAdjustmentYellow: 0
- LuminanceSmoothing: 0
- OverrideLookVignette: False
- ParametricDarks: 0
- ParametricHighlightSplit: 90
- ParametricHighlights: 0
- ParametricLights: 0
- ParametricMidtoneSplit: 54
- ParametricShadowSplit: 10
- ParametricShadows: 0
- PerspectiveAspect: 0
- PerspectiveHorizontal: 0
- PerspectiveRotate: 0.0
- PerspectiveScale: 100
- PerspectiveUpright: 0
- PerspectiveVertical: 0
- PerspectiveX: 0.00
- PerspectiveY: 0.00
- PostCropVignetteAmount: 0
- ProcessVersion: 11.0
- RawFileName: DSC02848.ARW
- RedHue: -5
- RedSaturation: +6
- Saturation: +4
- SaturationAdjustmentAqua: -28
- SaturationAdjustmentBlue: -13
- SaturationAdjustmentGreen: -43
- SaturationAdjustmentMagenta: -39
- SaturationAdjustmentOrange: -36
- SaturationAdjustmentPurple: -35
- SaturationAdjustmentRed: -21
- SaturationAdjustmentYellow: -51
- ShadowTint: 0
- Shadows2012: 0
- SharpenDetail: 25
- SharpenEdgeMasking: 0
- SharpenRadius: +1.0
- Sharpness: 21
- SplitToningBalance: 0
- SplitToningHighlightHue: 200
- SplitToningHighlightSaturation: 10
- SplitToningShadowHue: 15
- SplitToningShadowSaturation: 12
- Texture: 0
- Tint: +30
- ToneCurveName2012: Custom
- ToneCurvePV2012: 0, 5, 27, 34, 95, 110, 174, 175, 219, 197, 255, 216
- ToneCurvePV2012Blue: 0, 0, 255, 255
- ToneCurvePV2012Green: 0, 0, 255, 255
- ToneCurvePV2012Red: 0, 0, 255, 255
- Version: 13.3
- Vibrance: 0
- VignetteAmount: 0
- Whites2012: +63
- XMP-dc
- XMP-exifEX
- XMP-xmp
- CreateDate: 2021:09:05 14:47:52.319+03:00
- ModifyDate: 2021:09:05 21:38:23+03:00
- XMP-xmpMM
- PreservedFileName: DSC02848.ARW