- Раздел: Другое, разное
- Дата съёмки: неизвестно
- Дата загрузки фото: 08.09.2021 18:58
- Оригинальная фотография: 3888 x 5184 (15,7 Мб)
- Технические характеристики:
- Фотоаппарат: Panasonic DC-G9
- Выдержка: 0,0
- Гиперфокальное расстояние: inf m
- Диафрагма: 4,5
- Светочувствительность: 100
- Фокусное расстояние: 27,0 mm (35 mm equivalent: 54,0 mm)
- Полный EXIF
- Adobe
- ColorTransform: YCbCr
- Composite
- Aperture: 4,5
- CircleOfConfusion: 0,015 mm
- FOV: 36,0 deg
- FocalLength35efl: 27,0 mm (35 mm equivalent: 54,0 mm)
- HyperfocalDistance: inf m
- Megapixels: 20,2
- ScaleFactor35efl: 2,0
- ShutterSpeed: 0,0
- ExifIFD
- ApertureValue: 4,0
- ColorSpace: sRGB
- Contrast: Low
- CreateDate: 2021:09:03 19:18:09
- CustomRendered: Custom
- DateTimeOriginal: 2021:09:03 19:18:09
- DigitalZoomRatio: 0
- ExposureCompensation: 0
- ExposureMode: Auto
- ExposureProgram: Aperture-priority AE
- ExposureTime: 0,0
- FNumber: 4,5
- Flash: Off, Did not fire
- FocalLength: 27,0 mm
- FocalLengthIn35mmFormat: 54 mm
- GainControl: None
- ISO: 100
- LensInfo: 12-35mm f/2.8
- LensModel: 12.0-35.0 mm f/2.8
- LensSerialNumber: 17041200019
- LightSource: Unknown
- MaxApertureValue: 2,8
- MeteringMode: Multi-segment
- Saturation: Low
- SceneCaptureType: Standard
- SceneType: Directly photographed
- SensingMethod: One-chip color area
- SensitivityType: Standard Output Sensitivity
- SerialNumber: XER1801080085
- Sharpness: Unknown (65533)
- ShutterSpeedValue: 1/256
- StandardOutputSensitivity: 100
- WhiteBalance: Auto
- ICC-header
- ICC-meas
- ICC-view
- IFD0
- Make: Panasonic
- Model: DC-G9
- ModifyDate: 2021:09:08 15:13:49
- IFD1
- IPTC
- DateCreated: 2021:09:03
- System
- XMP-DxO
- XMP-aux
- LateralChromaticAberrationCorrectionAlreadyApplied: True
- Lens: 12.0-35.0 mm f/2.8
- XMP-crs
- AlreadyApplied: True
- AutoLateralCA: 1
- Blacks2012: +88
- BlueHue: 0
- BlueSaturation: 0
- Clarity2012: +29
- ColorGradeBlending: 50
- ColorGradeGlobalHue: 0
- ColorGradeGlobalLum: 0
- ColorGradeGlobalSat: 0
- ColorGradeHighlightLum: 0
- ColorGradeMidtoneHue: 0
- ColorGradeMidtoneLum: 0
- ColorGradeMidtoneSat: 0
- ColorGradeShadowLum: 0
- ColorNoiseReduction: 25
- ColorNoiseReductionDetail: 50
- ColorNoiseReductionSmoothness: 50
- ColorTemperature: 5900
- Contrast2012: +8
- CropAngle: 0
- CropBottom: 1
- CropConstrainToWarp: 0
- CropLeft: 0
- CropRight: 1
- CropTop: 0
- DefringeGreenAmount: 0
- DefringeGreenHueHi: 60
- DefringeGreenHueLo: 40
- DefringePurpleAmount: 0
- DefringePurpleHueHi: 70
- DefringePurpleHueLo: 30
- Dehaze: +39
- Exposure2012: +0.15
- GradientBasedCorrActive: true
- GradientBasedCorrAmount: 1.000000
- GradientBasedCorrBrightness: 0.000000
- GradientBasedCorrClarity2012: 0.000000
- GradientBasedCorrContrast2012: 0.000000
- GradientBasedCorrCorrectionRangeMaskColorAmount: 0.500000
- GradientBasedCorrCorrectionRangeMaskDepthFeather: 0.500000
- GradientBasedCorrCorrectionRangeMaskDepthMax: 1.000000
- GradientBasedCorrCorrectionRangeMaskDepthMin: 0.000000
- GradientBasedCorrCorrectionRangeMaskLumFeather: 0.500000
- GradientBasedCorrCorrectionRangeMaskLumMax: 1.000000
- GradientBasedCorrCorrectionRangeMaskLumMin: 0.000000
- GradientBasedCorrCorrectionRangeMaskType: 0
- GradientBasedCorrCorrectionRangeMaskVersion: +2
- GradientBasedCorrDefringe: 0.000000
- GradientBasedCorrExposure2012: 0.000000
- GradientBasedCorrHighlights2012: 0.000000
- GradientBasedCorrHue: 240.000000
- GradientBasedCorrLocalBlacks2012: 0.050737
- GradientBasedCorrLocalDehaze: 0.059948
- GradientBasedCorrLocalHue: 0.000000
- GradientBasedCorrLocalTexture: 0.000000
- GradientBasedCorrLocalWhites2012: 0.000000
- GradientBasedCorrLuminanceNoise: 0.000000
- GradientBasedCorrMaskFullX: 0.011604
- GradientBasedCorrMaskFullY: 0.368370
- GradientBasedCorrMaskValue: 1.000000
- GradientBasedCorrMaskWhat: Mask/Gradient
- GradientBasedCorrMaskZeroX: 0.406507
- GradientBasedCorrMaskZeroY: 0.332490
- GradientBasedCorrMoire: 0.013110
- GradientBasedCorrSaturation: 0.000000
- GradientBasedCorrShadows2012: 0.216711
- GradientBasedCorrSharpness: 0.000000
- GradientBasedCorrTemperature: 0.206633
- GradientBasedCorrTint: 0.000000
- GradientBasedCorrWhat: Correction
- GrainAmount: 0
- GreenHue: 0
- GreenSaturation: 0
- HasCrop: False
- HasSettings: True
- Highlights2012: -45
- HueAdjustmentAqua: 0
- HueAdjustmentBlue: 0
- HueAdjustmentGreen: 0
- HueAdjustmentMagenta: 0
- HueAdjustmentOrange: 0
- HueAdjustmentPurple: 0
- HueAdjustmentRed: 0
- HueAdjustmentYellow: 0
- LensManualDistortionAmount: 0
- LensProfileEnable: 0
- LookAmount: 1.000000
- LookGroup: Profiles
- LookParametersConvertToGrayscale: False
- LookParametersLookTable: E1095149FDB39D7A057BAB208837E2E1
- LookParametersProcessVersion: 11.0
- LookParametersToneCurvePV2012: 0, 0, 22, 16, 40, 35, 127, 127, 224, 230, 240, 246, 255, 255
- LookParametersToneCurvePV2012Blue: 0, 0, 255, 255
- LookParametersToneCurvePV2012Green: 0, 0, 255, 255
- LookParametersToneCurvePV2012Red: 0, 0, 255, 255
- LookParametersVersion: 13.3
- LookSupportsAmount: false
- LookSupportsMonochrome: false
- LookSupportsOutputReferred: false
- LuminanceAdjustmentAqua: 0
- LuminanceAdjustmentBlue: +100
- LuminanceAdjustmentGreen: 0
- LuminanceAdjustmentMagenta: 0
- LuminanceAdjustmentOrange: 0
- LuminanceAdjustmentPurple: 0
- LuminanceAdjustmentRed: 0
- LuminanceAdjustmentYellow: 0
- LuminanceSmoothing: 0
- OverrideLookVignette: False
- ParametricDarks: +4
- ParametricHighlightSplit: 75
- ParametricHighlights: 0
- ParametricLights: 0
- ParametricMidtoneSplit: 50
- ParametricShadowSplit: 25
- ParametricShadows: -12
- PerspectiveAspect: 0
- PerspectiveHorizontal: 0
- PerspectiveRotate: 0.0
- PerspectiveScale: 100
- PerspectiveUpright: 0
- PerspectiveVertical: 0
- PerspectiveX: 0.00
- PerspectiveY: 0.00
- PostCropVignetteAmount: 0
- ProcessVersion: 11.0
- RawFileName:
- RedHue: 0
- RedSaturation: 0
- Saturation: 0
- SaturationAdjustmentAqua: 0
- SaturationAdjustmentBlue: +70
- SaturationAdjustmentGreen: 0
- SaturationAdjustmentMagenta: 0
- SaturationAdjustmentOrange: 0
- SaturationAdjustmentPurple: 0
- SaturationAdjustmentRed: 0
- SaturationAdjustmentYellow: 0
- ShadowTint: 0
- Shadows2012: +86
- Sharpness: 0
- SplitToningBalance: 0
- SplitToningHighlightHue: 0
- SplitToningHighlightSaturation: 0
- SplitToningShadowHue: 0
- SplitToningShadowSaturation: 0
- Texture: +2
- Tint: +10
- ToneCurveName2012: Linear
- ToneCurvePV2012: 0, 0, 255, 255
- ToneCurvePV2012Blue: 0, 0, 255, 255
- ToneCurvePV2012Green: 0, 0, 255, 255
- ToneCurvePV2012Red: 0, 0, 255, 255
- Version: 13.3
- Vibrance: +23
- VignetteAmount: 0
- WhiteBalance: Custom
- Whites2012: -93
- XMP-dc
- XMP-xmp
- CreateDate: 2021:09:03 19:18:09.064
- ModifyDate: 2021:09:08 15:13:49+03:00
- Rating: 1
- XMP-xmpMM
- PreservedFileName: P1634234.dng
- Просмотров: 100
- Рейтинг: голосов еще нет
- Отзывов: отключены