- Раздел: Город
- Дата съёмки: 25.11.2007 13:00
- Дата загрузки фото: 25.11.2007 13:10
- Оригинальная фотография: 800 x 533 (139 Кб)
- Технические характеристики:
- Фотоаппарат: Canon EOS 5D
- Выдержка: 1/80
- Гиперфокальное расстояние: 242,65 m
- Диафрагма: 4,0
- Светочувствительность: 1600
- Фокусное расстояние: 73,0mm (35mm эквивалент: 399,5mm)
- Полный EXIF
- Adobe
- ColorTransform: YCbCr
- Composite
- Aperture: 4,0
- CircleOfConfusion: 0,005 mm
- FocalLength35efl: 73,0mm (35mm equivalent: 399,5mm)
- HyperfocalDistance: 242,65 m
- LightValue: 6,3
- ScaleFactor35efl: 5,5
- ShutterSpeed: 1/80
- ExifIFD
- ApertureValue: 4,0
- ColorSpace: sRGB
- CreateDate: 2007:10:14 17:24:25
- CustomRendered: Normal
- DateTimeOriginal: 2007:10:14 17:24:25
- ExifImageLength: 533
- ExifImageWidth: 800
- ExposureCompensation: 0
- ExposureMode: Auto
- ExposureProgram: Aperture-priority AE
- ExposureTime: 1/80
- FNumber: 4,0
- Flash: Off
- FocalLength: 73,0mm
- ISO: 1600
- MaxApertureValue: 4,0
- MeteringMode: Multi-segment
- SceneCaptureType: Standard
- ShutterSpeedValue: 1/80
- WhiteBalance: Auto
- ICC-header
- ICC-meas
- ICC-view
- IFD0
- Make: Canon
- Model: Canon EOS 5D
- ModifyDate: 2007:11:25 13:00:43
- Orientation: Horizontal (normal)
- IFD1
- IPTC
- XMP-aux
- Firmware: 1.1.0
- FlashCompensation: 0
- ImageNumber: 52
- Lens: EF24-105mm f/4L IS USM
- LensInfo: 24/1 105/1 0/0 0/0
- SerialNumber: 1020707638
- XMP-crs
- AlreadyApplied: True
- BlueHue: 0
- BlueSaturation: 0
- Brightness: +70
- CameraProfile: ACR 3.6
- ChromaticAberrationB: 0
- ChromaticAberrationR: 0
- Clarity: 60
- ColorNoiseReduction: 44
- Contrast: -18
- ConvertToGrayscale: False
- Defringe: 0
- Exposure: +0.55
- FillLight: 67
- GreenHue: 0
- GreenSaturation: 0
- HasCrop: False
- HasSettings: True
- HighlightRecovery: 0
- HueAdjustmentAqua: 0
- HueAdjustmentBlue: 0
- HueAdjustmentGreen: 0
- HueAdjustmentMagenta: 0
- HueAdjustmentOrange: 0
- HueAdjustmentPurple: 0
- HueAdjustmentRed: 0
- HueAdjustmentYellow: 0
- LuminanceAdjustmentAqua: 0
- LuminanceAdjustmentBlue: 0
- LuminanceAdjustmentGreen: 0
- LuminanceAdjustmentMagenta: 0
- LuminanceAdjustmentOrange: 0
- LuminanceAdjustmentPurple: 0
- LuminanceAdjustmentRed: 0
- LuminanceAdjustmentYellow: 0
- LuminanceSmoothing: 30
- ParametricDarks: 0
- ParametricHighlightSplit: 75
- ParametricHighlights: 0
- ParametricLights: 0
- ParametricMidtoneSplit: 50
- ParametricShadowSplit: 25
- ParametricShadows: 0
- RawFileName: IMG_2715.CR2
- RedHue: 0
- RedSaturation: 0
- Saturation: -11
- SaturationAdjustmentAqua: 0
- SaturationAdjustmentBlue: 0
- SaturationAdjustmentGreen: 0
- SaturationAdjustmentMagenta: 0
- SaturationAdjustmentOrange: 0
- SaturationAdjustmentPurple: 0
- SaturationAdjustmentRed: 0
- SaturationAdjustmentYellow: 0
- ShadowTint: 0
- Shadows: 20
- SharpenDetail: 40
- SharpenEdgeMasking: 0
- SharpenRadius: +1.0
- Sharpness: 76
- SplitToningBalance: 0
- SplitToningHighlightHue: 0
- SplitToningHighlightSaturation: 0
- SplitToningShadowHue: 0
- SplitToningShadowSaturation: 0
- Temperature: 2850
- Tint: +3
- ToneCurve: 0, 0, 32, 22, 64, 56, 128, 128, 192, 196, 255, 255
- ToneCurveName: Medium Contrast
- Version: 4.3
- Vibrance: 0
- VignetteAmount: 0
- XMP-dc
- XMP-exif
- DateTimeDigitized: 2007:10:14 17:24:25+04:00
- DateTimeOriginal: 2007:10:14 17:24:25+04:00
- FlashFired: False
- FlashFunction: False
- FlashMode: Off
- FlashRedEyeMode: False
- FlashReturn: No return detection
- XMP-tiff
- ImageHeight: 2912
- ImageWidth: 4368
- XMP-xmp
- CreateDate: 2007:11:25 13:00:43+03:00
- ModifyDate: 2007:11:25 13:00:43+03:00
- XMP-xmpMM
- DerivedFrom:
- Просмотров: 256
- Рейтинг: голосов еще нет
- Отзывов: 0