- Раздел: Другое, разное
- Дата съёмки: 27.11.2007 00:48
- Дата загрузки фото: 27.11.2007 02:57
- Оригинальная фотография: 1976 x 2964 (455 Кб)
- Технические характеристики:
- Фотоаппарат: Canon EOS 40D
- Выдержка: 1/320
- Гиперфокальное расстояние: 1571,54 m
- Диафрагма: 1,8
- Светочувствительность: 400
- Фокусное расстояние: 200,0mm (35mm эквивалент: 425,0mm)
- Полный EXIF
- Adobe
- ColorTransform: YCbCr
- Composite
- Aperture: 1,8
- CircleOfConfusion: 0,014 mm
- FocalLength35efl: 200,0mm (35mm equivalent: 425,0mm)
- HyperfocalDistance: 1571,54 m
- LightValue: 8,0
- ScaleFactor35efl: 2,1
- ShutterSpeed: 1/320
- ExifIFD
- ApertureValue: 1,8
- ColorSpace: sRGB
- CreateDate: 2007:11:25 10:45:24
- CustomRendered: Normal
- DateTimeOriginal: 2007:11:25 10:45:24
- ExifImageLength: 2964
- ExifImageWidth: 1976
- ExposureCompensation: 0
- ExposureMode: Manual
- ExposureProgram: Manual
- ExposureTime: 1/320
- FNumber: 1,8
- Flash: Off
- FocalLength: 200,0mm
- ISO: 400
- MaxApertureValue: 1,8
- MeteringMode: Center-weighted average
- SceneCaptureType: Standard
- ShutterSpeedValue: 1/320
- WhiteBalance: Auto
- ICC-header
- ICC-meas
- ICC-view
- IFD0
- Artist: Oleksandr Usenko
- Make: Canon
- Model: Canon EOS 40D
- ModifyDate: 2007:11:27 00:48:09
- Orientation: Horizontal (normal)
- IFD1
- IPTC
- By-line: Oleksandr Usenko
- XMP-aux
- Firmware: 1.0.3
- FlashCompensation: 0
- ImageNumber: 0
- Lens: EF200mm f/1.8L USM
- LensInfo: 200/1 200/1 0/0 0/0
- OwnerName: Oleksandr Usenko
- SerialNumber: 630321905
- XMP-crs
- AlreadyApplied: True
- BlueHue: 0
- BlueSaturation: 0
- Brightness: +50
- CameraProfile: ACR 4.2
- ChromaticAberrationB: 0
- ChromaticAberrationR: 0
- Clarity: 28
- ColorNoiseReduction: 25
- Contrast: +25
- ConvertToGrayscale: False
- CropAngle: 0
- CropBottom: 1
- CropHeight: 3
- CropLeft: 0.237607
- CropRight: 1
- CropTop: 0.237607
- CropUnit: 3
- CropWidth: 2
- Defringe: 0
- Exposure: -0.20
- FillLight: 0
- GreenHue: 0
- GreenSaturation: 0
- HasCrop: True
- HasSettings: True
- HighlightRecovery: 0
- HueAdjustmentAqua: 0
- HueAdjustmentBlue: 0
- HueAdjustmentGreen: 0
- HueAdjustmentMagenta: 0
- HueAdjustmentOrange: 0
- HueAdjustmentPurple: 0
- HueAdjustmentRed: 0
- HueAdjustmentYellow: 0
- LuminanceAdjustmentAqua: 0
- LuminanceAdjustmentBlue: 0
- LuminanceAdjustmentGreen: 0
- LuminanceAdjustmentMagenta: 0
- LuminanceAdjustmentOrange: 0
- LuminanceAdjustmentPurple: 0
- LuminanceAdjustmentRed: 0
- LuminanceAdjustmentYellow: 0
- LuminanceSmoothing: 0
- ParametricDarks: 0
- ParametricHighlightSplit: 75
- ParametricHighlights: 0
- ParametricLights: 0
- ParametricMidtoneSplit: 50
- ParametricShadowSplit: 25
- ParametricShadows: 0
- RawFileName: IMG_0875.CR2
- RedHue: 0
- RedSaturation: 0
- Saturation: 0
- SaturationAdjustmentAqua: 0
- SaturationAdjustmentBlue: 0
- SaturationAdjustmentGreen: 0
- SaturationAdjustmentMagenta: 0
- SaturationAdjustmentOrange: 0
- SaturationAdjustmentPurple: 0
- SaturationAdjustmentRed: 0
- SaturationAdjustmentYellow: 0
- ShadowTint: 0
- Shadows: 5
- SharpenDetail: 25
- SharpenEdgeMasking: 0
- SharpenRadius: +1.0
- Sharpness: 25
- SplitToningBalance: 0
- SplitToningHighlightHue: 0
- SplitToningHighlightSaturation: 0
- SplitToningShadowHue: 0
- SplitToningShadowSaturation: 0
- Temperature: 4100
- Tint: +19
- ToneCurve: 0, 0, 32, 22, 64, 56, 128, 128, 192, 196, 255, 255
- ToneCurveName: Medium Contrast
- Version: 4.3
- Vibrance: +23
- VignetteAmount: 0
- WhiteBalance: As Shot
- XMP-dc
- Creator: Oleksandr Usenko
- Format: image/jpeg
- XMP-exif
- DateTimeDigitized: 2007:11:25 10:45:24.47+01:00
- DateTimeOriginal: 2007:11:25 10:45:24.47+01:00
- FlashFired: False
- FlashFunction: False
- FlashMode: Off
- FlashRedEyeMode: False
- FlashReturn: No return detection
- XMP-tiff
- XMP-xmp
- CreateDate: 2007:11:27 00:48:09+01:00
- ModifyDate: 2007:11:27 00:48:09+01:00
- Rating: 0
- XMP-xmpMM
- DerivedFrom:
- Просмотров: 2485
- Рейтинг: голосов еще нет
- Отзывов: 0