- Раздел: Другое, разное
- Дата съёмки: 29.09.2015 17:15
- Дата загрузки фото: 24.08.2022 22:38
- Оригинальная фотография: 4272 x 2856 (10,1 Мб)
- Технические характеристики:
- Фотоаппарат: LEICA CAMERA AG LEICA X1
- Выдержка: 0,0
- Гиперфокальное расстояние: inf m
- Диафрагма: 2,8
- Светочувствительность: 1600
- Фокусное расстояние: 24,0 mm (35 mm equivalent: 24,0 mm)
- Полный EXIF
- Adobe
- ColorTransform: YCbCr
- Composite
- Aperture: 2,8
- CircleOfConfusion: 0,020 mm
- FOV: 73,0 deg
- FocalLength35efl: 24,0 mm (35 mm equivalent: 24,0 mm)
- HyperfocalDistance: inf m
- Megapixels: 12,2
- ScaleFactor35efl: 1,5
- ShutterSpeed: 0,0
- ExifIFD
- ApertureValue: 2,0
- Contrast: Normal
- CreateDate: 2015:09:29 17:15:41
- CustomRendered: Custom
- DateTimeOriginal: 2015:09:29 17:15:41
- DigitalZoomRatio: 1
- ExposureCompensation: 0
- ExposureProgram: Shutter speed priority AE
- ExposureTime: 0,0
- FNumber: 2,8
- Flash: Off, Did not fire
- FocalLength: 24,0 mm
- FocalLengthIn35mmFormat: 36 mm
- ISO: 1600
- LensInfo: 24mm f/2.8
- LensModel: 24.0 mm f/2.8
- LightSource: Unknown
- MaxApertureValue: 2,0
- MeteringMode: Multi-segment
- Saturation: Normal
- SceneCaptureType: Landscape
- SensingMethod: One-chip color area
- SerialNumber: 000003824310
- Sharpness: Normal
- ShutterSpeedValue: 1/32
- WhiteBalance: Auto
- ICC-header
- ICC-meas
- ICC-view
- IFD0
- Make: LEICA CAMERA AG
- Model: LEICA X1
- ModifyDate: 2015:11:09 18:07:52
- IFD1
- IPTC
- DateCreated: 2015:09:29
- System
- XMP-aux
- ApproximateFocusDistance: 2,33
- Lens: 24.0 mm f/2.8
- XMP-crs
- AlreadyApplied: True
- AutoLateralCA: 0
- AutoWhiteVersion: 134348800
- Blacks2012: +15
- BlueHue: 0
- BlueSaturation: +30
- CameraProfile: Fuji Fortia SP - L
- Clarity2012: 0
- ColorNoiseReduction: 25
- ColorNoiseReductionDetail: 50
- ColorNoiseReductionSmoothness: 50
- ColorTemperature: 4250
- Contrast2012: -25
- ConvertToGrayscale: False
- DefringeGreenAmount: 0
- DefringeGreenHueHi: 60
- DefringeGreenHueLo: 40
- DefringePurpleAmount: 0
- DefringePurpleHueHi: 70
- DefringePurpleHueLo: 30
- Dehaze: 0
- Exposure2012: 0.00
- GrainAmount: 0
- GreenHue: +10
- GreenSaturation: -10
- HasCrop: False
- HasSettings: True
- Highlights2012: -25
- HueAdjustmentAqua: 0
- HueAdjustmentBlue: +5
- HueAdjustmentGreen: +15
- HueAdjustmentMagenta: +15
- HueAdjustmentOrange: -12
- HueAdjustmentPurple: +20
- HueAdjustmentRed: +12
- HueAdjustmentYellow: -15
- LensManualDistortionAmount: 0
- LensProfileEnable: 0
- LensProfileSetup: LensDefaults
- LuminanceAdjustmentAqua: -15
- LuminanceAdjustmentBlue: -30
- LuminanceAdjustmentGreen: -25
- LuminanceAdjustmentMagenta: -15
- LuminanceAdjustmentOrange: -10
- LuminanceAdjustmentPurple: -5
- LuminanceAdjustmentRed: -20
- LuminanceAdjustmentYellow: 0
- LuminanceNoiseReductionContrast: 0
- LuminanceNoiseReductionDetail: 50
- LuminanceSmoothing: 37
- ParametricDarks: +11
- ParametricHighlightSplit: 75
- ParametricHighlights: +1
- ParametricLights: +39
- ParametricMidtoneSplit: 60
- ParametricShadowSplit: 14
- ParametricShadows: 0
- PerspectiveAspect: 0
- PerspectiveHorizontal: 0
- PerspectiveRotate: 0.0
- PerspectiveScale: 100
- PerspectiveUpright: 0
- PerspectiveVertical: 0
- PostCropVignetteAmount: 0
- ProcessVersion: 6.7
- RedHue: +10
- RedSaturation: +10
- Saturation: +5
- SaturationAdjustmentAqua: 0
- SaturationAdjustmentBlue: +10
- SaturationAdjustmentGreen: -10
- SaturationAdjustmentMagenta: -15
- SaturationAdjustmentOrange: -19
- SaturationAdjustmentPurple: 0
- SaturationAdjustmentRed: -34
- SaturationAdjustmentYellow: 0
- ShadowTint: -5
- Shadows2012: +30
- SharpenDetail: 25
- SharpenEdgeMasking: 0
- SharpenRadius: +1.2
- Sharpness: 22
- SplitToningBalance: 0
- SplitToningHighlightHue: 275
- SplitToningHighlightSaturation: 0
- SplitToningShadowHue: 0
- SplitToningShadowSaturation: 0
- Tint: +10
- ToneCurve: 0, 0, 255, 255
- ToneCurveBlue: 0, 0, 255, 255
- ToneCurveGreen: 0, 0, 255, 255
- ToneCurveName: Linear
- ToneCurveName2012: Fortia SP
- ToneCurvePV2012: 0, 0, 255, 255
- ToneCurvePV2012Blue: 0, 0, 37, 7, 56, 24, 105, 114, 171, 204, 255, 253
- ToneCurvePV2012Green: 0, 0, 37, 7, 55, 23, 104, 115, 171, 204, 255, 255
- ToneCurvePV2012Red: 0, 0, 37, 7, 56, 24, 103, 115, 171, 205, 255, 255
- ToneCurveRed: 0, 0, 255, 255
- ToneMapStrength: 0
- Version: 9.1.1
- Vibrance: +10
- VignetteAmount: 0
- WhiteBalance: As Shot
- Whites2012: 0
- XMP-dc
- XMP-xmp
- ModifyDate: 2015:11:09 18:07:52+03:00
- XMP-xmpMM
- Просмотров: 124
- Рейтинг: голосов еще нет
- Отзывов: 0