- Раздел: Другое, разное
- Дата съёмки: неизвестно
- Дата загрузки фото: 30.08.2022 22:50
- Оригинальная фотография: 3000 x 2000 (2,5 Мб)
- Технические характеристики:
- Фотоаппарат: Nikon D7200
- Выдержка: 13,0
- Гиперфокальное расстояние: inf m
- Диафрагма: 8,0
- Светочувствительность: 100
- Фокусное расстояние: 62,0 mm (35 mm equivalent: 62,0 mm)
- Полный EXIF
- Adobe
- ColorTransform: YCbCr
- Composite
- Aperture: 8,0
- CircleOfConfusion: 0,020 mm
- FOV: 32,0 deg
- FocalLength35efl: 62,0 mm (35 mm equivalent: 62,0 mm)
- HyperfocalDistance: inf m
- LensID: AF-S DX Nikkor 18-140mm f/3.5-5.6G ED VR
- LightValue: 2,3
- Megapixels: 6,0
- ScaleFactor35efl: 1,5
- ShutterSpeed: 13,0
- ExifIFD
- ApertureValue: 8,0
- CFAPattern: [Red,Green][Green,Blue]
- ColorSpace: sRGB
- Contrast: High
- CreateDate: 2022:07:09 23:49:58
- CustomRendered: Custom
- DateTimeOriginal: 2022:07:09 23:49:58
- DigitalZoomRatio: 1
- ExifImageHeight: 2000
- ExifImageWidth: 3000
- ExposureCompensation: 0
- ExposureMode: Auto
- ExposureProgram: Aperture-priority AE
- ExposureTime: 13,0
- FNumber: 8,0
- Flash: Off, Did not fire
- FocalLength: 62,0 mm
- FocalLengthIn35mmFormat: 93 mm
- GainControl: None
- ISO: 100
- LensInfo: 18-140mm f/3.5-5.6
- LensModel: 18.0-140.0 mm f/3.5-5.6
- LightSource: Unknown
- MaxApertureValue: 4,0
- MeteringMode: Center-weighted average
- Saturation: Normal
- SceneCaptureType: Standard
- SceneType: Directly photographed
- SensingMethod: One-chip color area
- SensitivityType: Recommended Exposure Index
- SerialNumber: 4412071
- Sharpness: Normal
- ShutterSpeedValue: 8,0
- SubjectDistanceRange: Unknown
- WhiteBalance: Auto
- ICC-header
- ICC-meas
- ICC-view
- IFD0
- Artist: KONRAD
- BitsPerSample: 8 8 8
- ImageHeight: 3368
- ImageWidth: 5748
- Make: NIKON CORPORATION
- Model: NIKON D7200
- ModifyDate: 2022:07:24 18:26:35
- Orientation: Horizontal (normal)
- PhotometricInterpretation: RGB
- SamplesPerPixel: 3
- IFD1
- IPTC
- By-line: KONRAD
- DateCreated: 2022:07:09
- System
- XMP-aux
- ApproximateFocusDistance: 4294967295
- DistortionCorrectionAlreadyApplied: True
- ImageNumber: 2073
- Lens: 18.0-140.0 mm f/3.5-5.6
- LensID: 160
- VignetteCorrectionAlreadyApplied: True
- XMP-crs
- AlreadyApplied: True
- AutoLateralCA: 0
- AutoWhiteVersion: 134348800
- Blacks2012: -3
- BlueHue: 0
- BlueSaturation: 0
- Clarity2012: +45
- ColorNoiseReduction: 25
- ColorNoiseReductionDetail: 50
- ColorNoiseReductionSmoothness: 50
- ColorTemperature: 4250
- Contrast2012: +13
- ConvertToGrayscale: False
- DefringeGreenAmount: 0
- DefringeGreenHueHi: 60
- DefringeGreenHueLo: 40
- DefringePurpleAmount: 0
- DefringePurpleHueHi: 70
- DefringePurpleHueLo: 30
- Dehaze: 0
- Exposure2012: +0.45
- GrainAmount: 0
- GreenHue: 0
- GreenSaturation: 0
- HasCrop: False
- HasSettings: True
- Highlights2012: -49
- HueAdjustmentAqua: 0
- HueAdjustmentBlue: 0
- HueAdjustmentGreen: 0
- HueAdjustmentMagenta: 0
- HueAdjustmentOrange: 0
- HueAdjustmentPurple: 0
- HueAdjustmentRed: 0
- HueAdjustmentYellow: 0
- LensManualDistortionAmount: 0
- LensProfileChromaticAberrationScale: 100
- LensProfileDistortionScale: 100
- LensProfileEnable: 1
- LensProfileFilename: NIKON D300 (Nikon AF-S DX NIKKOR 18-140mm f3.5-5.6G ED VR) - RAW.lcp
- LensProfileSetup: LensDefaults
- LensProfileVignettingScale: 100
- LuminanceAdjustmentAqua: 0
- LuminanceAdjustmentBlue: 0
- LuminanceAdjustmentGreen: 0
- LuminanceAdjustmentMagenta: 0
- LuminanceAdjustmentOrange: 0
- LuminanceAdjustmentPurple: 0
- LuminanceAdjustmentRed: 0
- LuminanceAdjustmentYellow: 0
- LuminanceSmoothing: 0
- ParametricDarks: 0
- ParametricHighlightSplit: 75
- ParametricHighlights: +15
- ParametricLights: -8
- ParametricMidtoneSplit: 50
- ParametricShadowSplit: 25
- ParametricShadows: 0
- PerspectiveAspect: 0
- PerspectiveHorizontal: 0
- PerspectiveRotate: 0.0
- PerspectiveScale: 100
- PerspectiveUpright: 0
- PerspectiveVertical: 0
- PostCropVignetteAmount: 0
- ProcessVersion: 6.7
- RawFileName: DSC_1838.NEF
- RedHue: 0
- RedSaturation: 0
- Saturation: 0
- SaturationAdjustmentAqua: 0
- SaturationAdjustmentBlue: 0
- SaturationAdjustmentGreen: 0
- SaturationAdjustmentMagenta: 0
- SaturationAdjustmentOrange: 0
- SaturationAdjustmentPurple: 0
- SaturationAdjustmentRed: 0
- SaturationAdjustmentYellow: 0
- ShadowTint: 0
- Shadows2012: +53
- SharpenDetail: 25
- SharpenEdgeMasking: 0
- SharpenRadius: +1.0
- Sharpness: 25
- SplitToningBalance: 0
- SplitToningHighlightHue: 0
- SplitToningHighlightSaturation: 0
- SplitToningShadowHue: 0
- SplitToningShadowSaturation: 0
- Tint: -6
- ToneCurve: 0, 0, 32, 22, 64, 56, 128, 128, 192, 196, 255, 255
- ToneCurveBlue: 0, 0, 255, 255
- ToneCurveGreen: 0, 0, 255, 255
- ToneCurveName: Medium Contrast
- ToneCurveName2012: Linear
- ToneCurvePV2012: 0, 0, 255, 255
- ToneCurvePV2012Blue: 0, 0, 255, 255
- ToneCurvePV2012Green: 0, 0, 255, 255
- ToneCurvePV2012Red: 0, 0, 255, 255
- ToneCurveRed: 0, 0, 255, 255
- ToneMapStrength: 0
- Version: 9.1.1
- Vibrance: +17
- VignetteAmount: 0
- WhiteBalance: As Shot
- Whites2012: 0
- XMP-dc
- Creator: KONRAD
- Format: image/jpeg
- XMP-xmp
- CreatorTool: ACDSee Ultimate 2019
- ModifyDate: 2022:07:24 18:26:35+03:00
- Rating: 0
- XMP-xmpMM
- Просмотров: 180
- Рейтинг: голосов еще нет
- Отзывов: 1