- Раздел: Путешествия
- Дата съёмки: 14.12.2007 13:40
- Дата загрузки фото: 14.12.2007 13:57
- Оригинальная фотография: 800 x 645 (227 Кб)
- Технические характеристики:
- Фотоаппарат: Nikon D80
- Выдержка: 1/320
- Гиперфокальное расстояние: 13,20 m
- Диафрагма: 8,0
- Светочувствительность: 100
- Фокусное расстояние: 46,0mm (35mm эквивалент: 69,0mm)
- Полный EXIF
- Adobe
- ColorTransform: YCbCr
- Composite
- Aperture: 8,0
- CircleOfConfusion: 0,020 mm
- FocalLength35efl: 46,0mm (35mm equivalent: 69,0mm)
- HyperfocalDistance: 13,20 m
- LightValue: 14,3
- ScaleFactor35efl: 1,5
- ShutterSpeed: 1/320
- ExifIFD
- ApertureValue: 8,0
- CFAPattern: [Green,Blue][Red,Green]
- ColorSpace: sRGB
- Contrast: Normal
- CreateDate: 2007:07:21 20:35:35
- CustomRendered: Normal
- DateTimeOriginal: 2007:07:21 20:35:35
- DigitalZoomRatio: 1
- ExifImageLength: 645
- ExifImageWidth: 800
- ExposureCompensation: 0
- ExposureMode: Auto
- ExposureProgram: Aperture-priority AE
- ExposureTime: 1/320
- FNumber: 8,0
- Flash: No Flash
- FocalLength: 46,0mm
- FocalLengthIn35mmFormat: 69mm
- GainControl: None
- ISO: 100
- LightSource: Unknown (0)
- MaxApertureValue: 4,6
- MeteringMode: Center-weighted average
- Saturation: Normal
- SceneCaptureType: Standard
- SceneType: Directly photographed
- SensingMethod: One-chip color area
- Sharpness: Normal
- ShutterSpeedValue: 1/320
- WhiteBalance: Auto
- ICC-header
- ICC-meas
- ICC-view
- IFD0
- Make: NIKON CORPORATION
- Model: NIKON D80
- ModifyDate: 2007:12:14 13:40:15
- Orientation: Horizontal (normal)
- IFD1
- IPTC
- XMP-aux
- ImageNumber: 8124
- Lens: 18.0-200.0 mm f/3.5-5.6
- LensInfo: 180/10 2000/10 35/10 56/10
- XMP-crs
- AlreadyApplied: True
- BlueHue: 0
- BlueSaturation: 0
- Brightness: +130
- CameraProfile: ACR 3.6
- ChromaticAberrationB: 0
- ChromaticAberrationR: 0
- Clarity: 68
- ColorNoiseReduction: 44
- Contrast: +4
- ConvertToGrayscale: False
- CropAngle: 0
- CropBottom: 1
- CropLeft: 0
- CropRight: 0.830579
- CropTop: 0
- Defringe: 0
- Exposure: -2.20
- FillLight: 71
- GreenHue: 0
- GreenSaturation: 0
- HasCrop: True
- HasSettings: True
- HighlightRecovery: 0
- HueAdjustmentAqua: 0
- HueAdjustmentBlue: 0
- HueAdjustmentGreen: 0
- HueAdjustmentMagenta: 0
- HueAdjustmentOrange: 0
- HueAdjustmentPurple: 0
- HueAdjustmentRed: 0
- HueAdjustmentYellow: 0
- LuminanceAdjustmentAqua: 0
- LuminanceAdjustmentBlue: 0
- LuminanceAdjustmentGreen: 0
- LuminanceAdjustmentMagenta: 0
- LuminanceAdjustmentOrange: 0
- LuminanceAdjustmentPurple: 0
- LuminanceAdjustmentRed: 0
- LuminanceAdjustmentYellow: 0
- LuminanceSmoothing: 30
- ParametricDarks: 0
- ParametricHighlightSplit: 75
- ParametricHighlights: 0
- ParametricLights: 0
- ParametricMidtoneSplit: 50
- ParametricShadowSplit: 25
- ParametricShadows: 0
- RawFileName: DSC_2462.NEF
- RedHue: 0
- RedSaturation: 0
- Saturation: +3
- SaturationAdjustmentAqua: 0
- SaturationAdjustmentBlue: 0
- SaturationAdjustmentGreen: 0
- SaturationAdjustmentMagenta: 0
- SaturationAdjustmentOrange: 0
- SaturationAdjustmentPurple: 0
- SaturationAdjustmentRed: 0
- SaturationAdjustmentYellow: 0
- ShadowTint: 0
- Shadows: 39
- SharpenDetail: 65
- SharpenEdgeMasking: 0
- SharpenRadius: +0.8
- Sharpness: 92
- SplitToningBalance: 0
- SplitToningHighlightHue: 0
- SplitToningHighlightSaturation: 0
- SplitToningShadowHue: 0
- SplitToningShadowSaturation: 0
- Temperature: 5500
- Tint: +10
- ToneCurve: 0, 0, 32, 22, 64, 56, 128, 128, 192, 196, 255, 255
- ToneCurveName: Medium Contrast
- Version: 4.3
- Vibrance: +10
- VignetteAmount: 0
- WhiteBalance: Daylight
- XMP-dc
- XMP-exif
- DateTimeDigitized: 2007:07:21 20:35:35.90+04:00
- DateTimeOriginal: 2007:07:21 20:35:35.90+04:00
- FlashFired: False
- FlashFunction: False
- FlashMode: Unknown
- FlashRedEyeMode: False
- FlashReturn: No return detection
- FocalLengthIn35mmFormat: 69
- SubjectDistanceRange: Unknown
- XMP-tiff
- ImageHeight: 2592
- ImageWidth: 3216
- XMP-xmp
- CreateDate: 2007:12:14 13:40:15+03:00
- ModifyDate: 2007:12:14 13:40:15+03:00
- XMP-xmpMM
- DerivedFrom:
- Просмотров: 202
- Рейтинг: голосов еще нет
- Отзывов: 0