- Раздел: Другое, разное
- Дата съёмки: неизвестно
- Дата загрузки фото: 17.06.2023 14:16
- Оригинальная фотография: 3993 x 2662 (4,3 Мб)
- Технические характеристики:
- Фотоаппарат: Kodak DCS Pro 14N
- Выдержка: 8,0
- Светочувствительность: 6
- Фокусное расстояние: 1,0 mm
- Полный EXIF
- Adobe
- ColorTransform: YCbCr
- Composite
- FocalLength35efl: 1,0 mm
- Megapixels: 10,6
- ShutterSpeed: 8,0
- ExifIFD
- ColorSpace: sRGB
- DateTimeOriginal: 2019:06:07 18:36:02
- ExposureCompensation: 0
- ExposureIndex: 6
- ExposureProgram: Manual
- ExposureTime: 8,0
- Flash: No Flash
- FocalLength: 1,0 mm
- ISO: 6
- LightSource: Unknown
- MaxApertureValue: 1,0
- MeteringMode: Multi-spot
- SensingMethod: One-chip color area
- SerialNumber: P14N-04080
- ShutterSpeedValue: 8,0
- ICC-header
- ICC-meas
- ICC-view
- IFD0
- Make: Kodak
- Model: DCS Pro 14N
- ModifyDate: 2023:06:16 16:01:50
- IFD1
- IPTC
- DateCreated: 2019:06:07
- System
- XMP-aux
- ImageNumber: 917
- XMP-crs
- AlreadyApplied: True
- AutoLateralCA: 0
- Blacks2012: 0
- BlueHue: 0
- BlueSaturation: 0
- CameraProfile: Embedded
- Clarity2012: 0
- ColorGradeBlending: 50
- ColorGradeGlobalHue: 0
- ColorGradeGlobalLum: 0
- ColorGradeGlobalSat: 0
- ColorGradeHighlightLum: 0
- ColorGradeMidtoneHue: 0
- ColorGradeMidtoneLum: 0
- ColorGradeMidtoneSat: 0
- ColorGradeShadowLum: 0
- ColorNoiseReduction: 0
- CompatibleVersion: 251658240
- Contrast2012: 0
- ConvertToGrayscale: False
- CropAngle: 0
- CropBottom: 1
- CropConstrainToWarp: 0
- CropLeft: 0
- CropRight: 1
- CropTop: 0
- DefringeGreenAmount: 0
- DefringeGreenHueHi: 60
- DefringeGreenHueLo: 40
- DefringePurpleAmount: 0
- DefringePurpleHueHi: 70
- DefringePurpleHueLo: 30
- Dehaze: 0
- Exposure2012: 0.00
- GrainAmount: 0
- GreenHue: 0
- GreenSaturation: 0
- HDREditMode: 0
- HasCrop: False
- HasSettings: True
- Highlights2012: 0
- HueAdjustmentAqua: 0
- HueAdjustmentBlue: 0
- HueAdjustmentGreen: 0
- HueAdjustmentMagenta: 0
- HueAdjustmentOrange: 0
- HueAdjustmentPurple: 0
- HueAdjustmentRed: 0
- HueAdjustmentYellow: 0
- IncrementalTemperature: 0
- IncrementalTint: 0
- LensManualDistortionAmount: 0
- LensProfileEnable: 0
- LuminanceAdjustmentAqua: 0
- LuminanceAdjustmentBlue: 0
- LuminanceAdjustmentGreen: 0
- LuminanceAdjustmentMagenta: 0
- LuminanceAdjustmentOrange: 0
- LuminanceAdjustmentPurple: 0
- LuminanceAdjustmentRed: 0
- LuminanceAdjustmentYellow: 0
- LuminanceSmoothing: 0
- OverrideLookVignette: False
- ParametricDarks: 0
- ParametricHighlightSplit: 75
- ParametricHighlights: 0
- ParametricLights: 0
- ParametricMidtoneSplit: 50
- ParametricShadowSplit: 25
- ParametricShadows: 0
- PerspectiveAspect: 0
- PerspectiveHorizontal: 0
- PerspectiveRotate: 0.0
- PerspectiveScale: 100
- PerspectiveUpright: 0
- PerspectiveVertical: 0
- PerspectiveX: 0.00
- PerspectiveY: 0.00
- PostCropVignetteAmount: 0
- ProcessVersion: 11.0
- RangeMaskMapInfoRangeMaskMapInfoLabMax: 0.992020 0.544869 0.688045
- RangeMaskMapInfoRangeMaskMapInfoLabMin: 0.000275 0.379034 0.417227
- RangeMaskMapInfoRangeMaskMapInfoRGBMax: 0.916365 0.916884 0.916365
- RangeMaskMapInfoRangeMaskMapInfoRGBMin: 0.000015 0.000031 0.000015
- RawFileName: 150025878.jpg
- RedHue: 0
- RedSaturation: 0
- Saturation: 0
- SaturationAdjustmentAqua: 0
- SaturationAdjustmentBlue: 0
- SaturationAdjustmentGreen: 0
- SaturationAdjustmentMagenta: 0
- SaturationAdjustmentOrange: 0
- SaturationAdjustmentPurple: 0
- SaturationAdjustmentRed: 0
- SaturationAdjustmentYellow: 0
- ShadowTint: 0
- Shadows2012: 0
- Sharpness: 0
- SplitToningBalance: 0
- SplitToningHighlightHue: 0
- SplitToningHighlightSaturation: 0
- SplitToningShadowHue: 0
- SplitToningShadowSaturation: 0
- Texture: 0
- ToneCurveName2012: Linear
- ToneCurvePV2012: 0, 0, 255, 255
- ToneCurvePV2012Blue: 0, 0, 255, 255
- ToneCurvePV2012Green: 0, 0, 255, 255
- ToneCurvePV2012Red: 0, 0, 255, 255
- Version: 15.3.1
- Vibrance: 0
- VignetteAmount: 0
- WhiteBalance: As Shot
- Whites2012: 0
- XMP-dc
- XMP-xmp
- ModifyDate: 2023:06:16 16:01:50+03:00
- XMP-xmpMM
- Просмотров: 59
- Рейтинг: голосов еще нет
- Отзывов: отключены