- Раздел: Пейзаж
- Дата съёмки: 06.04.2008 23:42
- Дата загрузки фото: 06.04.2008 23:56
- Оригинальная фотография: 4218 x 2823 (2,1 Мб)
- Технические характеристики:
- Фотоаппарат: FujiFilm FinePix S5Pro
- Выдержка: 1/570
- Гиперфокальное расстояние: 6,29 m
- Диафрагма: 7,1
- Светочувствительность: 100
- Фокусное расстояние: 50,0mm (35mm эквивалент: 26,9mm)
- Полный EXIF
- Adobe
- ColorTransform: YCbCr
- Composite
- Aperture: 7,1
- CircleOfConfusion: 0,056 mm
- FocalLength35efl: 50,0mm (35mm equivalent: 26,9mm)
- HyperfocalDistance: 6,29 m
- LightValue: 14,8
- ScaleFactor35efl: 0,5
- ShutterSpeed: 1/570
- ExifIFD
- ApertureValue: 7,1
- BrightnessValue: 9,91
- ColorSpace: sRGB
- CreateDate: 2007:09:16 19:21:43
- DateTimeOriginal: 2007:09:16 19:21:43
- ExifImageLength: 2823
- ExifImageWidth: 4218
- ExposureCompensation: 0
- ExposureProgram: Aperture-priority AE
- ExposureTime: 1/570
- FNumber: 7,1
- Flash: Off
- FocalLength: 50,0mm
- ISO: 100
- LightSource: Unknown (0)
- MaxApertureValue: 2,8
- MeteringMode: Multi-segment
- SceneType: Directly photographed
- SensingMethod: One-chip color area
- ShutterSpeedValue: 2,3
- UserComment: (C)ANDREY I.KHODAK AIH3@PROGTECH.RU
- ICC-header
- ICC-meas
- ICC-view
- IFD0
- BitsPerSample: 16 16 16
- ImageHeight: 2823
- ImageWidth: 4218
- Make: FUJIFILM
- Model: FinePix S5Pro
- ModifyDate: 2008:04:06 23:42:28
- Orientation: Horizontal (normal)
- PhotometricInterpretation: RGB
- PlanarConfiguration: Chunky
- SamplesPerPixel: 3
- IFD1
- IPTC
- Country-PrimaryLocationCode:
- DateSent:
- Destination:
- ExpirationDate:
- ExpirationTime:
- FileFormat: No ObjectData
- FileVersion: 0
- LanguageIdentifier:
- OriginatingProgram:
- ProductID:
- ProgramVersion:
- ReleaseDate:
- ReleaseTime:
- ServiceIdentifier:
- TimeSent:
- XMP-aux
- Lens: 17.0-50.0 mm f/2.8
- LensInfo: 1700/100 5000/100 280/100 280/100
- XMP-crs
- AlreadyApplied: True
- BlueHue: -11
- BlueSaturation: +29
- Brightness: -49
- CameraProfile: ACR 4.1
- ChromaticAberrationB: 0
- ChromaticAberrationR: 0
- Clarity: 14
- ColorNoiseReduction: 0
- Contrast: +13
- ConvertToGrayscale: False
- CropAngle: 0.345151
- CropBottom: 1
- CropLeft: 0.006459
- CropRight: 0.993541
- CropTop: 0
- Defringe: 1
- Exposure: +0.05
- FillLight: 88
- GreenHue: +10
- GreenSaturation: +3
- HasCrop: True
- HasSettings: True
- HighlightRecovery: 100
- HueAdjustmentAqua: 0
- HueAdjustmentBlue: -2
- HueAdjustmentGreen: +7
- HueAdjustmentMagenta: 0
- HueAdjustmentOrange: 0
- HueAdjustmentPurple: 0
- HueAdjustmentRed: 0
- HueAdjustmentYellow: +7
- LuminanceAdjustmentAqua: 0
- LuminanceAdjustmentBlue: +2
- LuminanceAdjustmentGreen: -7
- LuminanceAdjustmentMagenta: 0
- LuminanceAdjustmentOrange: +12
- LuminanceAdjustmentPurple: 0
- LuminanceAdjustmentRed: +9
- LuminanceAdjustmentYellow: +17
- LuminanceSmoothing: 0
- ParametricDarks: 0
- ParametricHighlightSplit: 75
- ParametricHighlights: 0
- ParametricLights: 0
- ParametricMidtoneSplit: 50
- ParametricShadowSplit: 25
- ParametricShadows: 0
- RawFileName: _DSF1710.RAF
- RedHue: 0
- RedSaturation: +42
- Saturation: +3
- SaturationAdjustmentAqua: +5
- SaturationAdjustmentBlue: +3
- SaturationAdjustmentGreen: -7
- SaturationAdjustmentMagenta: 0
- SaturationAdjustmentOrange: +8
- SaturationAdjustmentPurple: 0
- SaturationAdjustmentRed: +8
- SaturationAdjustmentYellow: 0
- ShadowTint: +1
- Shadows: 4
- SharpenDetail: 25
- SharpenEdgeMasking: 0
- SharpenRadius: +0.7
- Sharpness: 25
- SplitToningBalance: +31
- SplitToningHighlightHue: 212
- SplitToningHighlightSaturation: 53
- SplitToningShadowHue: 57
- SplitToningShadowSaturation: 8
- Temperature: 4000
- Tint: -2
- ToneCurve: 0, 0, 29, 33, 63, 71, 127, 138, 192, 202, 255, 255
- ToneCurveName: Custom
- Version: 4.3.1
- Vibrance: 0
- VignetteAmount: 0
- WhiteBalance: Custom
- XMP-dc
- XMP-exif
- DateTimeDigitized: 2007:09:16 19:21:43+04:00
- DateTimeOriginal: 2007:09:16 19:21:43+04:00
- FlashFired: False
- FlashFunction: False
- FlashMode: Off
- FlashRedEyeMode: False
- FlashReturn: No return detection
- XMP-tiff
- BitsPerSample: 16, 16, 16
- XMP-xmp
- CreateDate: 2008:04:06 23:42:28+04:00
- ModifyDate: 2008:04:06 23:42:28+04:00
- Rating: 0
- XMP-xmpMM